Workbook

Sheet A propos
Q1: V1 15.09.2026
B209: Glossaire :
B210: BM : Bilan médicamenteux. Liste complète, exacte et datée des traitements du patient, établie par croisement des sources.
B211: CM : Conciliation médicamenteuse. Démarche de prévention et d'interception des erreurs médicamenteuses aux points de transition du parcours de soins (HAS, 2018).
B212: DCI : Dénomination Commune Internationale. Nom scientifique international d'une substance active, indépendant des noms commerciaux.
B213: DI : Divergence intentionnelle. Écart entre le bilan médicamenteux et l'ordonnance résultant d'une décision clinique volontaire du prescripteur.
B214: DNI : Divergence non intentionnelle. Écart non voulu (omission, erreur de transcription, discordance non documentée) à revoir avec le prescripteur.
B215: DP : Dossier Pharmaceutique. Historique des médicaments délivrés en officine, accessible via la carte Vitale.
B216: DMP : Dossier Médical Partagé. Carnet de santé numérique du patient regroupant ses données de santé.
B217: DPI : Dossier Patient Informatisé. Système d'information hospitalier centralisant le dossier du patient.
B218: EHPAD : Établissement d'Hébergement pour Personnes Âgées Dépendantes.
B219: FCT : Fiche de Conciliation des Traitements. Nom du support HAS pour la conciliation médicamenteuse à l'admission.
B220: HAS : Haute Autorité de Santé.
... B224: Statuts (AJ, AR, E, M, P, S) : Ajout, Arrêt, Équivalent, Modifié, Poursuivi, Suspendu. Devenir d'un médicament entre deux points de transition.

Sheet Bilan médicamenteux
A1: Nom : | H1: Personne à contacter : | S1: Tél. | X1: Patch : | AF1: =IF(TRIM(AC1)="Oui","Merci de remplir le tableau inférieur","") | AN1: Nom : | AO1: =IF(B1="","",B1) | AU1: Personne à contacter : | BA1: =IF(N1="","",N1) | BF1: Tél. | BG1: =IF(T1="","",T1) | BK1: Patch : | BP1: =IF(AC1="","",AC1) | BS1: =IF(AF1="","",AF1)
A2: Prénom : | H2: Médecin traitant : | S2: Tél. | X2: Injections : | AF2: =IF(TRIM(AC2)="Oui","Merci de remplir le tableau inférieur","") | AN2: Prénom : | AO2: =IF(B2="","",B2) | AU2: Médecin traitant : | BA2: =IF(N2="","",N2) | BF2: Tél. | BG2: =IF(T2="","",T2) | BK2: Injections : | BP2: =IF(AC2="","",AC2) | BS2: =IF(AF2="","",AF2)
A3: IPP : | H3: Pharmacie d'officine : | S3: Tél. | X3: Automédication : | AF3: =IF(TRIM(AC3)="Oui","Merci de remplir le tableau inférieur","") | AN3: IPP : | AO3: =IF(B3="","",B3) | AU3: Pharmacie d'officine : | BA3: =IF(N3="","",N3) | BF3: Tél. | BG3: =IF(T3="","",T3) | BK3: Automédication : | BP3: =IF(AC3="","",AC3) | BS3: =IF(AF3="","",AF3)
A4: Genre : | H4: Infirmier à domicile : | S4: Tél. | X4: Crèmes/pommades : | AF4: =IF(TRIM(AC4)="Oui","Merci de remplir le tableau inférieur","") | AN4: Sexe : | AO4: =IF(B4="","",B4) | AU4: Infirmier à domicile : | BA4: =IF(N4="","",N4) | BF4: Tél. | BG4: =IF(T4="","",T4) | BK4: Crèmes/pommades : | BP4: =IF(AC4="","",AC4) | BS4: =IF(AF4="","",AF4)
A5: Date naissance : | H5: Autre établissement / EHPAD: | S5: Tél. | X5: Collyres (œil D/G) : | AF5: =IF(TRIM(AC5)="Oui","Merci de remplir le tableau inférieur","") | AN5: Date naissance : | AO5: =IF(B5="","",B5) | AU5: Autre établissement / EHPAD: | BA5: =IF(N5="","",N5) | BF5: Tél. | BG5: =IF(T5="","",T5) | BK5: Collyres (œil D/G) : | BP5: =IF(AC5="","",AC5) | BS5: =IF(AF5="","",AF5)
A6: Service : | H6: Motif d'hospitalisation : | X6: Allergies : | AF6: Lesquelles : | AN6: Service : | AO6: =IF(B6="","",B6) | AU6: Motif d'hospitalisation : | BK6: Allergies : | BP6: =IF(AC6="","",AC6) | BS6: Lesquelles : | BV6: =IF(AI6="","",AI6)
A7: N° chambre : | X7: Phytothérapies : | AF7: Lesquelles : | AN7: N° chambre : | AO7: =IF(B7="","",B7) | AU7: =IF(H7="","",H7) | BK7: Phytothérapies : | BP7: =IF(AC7="","",AC7) | BS7: Lesquelles : | BV7: =IF(AI7="","",AI7)
A8: Date d'admission : | H8: Antécédents : | X8: Jus de pamplemousse : | AN8: Date d'admission : | AO8: =IF(B8="","",B8) | AU8: Antécédents : | BK8: Jus de pamplemousse : | BP8: =IF(AC8="","",AC8)
A9: Date de BMO : | X9: Carte Vitale : | AF9: Dossier Pharmaceutique : | AN9: Date de BMO : | AO9: =IF(B9="","",B9) | AU9: =IF(H9="","",H9) | BK9: Carte Vitale : | BP9: =IF(AC9="","",AC9) | BS9: Dossier Pharmaceutique : | BY9: =IF(AL9="","",AL9)
A11: Information datée du | AG11: Médicament à reporter : choisir la source | AL11: Commentaire | AN11: Information datée du | BY11: Commentaire
A12: Sources d'information | AN12: Sources d'information
A13: Informations complémentaires sur la source | AN13: Informations complémentaires sur la source
A14: Médicament DCI (+/- nom commercial) & Forme & Dosage | C14: Voie | D14: Posologie | H14: Voie | I14: Posologie | M14: Voie | N14: Posologie | R14: Voie | S14: Posologie | W14: Voie | X14: Posologie | AB14: Voie | AC14: Posologie | AN14: Médicament DCI (+/- nom commercial) & Dosage | AP14: Voie | AQ14: Posologie | AU14: Voie | AV14: Posologie | AZ14: Voie | BA14: Posologie | BE14: Voie | BF14: Posologie | BJ14: Voie | BK14: Posologie | BO14: Voie | BP14: Posologie | BT14: Voie | BU14: Posologie
D15: M | E15: M | F15: S | G15: N | I15: M | J15: M | K15: S | L15: N | N15: M | O15: M | P15: S | Q15: N | S15: M | T15: M | U15: S | V15: N | X15: M | Y15: M | Z15: S | AA15: N | AC15: M | AD15: M | AE15: S | AF15: N | AQ15: M | AR15: M | AS15: S | AT15: N | AV15: M | AW15: M | AX15: S | AY15: N | BA15: M | BB15: M | BC15: S | BD15: N | BF15: M | BG15: M | BH15: S | BI15: N | BK15: M | BL15: M | BM15: S | BN15: N | BP15: M | BQ15: M | BR15: S | BS15: N | BU15: M | BV15: M | BW15: S | BX15: N
AM16: Ne pas inclure | AN16: =IF(A16="","",A16)
AM17: =IF(C12="","",C12) | AN17: =IF(A17="","",A17)
AM18: =IF(H12="","",H12) | AN18: =IF(A18="","",A18)
AM19: =IF(M12="","",M12) | AN19: =IF(A19="","",A19)
AM20: =IF(R12="","",R12) | AN20: =IF(A20="","",A20)
AM21: =IF(W12="","",W12) | AN21: =IF(A21="","",A21)
AM22: =IF(AB12="","",AB12) | AN22: =IF(A22="","",A22)
AM23: =IF(AP12="","",AP12) | AN23: =IF(A23="","",A23)
AM24: =IF(AU12="","",AU12) | AN24: =IF(A24="","",A24)
AM25: =IF(AZ12="","",AZ12) | AN25: =IF(A25="","",A25)
AM26: =IF(BE12="","",BE12) | AN26: =IF(A26="","",A26)
AM27: =IF(BJ12="","",BJ12) | AN27: =IF(A27="","",A27)
AM28: =IF(BO12="","",BO12) | AN28: =IF(A28="","",A28)
A29: Commentaires : | AB29: Nom & signature : | AM29: =IF(BT12="","",BT12) | AN29: Commentaires : | BO29: Nom & signature :
A30: Information datée du | C30: =IF(C11="","",C11) | H30: =IF(H11="","",H11) | M30: =IF(M11="","",M11) | R30: =IF(R11="","",R11) | W30: =IF(W11="","",W11) | AB30: =IF(AB11="","",AB11) | AG30: Médicament à reporter : choisir la source | AL30: Commentaire | AN30: Information datée du | AP30: =IF(AP11="","",AP11) | AU30: =IF(AU11="","",AU11) | AZ30: =IF(AZ11="","",AZ11) | BE30: =IF(BE11="","",BE11) | BJ30: =IF(BJ11="","",BJ11) | BO30: =IF(BO11="","",BO11) | BT30: =IF(BT11="","",BT11) | BY30: Commentaire
A31: Sources d'information | C31: =IF(C12="","",C12) | H31: =IF(H12="","",H12) | M31: =IF(M12="","",M12) | R31: =IF(R12="","",R12) | W31: =IF(W12="","",W12) | AB31: =IF(AB12="","",AB12) | AN31: Sources d'information | AP31: =IF(AP12="","",AP12) | AU31: =IF(AU12="","",AU12) | AZ31: =IF(AZ12="","",AZ12) | BE31: =IF(BE12="","",BE12) | BJ31: =IF(BJ12="","",BJ12) | BO31: =IF(BO12="","",BO12) | BT31: =IF(BT12="","",BT12)
A32: Informations complémentaires sur la source | C32: =IF(C13="","",C13) | H32: =IF(H13="","",H13) | M32: =IF(M13="","",M13) | R32: =IF(R13="","",R13) | W32: =IF(W13="","",W13) | AB32: =IF(AB13="","",AB13) | AN32: Informations complémentaires sur la source | AP32: =IF(AP13="","",AP13) | AU32: =IF(AU13="","",AU13) | AZ32: =IF(AZ13="","",AZ13) | BE32: =IF(BE13="","",BE13) | BJ32: =IF(BJ13="","",BJ13) | BO32: =IF(BO13="","",BO13) | BT32: =IF(BT13="","",BT13)
A33: Médicament DCI (+/- nom commercial) & Dosage | C33: Voie | D33: Posologie | H33: Voie | I33: Posologie | M33: Voie | N33: Posologie | R33: Voie | S33: Posologie | W33: Voie | X33: Posologie | AB33: Voie | AC33: Posologie | AN33: Médicament DCI (+/- nom commercial) & Dosage | AP33: Voie | AQ33: Posologie | AU33: Voie | AV33: Posologie | AZ33: Voie | BA33: Posologie | BE33: Voie | BF33: Posologie | BJ33: Voie | BK33: Posologie | BO33: Voie | BP33: Posologie | BT33: Voie | BU33: Posologie
D34: M | E34: M | F34: S | G34: N | I34: M | J34: M | K34: S | L34: N | N34: M | O34: M | P34: S | Q34: N | S34: M | T34: M | U34: S | V34: N | X34: M | Y34: M | Z34: S | AA34: N | AC34: M | AD34: M | AE34: S | AF34: N | AQ34: M | AR34: M | AS34: S | AT34: N | AV34: M | AW34: M | AX34: S | AY34: N | BA34: M | BB34: M | BC34: S | BD34: N | BF34: M | BG34: M | BH34: S | BI34: N | BK34: M | BL34: M | BM34: S | BN34: N | BP34: M | BQ34: M | BR34: S | BS34: N | BU34: M | BV34: M | BW34: S | BX34: N
AN35: =IF(A35="","",A35)
AN36: =IF(A36="","",A36)
AN37: =IF(A37="","",A37)
AN38: =IF(A38="","",A38)
AN39: =IF(A39="","",A39)
AN40: =IF(A40="","",A40)
AN41: =IF(A41="","",A41)
AN42: =IF(A42="","",A42)
AN43: =IF(A43="","",A43)
AN44: =IF(A44="","",A44)
AN45: =IF(A45="","",A45)
AN46: =IF(A46="","",A46)
... AN53: =IF(A53="","",A53)
A54: Commentaires : | AB54: Nom & signature : | AN54: Commentaires : | BO54: Nom & signature :

Sheet Fiche CM entrée proactive
A1: Nom : | B1: {=IF('Bilan médicamenteux'!B1:B1="","",'Bilan médicamenteux'!B1:B1)} | F1: Personne à contacter : | H1: {=IF('Bilan médicamenteux'!N1:N1="","",'Bilan médicamenteux'!N1:N1)} | I1: Tél. | J1: {=IF('Bilan médicamenteux'!T1:T1="","",'Bilan médicamenteux'!T1:T1)} | K1: Patch : | L1: {=IF('Bilan médicamenteux'!AC1:AC1="","",'Bilan médicamenteux'!AC1:AC1)} | M1: Lesquelles : | N1: =IF('Bilan médicamenteux'!AI1="","",'Bilan médicamenteux'!AI1)
A2: Prénom : | B2: {=IF('Bilan médicamenteux'!B2:B2="","",'Bilan médicamenteux'!B2:B2)} | F2: Médecin traitant : | H2: {=IF('Bilan médicamenteux'!N2:N2="","",'Bilan médicamenteux'!N2:N2)} | I2: Tél. | J2: {=IF('Bilan médicamenteux'!T2:T2="","",'Bilan médicamenteux'!T2:T2)} | K2: Injections : | L2: {=IF('Bilan médicamenteux'!AC2:AC2="","",'Bilan médicamenteux'!AC2:AC2)} | M2: Lesquelles : | N2: =IF('Bilan médicamenteux'!AI2="","",'Bilan médicamenteux'!AI2)
A3: IPP : | B3: {=IF('Bilan médicamenteux'!B3:B3="","",'Bilan médicamenteux'!B3:B3)} | F3: Pharmacie d'officine : | H3: {=IF('Bilan médicamenteux'!N3:N3="","",'Bilan médicamenteux'!N3:N3)} | I3: Tél. | J3: {=IF('Bilan médicamenteux'!T3:T3="","",'Bilan médicamenteux'!T3:T3)} | K3: Automédication : | L3: {=IF('Bilan médicamenteux'!AC3:AC3="","",'Bilan médicamenteux'!AC3:AC3)} | M3: Lesquelles : | N3: =IF('Bilan médicamenteux'!AI3="","",'Bilan médicamenteux'!AI3)
A4: Genre : | B4: {=IF('Bilan médicamenteux'!B4:B4="","",'Bilan médicamenteux'!B4:B4)} | F4: Infirmier à domicile : | H4: {=IF('Bilan médicamenteux'!N4:N4="","",'Bilan médicamenteux'!N4:N4)} | I4: Tél. | J4: {=IF('Bilan médicamenteux'!T4:T4="","",'Bilan médicamenteux'!T4:T4)} | K4: Crèmes/pommades : | L4: {=IF('Bilan médicamenteux'!AC4:AC4="","",'Bilan médicamenteux'!AC4:AC4)} | M4: Lesquelles : | N4: =IF('Bilan médicamenteux'!AI4="","",'Bilan médicamenteux'!AI4)
A5: Date naissance : | B5: {=IF('Bilan médicamenteux'!B5:B5="","",'Bilan médicamenteux'!B5:B5)} | F5: Autre établissement/EHPAD: | H5: {=IF('Bilan médicamenteux'!N5:N5="","",'Bilan médicamenteux'!N5:N5)} | I5: Tél. | J5: {=IF('Bilan médicamenteux'!T5:T5="","",'Bilan médicamenteux'!T5:T5)} | K5: Collyres (œil D/G) : | L5: {=IF('Bilan médicamenteux'!AC5:AC5="","",'Bilan médicamenteux'!AC5:AC5)} | M5: Lesquelles : | N5: =IF('Bilan médicamenteux'!AI5="","",'Bilan médicamenteux'!AI5)
A6: Service : | B6: {=IF('Bilan médicamenteux'!B6:B6="","",'Bilan médicamenteux'!B6:B6)} | K6: Allergies : | L6: {=IF('Bilan médicamenteux'!AC6:AC6="","",'Bilan médicamenteux'!AC6:AC6)} | M6: Lesquelles : | N6: =IF('Bilan médicamenteux'!AI6="","",'Bilan médicamenteux'!AI6)
A7: N° chambre : | B7: {=IF('Bilan médicamenteux'!B7:B7="","",'Bilan médicamenteux'!B7:B7)} | K7: Phytothérapies : | L7: {=IF('Bilan médicamenteux'!AC7:AC7="","",'Bilan médicamenteux'!AC7:AC7)} | M7: Lesquelles : | N7: =IF('Bilan médicamenteux'!AI7="","",'Bilan médicamenteux'!AI7)
A8: Date d'admission : | B8: {=IF('Bilan médicamenteux'!B8:B8="","",'Bilan médicamenteux'!B8:B8)} | F8: Carte Vitale : | H8: {=IF('Bilan médicamenteux'!AC9:AC9="","",'Bilan médicamenteux'!AC9:AC9)} | K8: Jus de pamplemousse : | L8: {=IF('Bilan médicamenteux'!AC8:AC8="","",'Bilan médicamenteux'!AC8:AC8)}
A9: Date de BMO : | B9: {=IF('Bilan médicamenteux'!B9:B9="","",'Bilan médicamenteux'!B9:B9)} | F9: Dossier Pharmaceutique : | H9: {=IF('Bilan médicamenteux'!AL9:AL9="","",'Bilan médicamenteux'!AL9:AL9)}
A11: Conciliation faite le : | B11: [à compléter] | K11: Processus de conciliation : | M11: Proactif
A13: Conciliation médicamenteuse | G13: Commentaires
A14: Médicament DCI (+/- nom commercial) & Forme & Dosage | B14: Voie | C14: Posologie
C15: M | D15: M | E15: S | F15: N
A16: =IF(OR('Bilan médicamenteux'!$AG16="",'Bilan médicamenteux'!$AG16="Ne pas inclure"),"",IF('Bilan médicamenteux'!$A16="","",'Bilan médicamenteux'!$A16)) | B16: =IFERROR(IF(INDEX('Bilan médicamenteux'!$C16:$AF16,MATCH('Bilan médicamenteux'!$AG16,'Bilan médicamenteux'!$C$12:$AF$12,0))="","",INDEX('Bilan médicamenteux'!$C16:$AF16,MATCH('Bilan médicamenteux'!$AG16,'Bilan médicamenteux'!$C$12:$AF$12,0))),"") | C16: =IFERROR(IF(INDEX('Bilan médicamenteux'!$C16:$AF16,MATCH('Bilan médicamenteux'!$AG16,'Bilan médicamenteux'!$C$12:$AF$12,0)+1)="","",INDEX('Bilan médicamenteux'!$C16:$AF16,MATCH('Bilan médicamenteux'!$AG16,'Bilan médicamenteux'!$C$12:$AF$12,0)+1)),"") | D16: =IFERROR(IF(INDEX('Bilan médicamenteux'!$C16:$AF16,MATCH('Bilan médicamenteux'!$AG16,'Bilan médicamenteux'!$C$12:$AF$12,0)+2)="","",INDEX('Bilan médicamenteux'!$C16:$AF16,MATCH('Bilan médicamenteux'!$AG16,'Bilan médicamenteux'!$C$12:$AF$12,0)+2)),"") | E16: =IFERROR(IF(INDEX('Bilan médicamenteux'!$C16:$AF16,MATCH('Bilan médicamenteux'!$AG16,'Bilan médicamenteux'!$C$12:$AF$12,0)+3)="","",INDEX('Bilan médicamenteux'!$C16:$AF16,MATCH('Bilan médicamenteux'!$AG16,'Bilan médicamenteux'!$C$12:$AF$12,0)+3)),"") | F16: =IFERROR(IF(INDEX('Bilan médicamenteux'!$C16:$AF16,MATCH('Bilan médicamenteux'!$AG16,'Bilan médicamenteux'!$C$12:$AF$12,0)+4)="","",INDEX('Bilan médicamenteux'!$C16:$AF16,MATCH('Bilan médicamenteux'!$AG16,'Bilan médicamenteux'!$C$12:$AF$12,0)+4)),"")
A17: =IF(OR('Bilan médicamenteux'!$AG17="",'Bilan médicamenteux'!$AG17="Ne pas inclure"),"",IF('Bilan médicamenteux'!$A17="","",'Bilan médicamenteux'!$A17)) | B17: =IFERROR(IF(INDEX('Bilan médicamenteux'!$C17:$AF17,MATCH('Bilan médicamenteux'!$AG17,'Bilan médicamenteux'!$C$12:$AF$12,0))="","",INDEX('Bilan médicamenteux'!$C17:$AF17,MATCH('Bilan médicamenteux'!$AG17,'Bilan médicamenteux'!$C$12:$AF$12,0))),"") | C17: =IFERROR(IF(INDEX('Bilan médicamenteux'!$C17:$AF17,MATCH('Bilan médicamenteux'!$AG17,'Bilan médicamenteux'!$C$12:$AF$12,0)+1)="","",INDEX('Bilan médicamenteux'!$C17:$AF17,MATCH('Bilan médicamenteux'!$AG17,'Bilan médicamenteux'!$C$12:$AF$12,0)+1)),"") | D17: =IFERROR(IF(INDEX('Bilan médicamenteux'!$C17:$AF17,MATCH('Bilan médicamenteux'!$AG17,'Bilan médicamenteux'!$C$12:$AF$12,0)+2)="","",INDEX('Bilan médicamenteux'!$C17:$AF17,MATCH('Bilan médicamenteux'!$AG17,'Bilan médicamenteux'!$C$12:$AF$12,0)+2)),"") | E17: =IFERROR(IF(INDEX('Bilan médicamenteux'!$C17:$AF17,MATCH('Bilan médicamenteux'!$AG17,'Bilan médicamenteux'!$C$12:$AF$12,0)+3)="","",INDEX('Bilan médicamenteux'!$C17:$AF17,MATCH('Bilan médicamenteux'!$AG17,'Bilan médicamenteux'!$C$12:$AF$12,0)+3)),"") | F17: =IFERROR(IF(INDEX('Bilan médicamenteux'!$C17:$AF17,MATCH('Bilan médicamenteux'!$AG17,'Bilan médicamenteux'!$C$12:$AF$12,0)+4)="","",INDEX('Bilan médicamenteux'!$C17:$AF17,MATCH('Bilan médicamenteux'!$AG17,'Bilan médicamenteux'!$C$12:$AF$12,0)+4)),"")
A18: =IF(OR('Bilan médicamenteux'!$AG18="",'Bilan médicamenteux'!$AG18="Ne pas inclure"),"",IF('Bilan médicamenteux'!$A18="","",'Bilan médicamenteux'!$A18)) | B18: =IFERROR(IF(INDEX('Bilan médicamenteux'!$C18:$AF18,MATCH('Bilan médicamenteux'!$AG18,'Bilan médicamenteux'!$C$12:$AF$12,0))="","",INDEX('Bilan médicamenteux'!$C18:$AF18,MATCH('Bilan médicamenteux'!$AG18,'Bilan médicamenteux'!$C$12:$AF$12,0))),"") | C18: =IFERROR(IF(INDEX('Bilan médicamenteux'!$C18:$AF18,MATCH('Bilan médicamenteux'!$AG18,'Bilan médicamenteux'!$C$12:$AF$12,0)+1)="","",INDEX('Bilan médicamenteux'!$C18:$AF18,MATCH('Bilan médicamenteux'!$AG18,'Bilan médicamenteux'!$C$12:$AF$12,0)+1)),"") | D18: =IFERROR(IF(INDEX('Bilan médicamenteux'!$C18:$AF18,MATCH('Bilan médicamenteux'!$AG18,'Bilan médicamenteux'!$C$12:$AF$12,0)+2)="","",INDEX('Bilan médicamenteux'!$C18:$AF18,MATCH('Bilan médicamenteux'!$AG18,'Bilan médicamenteux'!$C$12:$AF$12,0)+2)),"") | E18: =IFERROR(IF(INDEX('Bilan médicamenteux'!$C18:$AF18,MATCH('Bilan médicamenteux'!$AG18,'Bilan médicamenteux'!$C$12:$AF$12,0)+3)="","",INDEX('Bilan médicamenteux'!$C18:$AF18,MATCH('Bilan médicamenteux'!$AG18,'Bilan médicamenteux'!$C$12:$AF$12,0)+3)),"") | F18: =IFERROR(IF(INDEX('Bilan médicamenteux'!$C18:$AF18,MATCH('Bilan médicamenteux'!$AG18,'Bilan médicamenteux'!$C$12:$AF$12,0)+4)="","",INDEX('Bilan médicamenteux'!$C18:$AF18,MATCH('Bilan médicamenteux'!$AG18,'Bilan médicamenteux'!$C$12:$AF$12,0)+4)),"")
A19: =IF(OR('Bilan médicamenteux'!$AG19="",'Bilan médicamenteux'!$AG19="Ne pas inclure"),"",IF('Bilan médicamenteux'!$A19="","",'Bilan médicamenteux'!$A19)) | B19: =IFERROR(IF(INDEX('Bilan médicamenteux'!$C19:$AF19,MATCH('Bilan médicamenteux'!$AG19,'Bilan médicamenteux'!$C$12:$AF$12,0))="","",INDEX('Bilan médicamenteux'!$C19:$AF19,MATCH('Bilan médicamenteux'!$AG19,'Bilan médicamenteux'!$C$12:$AF$12,0))),"") | C19: =IFERROR(IF(INDEX('Bilan médicamenteux'!$C19:$AF19,MATCH('Bilan médicamenteux'!$AG19,'Bilan médicamenteux'!$C$12:$AF$12,0)+1)="","",INDEX('Bilan médicamenteux'!$C19:$AF19,MATCH('Bilan médicamenteux'!$AG19,'Bilan médicamenteux'!$C$12:$AF$12,0)+1)),"") | D19: =IFERROR(IF(INDEX('Bilan médicamenteux'!$C19:$AF19,MATCH('Bilan médicamenteux'!$AG19,'Bilan médicamenteux'!$C$12:$AF$12,0)+2)="","",INDEX('Bilan médicamenteux'!$C19:$AF19,MATCH('Bilan médicamenteux'!$AG19,'Bilan médicamenteux'!$C$12:$AF$12,0)+2)),"") | E19: =IFERROR(IF(INDEX('Bilan médicamenteux'!$C19:$AF19,MATCH('Bilan médicamenteux'!$AG19,'Bilan médicamenteux'!$C$12:$AF$12,0)+3)="","",INDEX('Bilan médicamenteux'!$C19:$AF19,MATCH('Bilan médicamenteux'!$AG19,'Bilan médicamenteux'!$C$12:$AF$12,0)+3)),"") | F19: =IFERROR(IF(INDEX('Bilan médicamenteux'!$C19:$AF19,MATCH('Bilan médicamenteux'!$AG19,'Bilan médicamenteux'!$C$12:$AF$12,0)+4)="","",INDEX('Bilan médicamenteux'!$C19:$AF19,MATCH('Bilan médicamenteux'!$AG19,'Bilan médicamenteux'!$C$12:$AF$12,0)+4)),"")
A20: =IF(OR('Bilan médicamenteux'!$AG20="",'Bilan médicamenteux'!$AG20="Ne pas inclure"),"",IF('Bilan médicamenteux'!$A20="","",'Bilan médicamenteux'!$A20)) | B20: =IFERROR(IF(INDEX('Bilan médicamenteux'!$C20:$AF20,MATCH('Bilan médicamenteux'!$AG20,'Bilan médicamenteux'!$C$12:$AF$12,0))="","",INDEX('Bilan médicamenteux'!$C20:$AF20,MATCH('Bilan médicamenteux'!$AG20,'Bilan médicamenteux'!$C$12:$AF$12,0))),"") | C20: =IFERROR(IF(INDEX('Bilan médicamenteux'!$C20:$AF20,MATCH('Bilan médicamenteux'!$AG20,'Bilan médicamenteux'!$C$12:$AF$12,0)+1)="","",INDEX('Bilan médicamenteux'!$C20:$AF20,MATCH('Bilan médicamenteux'!$AG20,'Bilan médicamenteux'!$C$12:$AF$12,0)+1)),"") | D20: =IFERROR(IF(INDEX('Bilan médicamenteux'!$C20:$AF20,MATCH('Bilan médicamenteux'!$AG20,'Bilan médicamenteux'!$C$12:$AF$12,0)+2)="","",INDEX('Bilan médicamenteux'!$C20:$AF20,MATCH('Bilan médicamenteux'!$AG20,'Bilan médicamenteux'!$C$12:$AF$12,0)+2)),"") | E20: =IFERROR(IF(INDEX('Bilan médicamenteux'!$C20:$AF20,MATCH('Bilan médicamenteux'!$AG20,'Bilan médicamenteux'!$C$12:$AF$12,0)+3)="","",INDEX('Bilan médicamenteux'!$C20:$AF20,MATCH('Bilan médicamenteux'!$AG20,'Bilan médicamenteux'!$C$12:$AF$12,0)+3)),"") | F20: =IFERROR(IF(INDEX('Bilan médicamenteux'!$C20:$AF20,MATCH('Bilan médicamenteux'!$AG20,'Bilan médicamenteux'!$C$12:$AF$12,0)+4)="","",INDEX('Bilan médicamenteux'!$C20:$AF20,MATCH('Bilan médicamenteux'!$AG20,'Bilan médicamenteux'!$C$12:$AF$12,0)+4)),"")
A21: =IF(OR('Bilan médicamenteux'!$AG21="",'Bilan médicamenteux'!$AG21="Ne pas inclure"),"",IF('Bilan médicamenteux'!$A21="","",'Bilan médicamenteux'!$A21)) | B21: =IFERROR(IF(INDEX('Bilan médicamenteux'!$C21:$AF21,MATCH('Bilan médicamenteux'!$AG21,'Bilan médicamenteux'!$C$12:$AF$12,0))="","",INDEX('Bilan médicamenteux'!$C21:$AF21,MATCH('Bilan médicamenteux'!$AG21,'Bilan médicamenteux'!$C$12:$AF$12,0))),"") | C21: =IFERROR(IF(INDEX('Bilan médicamenteux'!$C21:$AF21,MATCH('Bilan médicamenteux'!$AG21,'Bilan médicamenteux'!$C$12:$AF$12,0)+1)="","",INDEX('Bilan médicamenteux'!$C21:$AF21,MATCH('Bilan médicamenteux'!$AG21,'Bilan médicamenteux'!$C$12:$AF$12,0)+1)),"") | D21: =IFERROR(IF(INDEX('Bilan médicamenteux'!$C21:$AF21,MATCH('Bilan médicamenteux'!$AG21,'Bilan médicamenteux'!$C$12:$AF$12,0)+2)="","",INDEX('Bilan médicamenteux'!$C21:$AF21,MATCH('Bilan médicamenteux'!$AG21,'Bilan médicamenteux'!$C$12:$AF$12,0)+2)),"") | E21: =IFERROR(IF(INDEX('Bilan médicamenteux'!$C21:$AF21,MATCH('Bilan médicamenteux'!$AG21,'Bilan médicamenteux'!$C$12:$AF$12,0)+3)="","",INDEX('Bilan médicamenteux'!$C21:$AF21,MATCH('Bilan médicamenteux'!$AG21,'Bilan médicamenteux'!$C$12:$AF$12,0)+3)),"") | F21: =IFERROR(IF(INDEX('Bilan médicamenteux'!$C21:$AF21,MATCH('Bilan médicamenteux'!$AG21,'Bilan médicamenteux'!$C$12:$AF$12,0)+4)="","",INDEX('Bilan médicamenteux'!$C21:$AF21,MATCH('Bilan médicamenteux'!$AG21,'Bilan médicamenteux'!$C$12:$AF$12,0)+4)),"")
A22: =IF(OR('Bilan médicamenteux'!$AG22="",'Bilan médicamenteux'!$AG22="Ne pas inclure"),"",IF('Bilan médicamenteux'!$A22="","",'Bilan médicamenteux'!$A22)) | B22: =IFERROR(IF(INDEX('Bilan médicamenteux'!$C22:$AF22,MATCH('Bilan médicamenteux'!$AG22,'Bilan médicamenteux'!$C$12:$AF$12,0))="","",INDEX('Bilan médicamenteux'!$C22:$AF22,MATCH('Bilan médicamenteux'!$AG22,'Bilan médicamenteux'!$C$12:$AF$12,0))),"") | C22: =IFERROR(IF(INDEX('Bilan médicamenteux'!$C22:$AF22,MATCH('Bilan médicamenteux'!$AG22,'Bilan médicamenteux'!$C$12:$AF$12,0)+1)="","",INDEX('Bilan médicamenteux'!$C22:$AF22,MATCH('Bilan médicamenteux'!$AG22,'Bilan médicamenteux'!$C$12:$AF$12,0)+1)),"") | D22: =IFERROR(IF(INDEX('Bilan médicamenteux'!$C22:$AF22,MATCH('Bilan médicamenteux'!$AG22,'Bilan médicamenteux'!$C$12:$AF$12,0)+2)="","",INDEX('Bilan médicamenteux'!$C22:$AF22,MATCH('Bilan médicamenteux'!$AG22,'Bilan médicamenteux'!$C$12:$AF$12,0)+2)),"") | E22: =IFERROR(IF(INDEX('Bilan médicamenteux'!$C22:$AF22,MATCH('Bilan médicamenteux'!$AG22,'Bilan médicamenteux'!$C$12:$AF$12,0)+3)="","",INDEX('Bilan médicamenteux'!$C22:$AF22,MATCH('Bilan médicamenteux'!$AG22,'Bilan médicamenteux'!$C$12:$AF$12,0)+3)),"") | F22: =IFERROR(IF(INDEX('Bilan médicamenteux'!$C22:$AF22,MATCH('Bilan médicamenteux'!$AG22,'Bilan médicamenteux'!$C$12:$AF$12,0)+4)="","",INDEX('Bilan médicamenteux'!$C22:$AF22,MATCH('Bilan médicamenteux'!$AG22,'Bilan médicamenteux'!$C$12:$AF$12,0)+4)),"")
A23: =IF(OR('Bilan médicamenteux'!$AG23="",'Bilan médicamenteux'!$AG23="Ne pas inclure"),"",IF('Bilan médicamenteux'!$A23="","",'Bilan médicamenteux'!$A23)) | B23: =IFERROR(IF(INDEX('Bilan médicamenteux'!$C23:$AF23,MATCH('Bilan médicamenteux'!$AG23,'Bilan médicamenteux'!$C$12:$AF$12,0))="","",INDEX('Bilan médicamenteux'!$C23:$AF23,MATCH('Bilan médicamenteux'!$AG23,'Bilan médicamenteux'!$C$12:$AF$12,0))),"") | C23: =IFERROR(IF(INDEX('Bilan médicamenteux'!$C23:$AF23,MATCH('Bilan médicamenteux'!$AG23,'Bilan médicamenteux'!$C$12:$AF$12,0)+1)="","",INDEX('Bilan médicamenteux'!$C23:$AF23,MATCH('Bilan médicamenteux'!$AG23,'Bilan médicamenteux'!$C$12:$AF$12,0)+1)),"") | D23: =IFERROR(IF(INDEX('Bilan médicamenteux'!$C23:$AF23,MATCH('Bilan médicamenteux'!$AG23,'Bilan médicamenteux'!$C$12:$AF$12,0)+2)="","",INDEX('Bilan médicamenteux'!$C23:$AF23,MATCH('Bilan médicamenteux'!$AG23,'Bilan médicamenteux'!$C$12:$AF$12,0)+2)),"") | E23: =IFERROR(IF(INDEX('Bilan médicamenteux'!$C23:$AF23,MATCH('Bilan médicamenteux'!$AG23,'Bilan médicamenteux'!$C$12:$AF$12,0)+3)="","",INDEX('Bilan médicamenteux'!$C23:$AF23,MATCH('Bilan médicamenteux'!$AG23,'Bilan médicamenteux'!$C$12:$AF$12,0)+3)),"") | F23: =IFERROR(IF(INDEX('Bilan médicamenteux'!$C23:$AF23,MATCH('Bilan médicamenteux'!$AG23,'Bilan médicamenteux'!$C$12:$AF$12,0)+4)="","",INDEX('Bilan médicamenteux'!$C23:$AF23,MATCH('Bilan médicamenteux'!$AG23,'Bilan médicamenteux'!$C$12:$AF$12,0)+4)),"")
A24: =IF(OR('Bilan médicamenteux'!$AG24="",'Bilan médicamenteux'!$AG24="Ne pas inclure"),"",IF('Bilan médicamenteux'!$A24="","",'Bilan médicamenteux'!$A24)) | B24: =IFERROR(IF(INDEX('Bilan médicamenteux'!$C24:$AF24,MATCH('Bilan médicamenteux'!$AG24,'Bilan médicamenteux'!$C$12:$AF$12,0))="","",INDEX('Bilan médicamenteux'!$C24:$AF24,MATCH('Bilan médicamenteux'!$AG24,'Bilan médicamenteux'!$C$12:$AF$12,0))),"") | C24: =IFERROR(IF(INDEX('Bilan médicamenteux'!$C24:$AF24,MATCH('Bilan médicamenteux'!$AG24,'Bilan médicamenteux'!$C$12:$AF$12,0)+1)="","",INDEX('Bilan médicamenteux'!$C24:$AF24,MATCH('Bilan médicamenteux'!$AG24,'Bilan médicamenteux'!$C$12:$AF$12,0)+1)),"") | D24: =IFERROR(IF(INDEX('Bilan médicamenteux'!$C24:$AF24,MATCH('Bilan médicamenteux'!$AG24,'Bilan médicamenteux'!$C$12:$AF$12,0)+2)="","",INDEX('Bilan médicamenteux'!$C24:$AF24,MATCH('Bilan médicamenteux'!$AG24,'Bilan médicamenteux'!$C$12:$AF$12,0)+2)),"") | E24: =IFERROR(IF(INDEX('Bilan médicamenteux'!$C24:$AF24,MATCH('Bilan médicamenteux'!$AG24,'Bilan médicamenteux'!$C$12:$AF$12,0)+3)="","",INDEX('Bilan médicamenteux'!$C24:$AF24,MATCH('Bilan médicamenteux'!$AG24,'Bilan médicamenteux'!$C$12:$AF$12,0)+3)),"") | F24: =IFERROR(IF(INDEX('Bilan médicamenteux'!$C24:$AF24,MATCH('Bilan médicamenteux'!$AG24,'Bilan médicamenteux'!$C$12:$AF$12,0)+4)="","",INDEX('Bilan médicamenteux'!$C24:$AF24,MATCH('Bilan médicamenteux'!$AG24,'Bilan médicamenteux'!$C$12:$AF$12,0)+4)),"")
A25: =IF(OR('Bilan médicamenteux'!$AG25="",'Bilan médicamenteux'!$AG25="Ne pas inclure"),"",IF('Bilan médicamenteux'!$A25="","",'Bilan médicamenteux'!$A25)) | B25: =IFERROR(IF(INDEX('Bilan médicamenteux'!$C25:$AF25,MATCH('Bilan médicamenteux'!$AG25,'Bilan médicamenteux'!$C$12:$AF$12,0))="","",INDEX('Bilan médicamenteux'!$C25:$AF25,MATCH('Bilan médicamenteux'!$AG25,'Bilan médicamenteux'!$C$12:$AF$12,0))),"") | C25: =IFERROR(IF(INDEX('Bilan médicamenteux'!$C25:$AF25,MATCH('Bilan médicamenteux'!$AG25,'Bilan médicamenteux'!$C$12:$AF$12,0)+1)="","",INDEX('Bilan médicamenteux'!$C25:$AF25,MATCH('Bilan médicamenteux'!$AG25,'Bilan médicamenteux'!$C$12:$AF$12,0)+1)),"") | D25: =IFERROR(IF(INDEX('Bilan médicamenteux'!$C25:$AF25,MATCH('Bilan médicamenteux'!$AG25,'Bilan médicamenteux'!$C$12:$AF$12,0)+2)="","",INDEX('Bilan médicamenteux'!$C25:$AF25,MATCH('Bilan médicamenteux'!$AG25,'Bilan médicamenteux'!$C$12:$AF$12,0)+2)),"") | E25: =IFERROR(IF(INDEX('Bilan médicamenteux'!$C25:$AF25,MATCH('Bilan médicamenteux'!$AG25,'Bilan médicamenteux'!$C$12:$AF$12,0)+3)="","",INDEX('Bilan médicamenteux'!$C25:$AF25,MATCH('Bilan médicamenteux'!$AG25,'Bilan médicamenteux'!$C$12:$AF$12,0)+3)),"") | F25: =IFERROR(IF(INDEX('Bilan médicamenteux'!$C25:$AF25,MATCH('Bilan médicamenteux'!$AG25,'Bilan médicamenteux'!$C$12:$AF$12,0)+4)="","",INDEX('Bilan médicamenteux'!$C25:$AF25,MATCH('Bilan médicamenteux'!$AG25,'Bilan médicamenteux'!$C$12:$AF$12,0)+4)),"")
A26: =IF(OR('Bilan médicamenteux'!$AG26="",'Bilan médicamenteux'!$AG26="Ne pas inclure"),"",IF('Bilan médicamenteux'!$A26="","",'Bilan médicamenteux'!$A26)) | B26: =IFERROR(IF(INDEX('Bilan médicamenteux'!$C26:$AF26,MATCH('Bilan médicamenteux'!$AG26,'Bilan médicamenteux'!$C$12:$AF$12,0))="","",INDEX('Bilan médicamenteux'!$C26:$AF26,MATCH('Bilan médicamenteux'!$AG26,'Bilan médicamenteux'!$C$12:$AF$12,0))),"") | C26: =IFERROR(IF(INDEX('Bilan médicamenteux'!$C26:$AF26,MATCH('Bilan médicamenteux'!$AG26,'Bilan médicamenteux'!$C$12:$AF$12,0)+1)="","",INDEX('Bilan médicamenteux'!$C26:$AF26,MATCH('Bilan médicamenteux'!$AG26,'Bilan médicamenteux'!$C$12:$AF$12,0)+1)),"") | D26: =IFERROR(IF(INDEX('Bilan médicamenteux'!$C26:$AF26,MATCH('Bilan médicamenteux'!$AG26,'Bilan médicamenteux'!$C$12:$AF$12,0)+2)="","",INDEX('Bilan médicamenteux'!$C26:$AF26,MATCH('Bilan médicamenteux'!$AG26,'Bilan médicamenteux'!$C$12:$AF$12,0)+2)),"") | E26: =IFERROR(IF(INDEX('Bilan médicamenteux'!$C26:$AF26,MATCH('Bilan médicamenteux'!$AG26,'Bilan médicamenteux'!$C$12:$AF$12,0)+3)="","",INDEX('Bilan médicamenteux'!$C26:$AF26,MATCH('Bilan médicamenteux'!$AG26,'Bilan médicamenteux'!$C$12:$AF$12,0)+3)),"") | F26: =IFERROR(IF(INDEX('Bilan médicamenteux'!$C26:$AF26,MATCH('Bilan médicamenteux'!$AG26,'Bilan médicamenteux'!$C$12:$AF$12,0)+4)="","",INDEX('Bilan médicamenteux'!$C26:$AF26,MATCH('Bilan médicamenteux'!$AG26,'Bilan médicamenteux'!$C$12:$AF$12,0)+4)),"")
A27: =IF(OR('Bilan médicamenteux'!$AG27="",'Bilan médicamenteux'!$AG27="Ne pas inclure"),"",IF('Bilan médicamenteux'!$A27="","",'Bilan médicamenteux'!$A27)) | B27: =IFERROR(IF(INDEX('Bilan médicamenteux'!$C27:$AF27,MATCH('Bilan médicamenteux'!$AG27,'Bilan médicamenteux'!$C$12:$AF$12,0))="","",INDEX('Bilan médicamenteux'!$C27:$AF27,MATCH('Bilan médicamenteux'!$AG27,'Bilan médicamenteux'!$C$12:$AF$12,0))),"") | C27: =IFERROR(IF(INDEX('Bilan médicamenteux'!$C27:$AF27,MATCH('Bilan médicamenteux'!$AG27,'Bilan médicamenteux'!$C$12:$AF$12,0)+1)="","",INDEX('Bilan médicamenteux'!$C27:$AF27,MATCH('Bilan médicamenteux'!$AG27,'Bilan médicamenteux'!$C$12:$AF$12,0)+1)),"") | D27: =IFERROR(IF(INDEX('Bilan médicamenteux'!$C27:$AF27,MATCH('Bilan médicamenteux'!$AG27,'Bilan médicamenteux'!$C$12:$AF$12,0)+2)="","",INDEX('Bilan médicamenteux'!$C27:$AF27,MATCH('Bilan médicamenteux'!$AG27,'Bilan médicamenteux'!$C$12:$AF$12,0)+2)),"") | E27: =IFERROR(IF(INDEX('Bilan médicamenteux'!$C27:$AF27,MATCH('Bilan médicamenteux'!$AG27,'Bilan médicamenteux'!$C$12:$AF$12,0)+3)="","",INDEX('Bilan médicamenteux'!$C27:$AF27,MATCH('Bilan médicamenteux'!$AG27,'Bilan médicamenteux'!$C$12:$AF$12,0)+3)),"") | F27: =IFERROR(IF(INDEX('Bilan médicamenteux'!$C27:$AF27,MATCH('Bilan médicamenteux'!$AG27,'Bilan médicamenteux'!$C$12:$AF$12,0)+4)="","",INDEX('Bilan médicamenteux'!$C27:$AF27,MATCH('Bilan médicamenteux'!$AG27,'Bilan médicamenteux'!$C$12:$AF$12,0)+4)),"")
A28: =IF(OR('Bilan médicamenteux'!$AG28="",'Bilan médicamenteux'!$AG28="Ne pas inclure"),"",IF('Bilan médicamenteux'!$A28="","",'Bilan médicamenteux'!$A28)) | B28: =IFERROR(IF(INDEX('Bilan médicamenteux'!$C28:$AF28,MATCH('Bilan médicamenteux'!$AG28,'Bilan médicamenteux'!$C$12:$AF$12,0))="","",INDEX('Bilan médicamenteux'!$C28:$AF28,MATCH('Bilan médicamenteux'!$AG28,'Bilan médicamenteux'!$C$12:$AF$12,0))),"") | C28: =IFERROR(IF(INDEX('Bilan médicamenteux'!$C28:$AF28,MATCH('Bilan médicamenteux'!$AG28,'Bilan médicamenteux'!$C$12:$AF$12,0)+1)="","",INDEX('Bilan médicamenteux'!$C28:$AF28,MATCH('Bilan médicamenteux'!$AG28,'Bilan médicamenteux'!$C$12:$AF$12,0)+1)),"") | D28: =IFERROR(IF(INDEX('Bilan médicamenteux'!$C28:$AF28,MATCH('Bilan médicamenteux'!$AG28,'Bilan médicamenteux'!$C$12:$AF$12,0)+2)="","",INDEX('Bilan médicamenteux'!$C28:$AF28,MATCH('Bilan médicamenteux'!$AG28,'Bilan médicamenteux'!$C$12:$AF$12,0)+2)),"") | E28: =IFERROR(IF(INDEX('Bilan médicamenteux'!$C28:$AF28,MATCH('Bilan médicamenteux'!$AG28,'Bilan médicamenteux'!$C$12:$AF$12,0)+3)="","",INDEX('Bilan médicamenteux'!$C28:$AF28,MATCH('Bilan médicamenteux'!$AG28,'Bilan médicamenteux'!$C$12:$AF$12,0)+3)),"") | F28: =IFERROR(IF(INDEX('Bilan médicamenteux'!$C28:$AF28,MATCH('Bilan médicamenteux'!$AG28,'Bilan médicamenteux'!$C$12:$AF$12,0)+4)="","",INDEX('Bilan médicamenteux'!$C28:$AF28,MATCH('Bilan médicamenteux'!$AG28,'Bilan médicamenteux'!$C$12:$AF$12,0)+4)),"")
A29: =IF(OR('Bilan médicamenteux'!$AG35="",'Bilan médicamenteux'!$AG35="Ne pas inclure"),"",IF('Bilan médicamenteux'!$A35="","",'Bilan médicamenteux'!$A35)) | B29: =IFERROR(IF(INDEX('Bilan médicamenteux'!$C35:$AF35,MATCH('Bilan médicamenteux'!$AG35,'Bilan médicamenteux'!$C$12:$AF$12,0))="","",INDEX('Bilan médicamenteux'!$C35:$AF35,MATCH('Bilan médicamenteux'!$AG35,'Bilan médicamenteux'!$C$12:$AF$12,0))),"") | C29: =IFERROR(IF(INDEX('Bilan médicamenteux'!$C35:$AF35,MATCH('Bilan médicamenteux'!$AG35,'Bilan médicamenteux'!$C$12:$AF$12,0)+1)="","",INDEX('Bilan médicamenteux'!$C35:$AF35,MATCH('Bilan médicamenteux'!$AG35,'Bilan médicamenteux'!$C$12:$AF$12,0)+1)),"") | D29: =IFERROR(IF(INDEX('Bilan médicamenteux'!$C35:$AF35,MATCH('Bilan médicamenteux'!$AG35,'Bilan médicamenteux'!$C$12:$AF$12,0)+2)="","",INDEX('Bilan médicamenteux'!$C35:$AF35,MATCH('Bilan médicamenteux'!$AG35,'Bilan médicamenteux'!$C$12:$AF$12,0)+2)),"") | E29: =IFERROR(IF(INDEX('Bilan médicamenteux'!$C35:$AF35,MATCH('Bilan médicamenteux'!$AG35,'Bilan médicamenteux'!$C$12:$AF$12,0)+3)="","",INDEX('Bilan médicamenteux'!$C35:$AF35,MATCH('Bilan médicamenteux'!$AG35,'Bilan médicamenteux'!$C$12:$AF$12,0)+3)),"") | F29: =IFERROR(IF(INDEX('Bilan médicamenteux'!$C35:$AF35,MATCH('Bilan médicamenteux'!$AG35,'Bilan médicamenteux'!$C$12:$AF$12,0)+4)="","",INDEX('Bilan médicamenteux'!$C35:$AF35,MATCH('Bilan médicamenteux'!$AG35,'Bilan médicamenteux'!$C$12:$AF$12,0)+4)),"")
A30: =IF(OR('Bilan médicamenteux'!$AG36="",'Bilan médicamenteux'!$AG36="Ne pas inclure"),"",IF('Bilan médicamenteux'!$A36="","",'Bilan médicamenteux'!$A36)) | B30: =IFERROR(IF(INDEX('Bilan médicamenteux'!$C36:$AF36,MATCH('Bilan médicamenteux'!$AG36,'Bilan médicamenteux'!$C$12:$AF$12,0))="","",INDEX('Bilan médicamenteux'!$C36:$AF36,MATCH('Bilan médicamenteux'!$AG36,'Bilan médicamenteux'!$C$12:$AF$12,0))),"") | C30: =IFERROR(IF(INDEX('Bilan médicamenteux'!$C36:$AF36,MATCH('Bilan médicamenteux'!$AG36,'Bilan médicamenteux'!$C$12:$AF$12,0)+1)="","",INDEX('Bilan médicamenteux'!$C36:$AF36,MATCH('Bilan médicamenteux'!$AG36,'Bilan médicamenteux'!$C$12:$AF$12,0)+1)),"") | D30: =IFERROR(IF(INDEX('Bilan médicamenteux'!$C36:$AF36,MATCH('Bilan médicamenteux'!$AG36,'Bilan médicamenteux'!$C$12:$AF$12,0)+2)="","",INDEX('Bilan médicamenteux'!$C36:$AF36,MATCH('Bilan médicamenteux'!$AG36,'Bilan médicamenteux'!$C$12:$AF$12,0)+2)),"") | E30: =IFERROR(IF(INDEX('Bilan médicamenteux'!$C36:$AF36,MATCH('Bilan médicamenteux'!$AG36,'Bilan médicamenteux'!$C$12:$AF$12,0)+3)="","",INDEX('Bilan médicamenteux'!$C36:$AF36,MATCH('Bilan médicamenteux'!$AG36,'Bilan médicamenteux'!$C$12:$AF$12,0)+3)),"") | F30: =IFERROR(IF(INDEX('Bilan médicamenteux'!$C36:$AF36,MATCH('Bilan médicamenteux'!$AG36,'Bilan médicamenteux'!$C$12:$AF$12,0)+4)="","",INDEX('Bilan médicamenteux'!$C36:$AF36,MATCH('Bilan médicamenteux'!$AG36,'Bilan médicamenteux'!$C$12:$AF$12,0)+4)),"")
A31: =IF(OR('Bilan médicamenteux'!$AG37="",'Bilan médicamenteux'!$AG37="Ne pas inclure"),"",IF('Bilan médicamenteux'!$A37="","",'Bilan médicamenteux'!$A37)) | B31: =IFERROR(IF(INDEX('Bilan médicamenteux'!$C37:$AF37,MATCH('Bilan médicamenteux'!$AG37,'Bilan médicamenteux'!$C$12:$AF$12,0))="","",INDEX('Bilan médicamenteux'!$C37:$AF37,MATCH('Bilan médicamenteux'!$AG37,'Bilan médicamenteux'!$C$12:$AF$12,0))),"") | C31: =IFERROR(IF(INDEX('Bilan médicamenteux'!$C37:$AF37,MATCH('Bilan médicamenteux'!$AG37,'Bilan médicamenteux'!$C$12:$AF$12,0)+1)="","",INDEX('Bilan médicamenteux'!$C37:$AF37,MATCH('Bilan médicamenteux'!$AG37,'Bilan médicamenteux'!$C$12:$AF$12,0)+1)),"") | D31: =IFERROR(IF(INDEX('Bilan médicamenteux'!$C37:$AF37,MATCH('Bilan médicamenteux'!$AG37,'Bilan médicamenteux'!$C$12:$AF$12,0)+2)="","",INDEX('Bilan médicamenteux'!$C37:$AF37,MATCH('Bilan médicamenteux'!$AG37,'Bilan médicamenteux'!$C$12:$AF$12,0)+2)),"") | E31: =IFERROR(IF(INDEX('Bilan médicamenteux'!$C37:$AF37,MATCH('Bilan médicamenteux'!$AG37,'Bilan médicamenteux'!$C$12:$AF$12,0)+3)="","",INDEX('Bilan médicamenteux'!$C37:$AF37,MATCH('Bilan médicamenteux'!$AG37,'Bilan médicamenteux'!$C$12:$AF$12,0)+3)),"") | F31: =IFERROR(IF(INDEX('Bilan médicamenteux'!$C37:$AF37,MATCH('Bilan médicamenteux'!$AG37,'Bilan médicamenteux'!$C$12:$AF$12,0)+4)="","",INDEX('Bilan médicamenteux'!$C37:$AF37,MATCH('Bilan médicamenteux'!$AG37,'Bilan médicamenteux'!$C$12:$AF$12,0)+4)),"")
A32: =IF(OR('Bilan médicamenteux'!$AG38="",'Bilan médicamenteux'!$AG38="Ne pas inclure"),"",IF('Bilan médicamenteux'!$A38="","",'Bilan médicamenteux'!$A38)) | B32: =IFERROR(IF(INDEX('Bilan médicamenteux'!$C38:$AF38,MATCH('Bilan médicamenteux'!$AG38,'Bilan médicamenteux'!$C$12:$AF$12,0))="","",INDEX('Bilan médicamenteux'!$C38:$AF38,MATCH('Bilan médicamenteux'!$AG38,'Bilan médicamenteux'!$C$12:$AF$12,0))),"") | C32: =IFERROR(IF(INDEX('Bilan médicamenteux'!$C38:$AF38,MATCH('Bilan médicamenteux'!$AG38,'Bilan médicamenteux'!$C$12:$AF$12,0)+1)="","",INDEX('Bilan médicamenteux'!$C38:$AF38,MATCH('Bilan médicamenteux'!$AG38,'Bilan médicamenteux'!$C$12:$AF$12,0)+1)),"") | D32: =IFERROR(IF(INDEX('Bilan médicamenteux'!$C38:$AF38,MATCH('Bilan médicamenteux'!$AG38,'Bilan médicamenteux'!$C$12:$AF$12,0)+2)="","",INDEX('Bilan médicamenteux'!$C38:$AF38,MATCH('Bilan médicamenteux'!$AG38,'Bilan médicamenteux'!$C$12:$AF$12,0)+2)),"") | E32: =IFERROR(IF(INDEX('Bilan médicamenteux'!$C38:$AF38,MATCH('Bilan médicamenteux'!$AG38,'Bilan médicamenteux'!$C$12:$AF$12,0)+3)="","",INDEX('Bilan médicamenteux'!$C38:$AF38,MATCH('Bilan médicamenteux'!$AG38,'Bilan médicamenteux'!$C$12:$AF$12,0)+3)),"") | F32: =IFERROR(IF(INDEX('Bilan médicamenteux'!$C38:$AF38,MATCH('Bilan médicamenteux'!$AG38,'Bilan médicamenteux'!$C$12:$AF$12,0)+4)="","",INDEX('Bilan médicamenteux'!$C38:$AF38,MATCH('Bilan médicamenteux'!$AG38,'Bilan médicamenteux'!$C$12:$AF$12,0)+4)),"")
A33: =IF(OR('Bilan médicamenteux'!$AG39="",'Bilan médicamenteux'!$AG39="Ne pas inclure"),"",IF('Bilan médicamenteux'!$A39="","",'Bilan médicamenteux'!$A39)) | B33: =IFERROR(IF(INDEX('Bilan médicamenteux'!$C39:$AF39,MATCH('Bilan médicamenteux'!$AG39,'Bilan médicamenteux'!$C$12:$AF$12,0))="","",INDEX('Bilan médicamenteux'!$C39:$AF39,MATCH('Bilan médicamenteux'!$AG39,'Bilan médicamenteux'!$C$12:$AF$12,0))),"") | C33: =IFERROR(IF(INDEX('Bilan médicamenteux'!$C39:$AF39,MATCH('Bilan médicamenteux'!$AG39,'Bilan médicamenteux'!$C$12:$AF$12,0)+1)="","",INDEX('Bilan médicamenteux'!$C39:$AF39,MATCH('Bilan médicamenteux'!$AG39,'Bilan médicamenteux'!$C$12:$AF$12,0)+1)),"") | D33: =IFERROR(IF(INDEX('Bilan médicamenteux'!$C39:$AF39,MATCH('Bilan médicamenteux'!$AG39,'Bilan médicamenteux'!$C$12:$AF$12,0)+2)="","",INDEX('Bilan médicamenteux'!$C39:$AF39,MATCH('Bilan médicamenteux'!$AG39,'Bilan médicamenteux'!$C$12:$AF$12,0)+2)),"") | E33: =IFERROR(IF(INDEX('Bilan médicamenteux'!$C39:$AF39,MATCH('Bilan médicamenteux'!$AG39,'Bilan médicamenteux'!$C$12:$AF$12,0)+3)="","",INDEX('Bilan médicamenteux'!$C39:$AF39,MATCH('Bilan médicamenteux'!$AG39,'Bilan médicamenteux'!$C$12:$AF$12,0)+3)),"") | F33: =IFERROR(IF(INDEX('Bilan médicamenteux'!$C39:$AF39,MATCH('Bilan médicamenteux'!$AG39,'Bilan médicamenteux'!$C$12:$AF$12,0)+4)="","",INDEX('Bilan médicamenteux'!$C39:$AF39,MATCH('Bilan médicamenteux'!$AG39,'Bilan médicamenteux'!$C$12:$AF$12,0)+4)),"")
A34: =IF(OR('Bilan médicamenteux'!$AG40="",'Bilan médicamenteux'!$AG40="Ne pas inclure"),"",IF('Bilan médicamenteux'!$A40="","",'Bilan médicamenteux'!$A40)) | B34: =IFERROR(IF(INDEX('Bilan médicamenteux'!$C40:$AF40,MATCH('Bilan médicamenteux'!$AG40,'Bilan médicamenteux'!$C$12:$AF$12,0))="","",INDEX('Bilan médicamenteux'!$C40:$AF40,MATCH('Bilan médicamenteux'!$AG40,'Bilan médicamenteux'!$C$12:$AF$12,0))),"") | C34: =IFERROR(IF(INDEX('Bilan médicamenteux'!$C40:$AF40,MATCH('Bilan médicamenteux'!$AG40,'Bilan médicamenteux'!$C$12:$AF$12,0)+1)="","",INDEX('Bilan médicamenteux'!$C40:$AF40,MATCH('Bilan médicamenteux'!$AG40,'Bilan médicamenteux'!$C$12:$AF$12,0)+1)),"") | D34: =IFERROR(IF(INDEX('Bilan médicamenteux'!$C40:$AF40,MATCH('Bilan médicamenteux'!$AG40,'Bilan médicamenteux'!$C$12:$AF$12,0)+2)="","",INDEX('Bilan médicamenteux'!$C40:$AF40,MATCH('Bilan médicamenteux'!$AG40,'Bilan médicamenteux'!$C$12:$AF$12,0)+2)),"") | E34: =IFERROR(IF(INDEX('Bilan médicamenteux'!$C40:$AF40,MATCH('Bilan médicamenteux'!$AG40,'Bilan médicamenteux'!$C$12:$AF$12,0)+3)="","",INDEX('Bilan médicamenteux'!$C40:$AF40,MATCH('Bilan médicamenteux'!$AG40,'Bilan médicamenteux'!$C$12:$AF$12,0)+3)),"") | F34: =IFERROR(IF(INDEX('Bilan médicamenteux'!$C40:$AF40,MATCH('Bilan médicamenteux'!$AG40,'Bilan médicamenteux'!$C$12:$AF$12,0)+4)="","",INDEX('Bilan médicamenteux'!$C40:$AF40,MATCH('Bilan médicamenteux'!$AG40,'Bilan médicamenteux'!$C$12:$AF$12,0)+4)),"")
A35: =IF(OR('Bilan médicamenteux'!$AG41="",'Bilan médicamenteux'!$AG41="Ne pas inclure"),"",IF('Bilan médicamenteux'!$A41="","",'Bilan médicamenteux'!$A41)) | B35: =IFERROR(IF(INDEX('Bilan médicamenteux'!$C41:$AF41,MATCH('Bilan médicamenteux'!$AG41,'Bilan médicamenteux'!$C$12:$AF$12,0))="","",INDEX('Bilan médicamenteux'!$C41:$AF41,MATCH('Bilan médicamenteux'!$AG41,'Bilan médicamenteux'!$C$12:$AF$12,0))),"") | C35: =IFERROR(IF(INDEX('Bilan médicamenteux'!$C41:$AF41,MATCH('Bilan médicamenteux'!$AG41,'Bilan médicamenteux'!$C$12:$AF$12,0)+1)="","",INDEX('Bilan médicamenteux'!$C41:$AF41,MATCH('Bilan médicamenteux'!$AG41,'Bilan médicamenteux'!$C$12:$AF$12,0)+1)),"") | D35: =IFERROR(IF(INDEX('Bilan médicamenteux'!$C41:$AF41,MATCH('Bilan médicamenteux'!$AG41,'Bilan médicamenteux'!$C$12:$AF$12,0)+2)="","",INDEX('Bilan médicamenteux'!$C41:$AF41,MATCH('Bilan médicamenteux'!$AG41,'Bilan médicamenteux'!$C$12:$AF$12,0)+2)),"") | E35: =IFERROR(IF(INDEX('Bilan médicamenteux'!$C41:$AF41,MATCH('Bilan médicamenteux'!$AG41,'Bilan médicamenteux'!$C$12:$AF$12,0)+3)="","",INDEX('Bilan médicamenteux'!$C41:$AF41,MATCH('Bilan médicamenteux'!$AG41,'Bilan médicamenteux'!$C$12:$AF$12,0)+3)),"") | F35: =IFERROR(IF(INDEX('Bilan médicamenteux'!$C41:$AF41,MATCH('Bilan médicamenteux'!$AG41,'Bilan médicamenteux'!$C$12:$AF$12,0)+4)="","",INDEX('Bilan médicamenteux'!$C41:$AF41,MATCH('Bilan médicamenteux'!$AG41,'Bilan médicamenteux'!$C$12:$AF$12,0)+4)),"")
A36: =IF(OR('Bilan médicamenteux'!$AG42="",'Bilan médicamenteux'!$AG42="Ne pas inclure"),"",IF('Bilan médicamenteux'!$A42="","",'Bilan médicamenteux'!$A42)) | B36: =IFERROR(IF(INDEX('Bilan médicamenteux'!$C42:$AF42,MATCH('Bilan médicamenteux'!$AG42,'Bilan médicamenteux'!$C$12:$AF$12,0))="","",INDEX('Bilan médicamenteux'!$C42:$AF42,MATCH('Bilan médicamenteux'!$AG42,'Bilan médicamenteux'!$C$12:$AF$12,0))),"") | C36: =IFERROR(IF(INDEX('Bilan médicamenteux'!$C42:$AF42,MATCH('Bilan médicamenteux'!$AG42,'Bilan médicamenteux'!$C$12:$AF$12,0)+1)="","",INDEX('Bilan médicamenteux'!$C42:$AF42,MATCH('Bilan médicamenteux'!$AG42,'Bilan médicamenteux'!$C$12:$AF$12,0)+1)),"") | D36: =IFERROR(IF(INDEX('Bilan médicamenteux'!$C42:$AF42,MATCH('Bilan médicamenteux'!$AG42,'Bilan médicamenteux'!$C$12:$AF$12,0)+2)="","",INDEX('Bilan médicamenteux'!$C42:$AF42,MATCH('Bilan médicamenteux'!$AG42,'Bilan médicamenteux'!$C$12:$AF$12,0)+2)),"") | E36: =IFERROR(IF(INDEX('Bilan médicamenteux'!$C42:$AF42,MATCH('Bilan médicamenteux'!$AG42,'Bilan médicamenteux'!$C$12:$AF$12,0)+3)="","",INDEX('Bilan médicamenteux'!$C42:$AF42,MATCH('Bilan médicamenteux'!$AG42,'Bilan médicamenteux'!$C$12:$AF$12,0)+3)),"") | F36: =IFERROR(IF(INDEX('Bilan médicamenteux'!$C42:$AF42,MATCH('Bilan médicamenteux'!$AG42,'Bilan médicamenteux'!$C$12:$AF$12,0)+4)="","",INDEX('Bilan médicamenteux'!$C42:$AF42,MATCH('Bilan médicamenteux'!$AG42,'Bilan médicamenteux'!$C$12:$AF$12,0)+4)),"")
A37: =IF(OR('Bilan médicamenteux'!$AG43="",'Bilan médicamenteux'!$AG43="Ne pas inclure"),"",IF('Bilan médicamenteux'!$A43="","",'Bilan médicamenteux'!$A43)) | B37: =IFERROR(IF(INDEX('Bilan médicamenteux'!$C43:$AF43,MATCH('Bilan médicamenteux'!$AG43,'Bilan médicamenteux'!$C$12:$AF$12,0))="","",INDEX('Bilan médicamenteux'!$C43:$AF43,MATCH('Bilan médicamenteux'!$AG43,'Bilan médicamenteux'!$C$12:$AF$12,0))),"") | C37: =IFERROR(IF(INDEX('Bilan médicamenteux'!$C43:$AF43,MATCH('Bilan médicamenteux'!$AG43,'Bilan médicamenteux'!$C$12:$AF$12,0)+1)="","",INDEX('Bilan médicamenteux'!$C43:$AF43,MATCH('Bilan médicamenteux'!$AG43,'Bilan médicamenteux'!$C$12:$AF$12,0)+1)),"") | D37: =IFERROR(IF(INDEX('Bilan médicamenteux'!$C43:$AF43,MATCH('Bilan médicamenteux'!$AG43,'Bilan médicamenteux'!$C$12:$AF$12,0)+2)="","",INDEX('Bilan médicamenteux'!$C43:$AF43,MATCH('Bilan médicamenteux'!$AG43,'Bilan médicamenteux'!$C$12:$AF$12,0)+2)),"") | E37: =IFERROR(IF(INDEX('Bilan médicamenteux'!$C43:$AF43,MATCH('Bilan médicamenteux'!$AG43,'Bilan médicamenteux'!$C$12:$AF$12,0)+3)="","",INDEX('Bilan médicamenteux'!$C43:$AF43,MATCH('Bilan médicamenteux'!$AG43,'Bilan médicamenteux'!$C$12:$AF$12,0)+3)),"") | F37: =IFERROR(IF(INDEX('Bilan médicamenteux'!$C43:$AF43,MATCH('Bilan médicamenteux'!$AG43,'Bilan médicamenteux'!$C$12:$AF$12,0)+4)="","",INDEX('Bilan médicamenteux'!$C43:$AF43,MATCH('Bilan médicamenteux'!$AG43,'Bilan médicamenteux'!$C$12:$AF$12,0)+4)),"")
A38: =IF(OR('Bilan médicamenteux'!$AG44="",'Bilan médicamenteux'!$AG44="Ne pas inclure"),"",IF('Bilan médicamenteux'!$A44="","",'Bilan médicamenteux'!$A44)) | B38: =IFERROR(IF(INDEX('Bilan médicamenteux'!$C44:$AF44,MATCH('Bilan médicamenteux'!$AG44,'Bilan médicamenteux'!$C$12:$AF$12,0))="","",INDEX('Bilan médicamenteux'!$C44:$AF44,MATCH('Bilan médicamenteux'!$AG44,'Bilan médicamenteux'!$C$12:$AF$12,0))),"") | C38: =IFERROR(IF(INDEX('Bilan médicamenteux'!$C44:$AF44,MATCH('Bilan médicamenteux'!$AG44,'Bilan médicamenteux'!$C$12:$AF$12,0)+1)="","",INDEX('Bilan médicamenteux'!$C44:$AF44,MATCH('Bilan médicamenteux'!$AG44,'Bilan médicamenteux'!$C$12:$AF$12,0)+1)),"") | D38: =IFERROR(IF(INDEX('Bilan médicamenteux'!$C44:$AF44,MATCH('Bilan médicamenteux'!$AG44,'Bilan médicamenteux'!$C$12:$AF$12,0)+2)="","",INDEX('Bilan médicamenteux'!$C44:$AF44,MATCH('Bilan médicamenteux'!$AG44,'Bilan médicamenteux'!$C$12:$AF$12,0)+2)),"") | E38: =IFERROR(IF(INDEX('Bilan médicamenteux'!$C44:$AF44,MATCH('Bilan médicamenteux'!$AG44,'Bilan médicamenteux'!$C$12:$AF$12,0)+3)="","",INDEX('Bilan médicamenteux'!$C44:$AF44,MATCH('Bilan médicamenteux'!$AG44,'Bilan médicamenteux'!$C$12:$AF$12,0)+3)),"") | F38: =IFERROR(IF(INDEX('Bilan médicamenteux'!$C44:$AF44,MATCH('Bilan médicamenteux'!$AG44,'Bilan médicamenteux'!$C$12:$AF$12,0)+4)="","",INDEX('Bilan médicamenteux'!$C44:$AF44,MATCH('Bilan médicamenteux'!$AG44,'Bilan médicamenteux'!$C$12:$AF$12,0)+4)),"")
A39: =IF(OR('Bilan médicamenteux'!$AG45="",'Bilan médicamenteux'!$AG45="Ne pas inclure"),"",IF('Bilan médicamenteux'!$A45="","",'Bilan médicamenteux'!$A45)) | B39: =IFERROR(IF(INDEX('Bilan médicamenteux'!$C45:$AF45,MATCH('Bilan médicamenteux'!$AG45,'Bilan médicamenteux'!$C$12:$AF$12,0))="","",INDEX('Bilan médicamenteux'!$C45:$AF45,MATCH('Bilan médicamenteux'!$AG45,'Bilan médicamenteux'!$C$12:$AF$12,0))),"") | C39: =IFERROR(IF(INDEX('Bilan médicamenteux'!$C45:$AF45,MATCH('Bilan médicamenteux'!$AG45,'Bilan médicamenteux'!$C$12:$AF$12,0)+1)="","",INDEX('Bilan médicamenteux'!$C45:$AF45,MATCH('Bilan médicamenteux'!$AG45,'Bilan médicamenteux'!$C$12:$AF$12,0)+1)),"") | D39: =IFERROR(IF(INDEX('Bilan médicamenteux'!$C45:$AF45,MATCH('Bilan médicamenteux'!$AG45,'Bilan médicamenteux'!$C$12:$AF$12,0)+2)="","",INDEX('Bilan médicamenteux'!$C45:$AF45,MATCH('Bilan médicamenteux'!$AG45,'Bilan médicamenteux'!$C$12:$AF$12,0)+2)),"") | E39: =IFERROR(IF(INDEX('Bilan médicamenteux'!$C45:$AF45,MATCH('Bilan médicamenteux'!$AG45,'Bilan médicamenteux'!$C$12:$AF$12,0)+3)="","",INDEX('Bilan médicamenteux'!$C45:$AF45,MATCH('Bilan médicamenteux'!$AG45,'Bilan médicamenteux'!$C$12:$AF$12,0)+3)),"") | F39: =IFERROR(IF(INDEX('Bilan médicamenteux'!$C45:$AF45,MATCH('Bilan médicamenteux'!$AG45,'Bilan médicamenteux'!$C$12:$AF$12,0)+4)="","",INDEX('Bilan médicamenteux'!$C45:$AF45,MATCH('Bilan médicamenteux'!$AG45,'Bilan médicamenteux'!$C$12:$AF$12,0)+4)),"")
A40: =IF(OR('Bilan médicamenteux'!$AG46="",'Bilan médicamenteux'!$AG46="Ne pas inclure"),"",IF('Bilan médicamenteux'!$A46="","",'Bilan médicamenteux'!$A46)) | B40: =IFERROR(IF(INDEX('Bilan médicamenteux'!$C46:$AF46,MATCH('Bilan médicamenteux'!$AG46,'Bilan médicamenteux'!$C$12:$AF$12,0))="","",INDEX('Bilan médicamenteux'!$C46:$AF46,MATCH('Bilan médicamenteux'!$AG46,'Bilan médicamenteux'!$C$12:$AF$12,0))),"") | C40: =IFERROR(IF(INDEX('Bilan médicamenteux'!$C46:$AF46,MATCH('Bilan médicamenteux'!$AG46,'Bilan médicamenteux'!$C$12:$AF$12,0)+1)="","",INDEX('Bilan médicamenteux'!$C46:$AF46,MATCH('Bilan médicamenteux'!$AG46,'Bilan médicamenteux'!$C$12:$AF$12,0)+1)),"") | D40: =IFERROR(IF(INDEX('Bilan médicamenteux'!$C46:$AF46,MATCH('Bilan médicamenteux'!$AG46,'Bilan médicamenteux'!$C$12:$AF$12,0)+2)="","",INDEX('Bilan médicamenteux'!$C46:$AF46,MATCH('Bilan médicamenteux'!$AG46,'Bilan médicamenteux'!$C$12:$AF$12,0)+2)),"") | E40: =IFERROR(IF(INDEX('Bilan médicamenteux'!$C46:$AF46,MATCH('Bilan médicamenteux'!$AG46,'Bilan médicamenteux'!$C$12:$AF$12,0)+3)="","",INDEX('Bilan médicamenteux'!$C46:$AF46,MATCH('Bilan médicamenteux'!$AG46,'Bilan médicamenteux'!$C$12:$AF$12,0)+3)),"") | F40: =IFERROR(IF(INDEX('Bilan médicamenteux'!$C46:$AF46,MATCH('Bilan médicamenteux'!$AG46,'Bilan médicamenteux'!$C$12:$AF$12,0)+4)="","",INDEX('Bilan médicamenteux'!$C46:$AF46,MATCH('Bilan médicamenteux'!$AG46,'Bilan médicamenteux'!$C$12:$AF$12,0)+4)),"")
... A47: =IF(OR('Bilan médicamenteux'!$AG53="",'Bilan médicamenteux'!$AG53="Ne pas inclure"),"",IF('Bilan médicamenteux'!$A53="","",'Bilan médicamenteux'!$A53)) | B47: =IFERROR(IF(INDEX('Bilan médicamenteux'!$C53:$AF53,MATCH('Bilan médicamenteux'!$AG53,'Bilan médicamenteux'!$C$12:$AF$12,0))="","",INDEX('Bilan médicamenteux'!$C53:$AF53,MATCH('Bilan médicamenteux'!$AG53,'Bilan médicamenteux'!$C$12:$AF$12,0))),"") | C47: =IFERROR(IF(INDEX('Bilan médicamenteux'!$C53:$AF53,MATCH('Bilan médicamenteux'!$AG53,'Bilan médicamenteux'!$C$12:$AF$12,0)+1)="","",INDEX('Bilan médicamenteux'!$C53:$AF53,MATCH('Bilan médicamenteux'!$AG53,'Bilan médicamenteux'!$C$12:$AF$12,0)+1)),"") | D47: =IFERROR(IF(INDEX('Bilan médicamenteux'!$C53:$AF53,MATCH('Bilan médicamenteux'!$AG53,'Bilan médicamenteux'!$C$12:$AF$12,0)+2)="","",INDEX('Bilan médicamenteux'!$C53:$AF53,MATCH('Bilan médicamenteux'!$AG53,'Bilan médicamenteux'!$C$12:$AF$12,0)+2)),"") | E47: =IFERROR(IF(INDEX('Bilan médicamenteux'!$C53:$AF53,MATCH('Bilan médicamenteux'!$AG53,'Bilan médicamenteux'!$C$12:$AF$12,0)+3)="","",INDEX('Bilan médicamenteux'!$C53:$AF53,MATCH('Bilan médicamenteux'!$AG53,'Bilan médicamenteux'!$C$12:$AF$12,0)+3)),"") | F47: =IFERROR(IF(INDEX('Bilan médicamenteux'!$C53:$AF53,MATCH('Bilan médicamenteux'!$AG53,'Bilan médicamenteux'!$C$12:$AF$12,0)+4)="","",INDEX('Bilan médicamenteux'!$C53:$AF53,MATCH('Bilan médicamenteux'!$AG53,'Bilan médicamenteux'!$C$12:$AF$12,0)+4)),"")
A48: Sources d'information consultées | K48: Nom & signature pharmacien :
A49: {=IF('Bilan médicamenteux'!C12:C12="","",'Bilan médicamenteux'!C12:C12)} | B49: {=IF('Bilan médicamenteux'!H12:H12="","",'Bilan médicamenteux'!H12:H12)} | E49: {=IF('Bilan médicamenteux'!M12:M12="","",'Bilan médicamenteux'!M12:M12)} | H49: {=IF('Bilan médicamenteux'!R12:R12="","",'Bilan médicamenteux'!R12:R12)} | J49: {=IF('Bilan médicamenteux'!W12:W12="","",'Bilan médicamenteux'!W12:W12)}
A50: {=IF('Bilan médicamenteux'!AB12:AB12="","",'Bilan médicamenteux'!AB12:AB12)} | B50: {=IF('Bilan médicamenteux'!AP12:AP12="","",'Bilan médicamenteux'!AP12:AP12)} | E50: {=IF('Bilan médicamenteux'!AU12:AU12="","",'Bilan médicamenteux'!AU12:AU12)} | H50: {=IF('Bilan médicamenteux'!AZ12:AZ12="","",'Bilan médicamenteux'!AZ12:AZ12)} | J50: {=IF('Bilan médicamenteux'!BE12:BE12="","",'Bilan médicamenteux'!BE12:BE12)} | K50: Nom & signature prescripteur :
A51: {=IF('Bilan médicamenteux'!BJ12:BJ12="","",'Bilan médicamenteux'!BJ12:BJ12)} | B51: {=IF('Bilan médicamenteux'!BO12:BO12="","",'Bilan médicamenteux'!BO12:BO12)} | E51: {=IF('Bilan médicamenteux'!BT12:BT12="","",'Bilan médicamenteux'!BT12:BT12)}
A52: Commentaires :

Sheet Fiche CM entrée rétroactive
A1: Nom : | B1: {=IF('Bilan médicamenteux'!B1:B1="","",'Bilan médicamenteux'!B1:B1)} | F1: Personne à contacter : | H1: {=IF('Bilan médicamenteux'!N1:N1="","",'Bilan médicamenteux'!N1:N1)} | I1: Tél. | J1: {=IF('Bilan médicamenteux'!T1:T1="","",'Bilan médicamenteux'!T1:T1)} | N1: Patch : | P1: {=IF('Bilan médicamenteux'!AC1:AC1="","",'Bilan médicamenteux'!AC1:AC1)} | Q1: Lesquelles : | R1: =IF('Bilan médicamenteux'!AI1="","",'Bilan médicamenteux'!AI1)
A2: Prénom : | B2: {=IF('Bilan médicamenteux'!B2:B2="","",'Bilan médicamenteux'!B2:B2)} | F2: Médecin traitant : | H2: {=IF('Bilan médicamenteux'!N2:N2="","",'Bilan médicamenteux'!N2:N2)} | I2: Tél. | J2: {=IF('Bilan médicamenteux'!T2:T2="","",'Bilan médicamenteux'!T2:T2)} | N2: Injections : | P2: {=IF('Bilan médicamenteux'!AC2:AC2="","",'Bilan médicamenteux'!AC2:AC2)} | Q2: Lesquelles : | R2: =IF('Bilan médicamenteux'!AI2="","",'Bilan médicamenteux'!AI2)
A3: IPP : | B3: {=IF('Bilan médicamenteux'!B3:B3="","",'Bilan médicamenteux'!B3:B3)} | F3: Pharmacie d'officine : | H3: {=IF('Bilan médicamenteux'!N3:N3="","",'Bilan médicamenteux'!N3:N3)} | I3: Tél. | J3: {=IF('Bilan médicamenteux'!T3:T3="","",'Bilan médicamenteux'!T3:T3)} | N3: Automédication : | P3: {=IF('Bilan médicamenteux'!AC3:AC3="","",'Bilan médicamenteux'!AC3:AC3)} | Q3: Lesquelles : | R3: =IF('Bilan médicamenteux'!AI3="","",'Bilan médicamenteux'!AI3)
A4: Genre : | B4: {=IF('Bilan médicamenteux'!B4:B4="","",'Bilan médicamenteux'!B4:B4)} | F4: Infirmier à domicile : | H4: {=IF('Bilan médicamenteux'!N4:N4="","",'Bilan médicamenteux'!N4:N4)} | I4: Tél. | J4: {=IF('Bilan médicamenteux'!T4:T4="","",'Bilan médicamenteux'!T4:T4)} | N4: Crèmes/pommades : | P4: {=IF('Bilan médicamenteux'!AC4:AC4="","",'Bilan médicamenteux'!AC4:AC4)} | Q4: Lesquelles : | R4: =IF('Bilan médicamenteux'!AI4="","",'Bilan médicamenteux'!AI4)
A5: Date naissance : | B5: {=IF('Bilan médicamenteux'!B5:B5="","",'Bilan médicamenteux'!B5:B5)} | F5: Autre établissement/EHPAD: | H5: {=IF('Bilan médicamenteux'!N5:N5="","",'Bilan médicamenteux'!N5:N5)} | I5: Tél. | J5: {=IF('Bilan médicamenteux'!T5:T5="","",'Bilan médicamenteux'!T5:T5)} | N5: Collyres (œil D/G) : | P5: {=IF('Bilan médicamenteux'!AC5:AC5="","",'Bilan médicamenteux'!AC5:AC5)} | Q5: Lesquelles : | R5: =IF('Bilan médicamenteux'!AI5="","",'Bilan médicamenteux'!AI5)
A6: Service : | B6: {=IF('Bilan médicamenteux'!B6:B6="","",'Bilan médicamenteux'!B6:B6)} | N6: Allergies : | P6: {=IF('Bilan médicamenteux'!AC6:AC6="","",'Bilan médicamenteux'!AC6:AC6)} | Q6: Lesquelles : | R6: =IF('Bilan médicamenteux'!AI6="","",'Bilan médicamenteux'!AI6)
A7: N° chambre : | B7: {=IF('Bilan médicamenteux'!B7:B7="","",'Bilan médicamenteux'!B7:B7)} | N7: Phytothérapies : | P7: {=IF('Bilan médicamenteux'!AC7:AC7="","",'Bilan médicamenteux'!AC7:AC7)} | Q7: Lesquelles : | R7: =IF('Bilan médicamenteux'!AI7="","",'Bilan médicamenteux'!AI7)
A8: Date d'admission : | B8: {=IF('Bilan médicamenteux'!B8:B8="","",'Bilan médicamenteux'!B8:B8)} | F8: Carte Vitale : | H8: {=IF('Bilan médicamenteux'!AC9:AC9="","",'Bilan médicamenteux'!AC9:AC9)} | N8: Jus de pamplemousse : | P8: {=IF('Bilan médicamenteux'!AC8:AC8="","",'Bilan médicamenteux'!AC8:AC8)}
A9: Date de BMO : | B9: {=IF('Bilan médicamenteux'!B9:B9="","",'Bilan médicamenteux'!B9:B9)} | F9: Dossier Pharmaceutique : | H9: {=IF('Bilan médicamenteux'!AL9:AL9="","",'Bilan médicamenteux'!AL9:AL9)}
A11: Conciliation faite le : | B11: [à compléter] | N11: Processus de conciliation : | Q11: Rétroactif
A13: Bilan médicamenteux | G13: Statut AJ : ajout AR: arrêt E : équivalent M: modifié P: poursuivi S: suspendu | H13: Ordonnance du | I13: [à compléter] | N13: Existence d’une divergence (oui/non) | O13: Divergence Intentionnelle (DI) ou Divergence Non Intentionnelle (DNI) | Q13: Décision médicale pour les DNI | R13: Commentaires
A14: Médicament DCI (+/- nom commercial) & Dosage | B14: Forme & Voie | C14: Posologie | H14: Médicament DCI (+/- nom commercial) & Dosage | I14: Forme & Voie | J14: Posologie
C15: M | D15: M | E15: S | F15: N | J15: M | K15: M | L15: S | M15: N
A16: =IF(OR('Bilan médicamenteux'!$AG16="",'Bilan médicamenteux'!$AG16="Ne pas inclure"),"",IF('Bilan médicamenteux'!$A16="","",'Bilan médicamenteux'!$A16)) | B16: =IFERROR(IF(INDEX('Bilan médicamenteux'!$C16:$AF16,MATCH('Bilan médicamenteux'!$AG16,'Bilan médicamenteux'!$C$12:$AF$12,0))="","",INDEX('Bilan médicamenteux'!$C16:$AF16,MATCH('Bilan médicamenteux'!$AG16,'Bilan médicamenteux'!$C$12:$AF$12,0))),"") | C16: =IFERROR(IF(INDEX('Bilan médicamenteux'!$C16:$AF16,MATCH('Bilan médicamenteux'!$AG16,'Bilan médicamenteux'!$C$12:$AF$12,0)+1)="","",INDEX('Bilan médicamenteux'!$C16:$AF16,MATCH('Bilan médicamenteux'!$AG16,'Bilan médicamenteux'!$C$12:$AF$12,0)+1)),"") | D16: =IFERROR(IF(INDEX('Bilan médicamenteux'!$C16:$AF16,MATCH('Bilan médicamenteux'!$AG16,'Bilan médicamenteux'!$C$12:$AF$12,0)+2)="","",INDEX('Bilan médicamenteux'!$C16:$AF16,MATCH('Bilan médicamenteux'!$AG16,'Bilan médicamenteux'!$C$12:$AF$12,0)+2)),"") | E16: =IFERROR(IF(INDEX('Bilan médicamenteux'!$C16:$AF16,MATCH('Bilan médicamenteux'!$AG16,'Bilan médicamenteux'!$C$12:$AF$12,0)+3)="","",INDEX('Bilan médicamenteux'!$C16:$AF16,MATCH('Bilan médicamenteux'!$AG16,'Bilan médicamenteux'!$C$12:$AF$12,0)+3)),"") | F16: =IFERROR(IF(INDEX('Bilan médicamenteux'!$C16:$AF16,MATCH('Bilan médicamenteux'!$AG16,'Bilan médicamenteux'!$C$12:$AF$12,0)+4)="","",INDEX('Bilan médicamenteux'!$C16:$AF16,MATCH('Bilan médicamenteux'!$AG16,'Bilan médicamenteux'!$C$12:$AF$12,0)+4)),"") | N16: =IF(AND(A16="",H16=""),"",IF(AND(A16=H16,B16=I16,C16=J16,D16=K16,E16=L16,F16=M16),"Non","Oui"))
A17: =IF(OR('Bilan médicamenteux'!$AG17="",'Bilan médicamenteux'!$AG17="Ne pas inclure"),"",IF('Bilan médicamenteux'!$A17="","",'Bilan médicamenteux'!$A17)) | B17: =IFERROR(IF(INDEX('Bilan médicamenteux'!$C17:$AF17,MATCH('Bilan médicamenteux'!$AG17,'Bilan médicamenteux'!$C$12:$AF$12,0))="","",INDEX('Bilan médicamenteux'!$C17:$AF17,MATCH('Bilan médicamenteux'!$AG17,'Bilan médicamenteux'!$C$12:$AF$12,0))),"") | C17: =IFERROR(IF(INDEX('Bilan médicamenteux'!$C17:$AF17,MATCH('Bilan médicamenteux'!$AG17,'Bilan médicamenteux'!$C$12:$AF$12,0)+1)="","",INDEX('Bilan médicamenteux'!$C17:$AF17,MATCH('Bilan médicamenteux'!$AG17,'Bilan médicamenteux'!$C$12:$AF$12,0)+1)),"") | D17: =IFERROR(IF(INDEX('Bilan médicamenteux'!$C17:$AF17,MATCH('Bilan médicamenteux'!$AG17,'Bilan médicamenteux'!$C$12:$AF$12,0)+2)="","",INDEX('Bilan médicamenteux'!$C17:$AF17,MATCH('Bilan médicamenteux'!$AG17,'Bilan médicamenteux'!$C$12:$AF$12,0)+2)),"") | E17: =IFERROR(IF(INDEX('Bilan médicamenteux'!$C17:$AF17,MATCH('Bilan médicamenteux'!$AG17,'Bilan médicamenteux'!$C$12:$AF$12,0)+3)="","",INDEX('Bilan médicamenteux'!$C17:$AF17,MATCH('Bilan médicamenteux'!$AG17,'Bilan médicamenteux'!$C$12:$AF$12,0)+3)),"") | F17: =IFERROR(IF(INDEX('Bilan médicamenteux'!$C17:$AF17,MATCH('Bilan médicamenteux'!$AG17,'Bilan médicamenteux'!$C$12:$AF$12,0)+4)="","",INDEX('Bilan médicamenteux'!$C17:$AF17,MATCH('Bilan médicamenteux'!$AG17,'Bilan médicamenteux'!$C$12:$AF$12,0)+4)),"") | N17: =IF(AND(A17="",H17=""),"",IF(AND(A17=H17,B17=I17,C17=J17,D17=K17,E17=L17,F17=M17),"Non","Oui"))
A18: =IF(OR('Bilan médicamenteux'!$AG18="",'Bilan médicamenteux'!$AG18="Ne pas inclure"),"",IF('Bilan médicamenteux'!$A18="","",'Bilan médicamenteux'!$A18)) | B18: =IFERROR(IF(INDEX('Bilan médicamenteux'!$C18:$AF18,MATCH('Bilan médicamenteux'!$AG18,'Bilan médicamenteux'!$C$12:$AF$12,0))="","",INDEX('Bilan médicamenteux'!$C18:$AF18,MATCH('Bilan médicamenteux'!$AG18,'Bilan médicamenteux'!$C$12:$AF$12,0))),"") | C18: =IFERROR(IF(INDEX('Bilan médicamenteux'!$C18:$AF18,MATCH('Bilan médicamenteux'!$AG18,'Bilan médicamenteux'!$C$12:$AF$12,0)+1)="","",INDEX('Bilan médicamenteux'!$C18:$AF18,MATCH('Bilan médicamenteux'!$AG18,'Bilan médicamenteux'!$C$12:$AF$12,0)+1)),"") | D18: =IFERROR(IF(INDEX('Bilan médicamenteux'!$C18:$AF18,MATCH('Bilan médicamenteux'!$AG18,'Bilan médicamenteux'!$C$12:$AF$12,0)+2)="","",INDEX('Bilan médicamenteux'!$C18:$AF18,MATCH('Bilan médicamenteux'!$AG18,'Bilan médicamenteux'!$C$12:$AF$12,0)+2)),"") | E18: =IFERROR(IF(INDEX('Bilan médicamenteux'!$C18:$AF18,MATCH('Bilan médicamenteux'!$AG18,'Bilan médicamenteux'!$C$12:$AF$12,0)+3)="","",INDEX('Bilan médicamenteux'!$C18:$AF18,MATCH('Bilan médicamenteux'!$AG18,'Bilan médicamenteux'!$C$12:$AF$12,0)+3)),"") | F18: =IFERROR(IF(INDEX('Bilan médicamenteux'!$C18:$AF18,MATCH('Bilan médicamenteux'!$AG18,'Bilan médicamenteux'!$C$12:$AF$12,0)+4)="","",INDEX('Bilan médicamenteux'!$C18:$AF18,MATCH('Bilan médicamenteux'!$AG18,'Bilan médicamenteux'!$C$12:$AF$12,0)+4)),"") | N18: =IF(AND(A18="",H18=""),"",IF(AND(A18=H18,B18=I18,C18=J18,D18=K18,E18=L18,F18=M18),"Non","Oui"))
A19: =IF(OR('Bilan médicamenteux'!$AG19="",'Bilan médicamenteux'!$AG19="Ne pas inclure"),"",IF('Bilan médicamenteux'!$A19="","",'Bilan médicamenteux'!$A19)) | B19: =IFERROR(IF(INDEX('Bilan médicamenteux'!$C19:$AF19,MATCH('Bilan médicamenteux'!$AG19,'Bilan médicamenteux'!$C$12:$AF$12,0))="","",INDEX('Bilan médicamenteux'!$C19:$AF19,MATCH('Bilan médicamenteux'!$AG19,'Bilan médicamenteux'!$C$12:$AF$12,0))),"") | C19: =IFERROR(IF(INDEX('Bilan médicamenteux'!$C19:$AF19,MATCH('Bilan médicamenteux'!$AG19,'Bilan médicamenteux'!$C$12:$AF$12,0)+1)="","",INDEX('Bilan médicamenteux'!$C19:$AF19,MATCH('Bilan médicamenteux'!$AG19,'Bilan médicamenteux'!$C$12:$AF$12,0)+1)),"") | D19: =IFERROR(IF(INDEX('Bilan médicamenteux'!$C19:$AF19,MATCH('Bilan médicamenteux'!$AG19,'Bilan médicamenteux'!$C$12:$AF$12,0)+2)="","",INDEX('Bilan médicamenteux'!$C19:$AF19,MATCH('Bilan médicamenteux'!$AG19,'Bilan médicamenteux'!$C$12:$AF$12,0)+2)),"") | E19: =IFERROR(IF(INDEX('Bilan médicamenteux'!$C19:$AF19,MATCH('Bilan médicamenteux'!$AG19,'Bilan médicamenteux'!$C$12:$AF$12,0)+3)="","",INDEX('Bilan médicamenteux'!$C19:$AF19,MATCH('Bilan médicamenteux'!$AG19,'Bilan médicamenteux'!$C$12:$AF$12,0)+3)),"") | F19: =IFERROR(IF(INDEX('Bilan médicamenteux'!$C19:$AF19,MATCH('Bilan médicamenteux'!$AG19,'Bilan médicamenteux'!$C$12:$AF$12,0)+4)="","",INDEX('Bilan médicamenteux'!$C19:$AF19,MATCH('Bilan médicamenteux'!$AG19,'Bilan médicamenteux'!$C$12:$AF$12,0)+4)),"") | N19: =IF(AND(A19="",H19=""),"",IF(AND(A19=H19,B19=I19,C19=J19,D19=K19,E19=L19,F19=M19),"Non","Oui"))
A20: =IF(OR('Bilan médicamenteux'!$AG20="",'Bilan médicamenteux'!$AG20="Ne pas inclure"),"",IF('Bilan médicamenteux'!$A20="","",'Bilan médicamenteux'!$A20)) | B20: =IFERROR(IF(INDEX('Bilan médicamenteux'!$C20:$AF20,MATCH('Bilan médicamenteux'!$AG20,'Bilan médicamenteux'!$C$12:$AF$12,0))="","",INDEX('Bilan médicamenteux'!$C20:$AF20,MATCH('Bilan médicamenteux'!$AG20,'Bilan médicamenteux'!$C$12:$AF$12,0))),"") | C20: =IFERROR(IF(INDEX('Bilan médicamenteux'!$C20:$AF20,MATCH('Bilan médicamenteux'!$AG20,'Bilan médicamenteux'!$C$12:$AF$12,0)+1)="","",INDEX('Bilan médicamenteux'!$C20:$AF20,MATCH('Bilan médicamenteux'!$AG20,'Bilan médicamenteux'!$C$12:$AF$12,0)+1)),"") | D20: =IFERROR(IF(INDEX('Bilan médicamenteux'!$C20:$AF20,MATCH('Bilan médicamenteux'!$AG20,'Bilan médicamenteux'!$C$12:$AF$12,0)+2)="","",INDEX('Bilan médicamenteux'!$C20:$AF20,MATCH('Bilan médicamenteux'!$AG20,'Bilan médicamenteux'!$C$12:$AF$12,0)+2)),"") | E20: =IFERROR(IF(INDEX('Bilan médicamenteux'!$C20:$AF20,MATCH('Bilan médicamenteux'!$AG20,'Bilan médicamenteux'!$C$12:$AF$12,0)+3)="","",INDEX('Bilan médicamenteux'!$C20:$AF20,MATCH('Bilan médicamenteux'!$AG20,'Bilan médicamenteux'!$C$12:$AF$12,0)+3)),"") | F20: =IFERROR(IF(INDEX('Bilan médicamenteux'!$C20:$AF20,MATCH('Bilan médicamenteux'!$AG20,'Bilan médicamenteux'!$C$12:$AF$12,0)+4)="","",INDEX('Bilan médicamenteux'!$C20:$AF20,MATCH('Bilan médicamenteux'!$AG20,'Bilan médicamenteux'!$C$12:$AF$12,0)+4)),"") | N20: =IF(AND(A20="",H20=""),"",IF(AND(A20=H20,B20=I20,C20=J20,D20=K20,E20=L20,F20=M20),"Non","Oui"))
A21: =IF(OR('Bilan médicamenteux'!$AG21="",'Bilan médicamenteux'!$AG21="Ne pas inclure"),"",IF('Bilan médicamenteux'!$A21="","",'Bilan médicamenteux'!$A21)) | B21: =IFERROR(IF(INDEX('Bilan médicamenteux'!$C21:$AF21,MATCH('Bilan médicamenteux'!$AG21,'Bilan médicamenteux'!$C$12:$AF$12,0))="","",INDEX('Bilan médicamenteux'!$C21:$AF21,MATCH('Bilan médicamenteux'!$AG21,'Bilan médicamenteux'!$C$12:$AF$12,0))),"") | C21: =IFERROR(IF(INDEX('Bilan médicamenteux'!$C21:$AF21,MATCH('Bilan médicamenteux'!$AG21,'Bilan médicamenteux'!$C$12:$AF$12,0)+1)="","",INDEX('Bilan médicamenteux'!$C21:$AF21,MATCH('Bilan médicamenteux'!$AG21,'Bilan médicamenteux'!$C$12:$AF$12,0)+1)),"") | D21: =IFERROR(IF(INDEX('Bilan médicamenteux'!$C21:$AF21,MATCH('Bilan médicamenteux'!$AG21,'Bilan médicamenteux'!$C$12:$AF$12,0)+2)="","",INDEX('Bilan médicamenteux'!$C21:$AF21,MATCH('Bilan médicamenteux'!$AG21,'Bilan médicamenteux'!$C$12:$AF$12,0)+2)),"") | E21: =IFERROR(IF(INDEX('Bilan médicamenteux'!$C21:$AF21,MATCH('Bilan médicamenteux'!$AG21,'Bilan médicamenteux'!$C$12:$AF$12,0)+3)="","",INDEX('Bilan médicamenteux'!$C21:$AF21,MATCH('Bilan médicamenteux'!$AG21,'Bilan médicamenteux'!$C$12:$AF$12,0)+3)),"") | F21: =IFERROR(IF(INDEX('Bilan médicamenteux'!$C21:$AF21,MATCH('Bilan médicamenteux'!$AG21,'Bilan médicamenteux'!$C$12:$AF$12,0)+4)="","",INDEX('Bilan médicamenteux'!$C21:$AF21,MATCH('Bilan médicamenteux'!$AG21,'Bilan médicamenteux'!$C$12:$AF$12,0)+4)),"") | N21: =IF(AND(A21="",H21=""),"",IF(AND(A21=H21,B21=I21,C21=J21,D21=K21,E21=L21,F21=M21),"Non","Oui"))
A22: =IF(OR('Bilan médicamenteux'!$AG22="",'Bilan médicamenteux'!$AG22="Ne pas inclure"),"",IF('Bilan médicamenteux'!$A22="","",'Bilan médicamenteux'!$A22)) | B22: =IFERROR(IF(INDEX('Bilan médicamenteux'!$C22:$AF22,MATCH('Bilan médicamenteux'!$AG22,'Bilan médicamenteux'!$C$12:$AF$12,0))="","",INDEX('Bilan médicamenteux'!$C22:$AF22,MATCH('Bilan médicamenteux'!$AG22,'Bilan médicamenteux'!$C$12:$AF$12,0))),"") | C22: =IFERROR(IF(INDEX('Bilan médicamenteux'!$C22:$AF22,MATCH('Bilan médicamenteux'!$AG22,'Bilan médicamenteux'!$C$12:$AF$12,0)+1)="","",INDEX('Bilan médicamenteux'!$C22:$AF22,MATCH('Bilan médicamenteux'!$AG22,'Bilan médicamenteux'!$C$12:$AF$12,0)+1)),"") | D22: =IFERROR(IF(INDEX('Bilan médicamenteux'!$C22:$AF22,MATCH('Bilan médicamenteux'!$AG22,'Bilan médicamenteux'!$C$12:$AF$12,0)+2)="","",INDEX('Bilan médicamenteux'!$C22:$AF22,MATCH('Bilan médicamenteux'!$AG22,'Bilan médicamenteux'!$C$12:$AF$12,0)+2)),"") | E22: =IFERROR(IF(INDEX('Bilan médicamenteux'!$C22:$AF22,MATCH('Bilan médicamenteux'!$AG22,'Bilan médicamenteux'!$C$12:$AF$12,0)+3)="","",INDEX('Bilan médicamenteux'!$C22:$AF22,MATCH('Bilan médicamenteux'!$AG22,'Bilan médicamenteux'!$C$12:$AF$12,0)+3)),"") | F22: =IFERROR(IF(INDEX('Bilan médicamenteux'!$C22:$AF22,MATCH('Bilan médicamenteux'!$AG22,'Bilan médicamenteux'!$C$12:$AF$12,0)+4)="","",INDEX('Bilan médicamenteux'!$C22:$AF22,MATCH('Bilan médicamenteux'!$AG22,'Bilan médicamenteux'!$C$12:$AF$12,0)+4)),"") | N22: =IF(AND(A22="",H22=""),"",IF(AND(A22=H22,B22=I22,C22=J22,D22=K22,E22=L22,F22=M22),"Non","Oui"))
A23: =IF(OR('Bilan médicamenteux'!$AG23="",'Bilan médicamenteux'!$AG23="Ne pas inclure"),"",IF('Bilan médicamenteux'!$A23="","",'Bilan médicamenteux'!$A23)) | B23: =IFERROR(IF(INDEX('Bilan médicamenteux'!$C23:$AF23,MATCH('Bilan médicamenteux'!$AG23,'Bilan médicamenteux'!$C$12:$AF$12,0))="","",INDEX('Bilan médicamenteux'!$C23:$AF23,MATCH('Bilan médicamenteux'!$AG23,'Bilan médicamenteux'!$C$12:$AF$12,0))),"") | C23: =IFERROR(IF(INDEX('Bilan médicamenteux'!$C23:$AF23,MATCH('Bilan médicamenteux'!$AG23,'Bilan médicamenteux'!$C$12:$AF$12,0)+1)="","",INDEX('Bilan médicamenteux'!$C23:$AF23,MATCH('Bilan médicamenteux'!$AG23,'Bilan médicamenteux'!$C$12:$AF$12,0)+1)),"") | D23: =IFERROR(IF(INDEX('Bilan médicamenteux'!$C23:$AF23,MATCH('Bilan médicamenteux'!$AG23,'Bilan médicamenteux'!$C$12:$AF$12,0)+2)="","",INDEX('Bilan médicamenteux'!$C23:$AF23,MATCH('Bilan médicamenteux'!$AG23,'Bilan médicamenteux'!$C$12:$AF$12,0)+2)),"") | E23: =IFERROR(IF(INDEX('Bilan médicamenteux'!$C23:$AF23,MATCH('Bilan médicamenteux'!$AG23,'Bilan médicamenteux'!$C$12:$AF$12,0)+3)="","",INDEX('Bilan médicamenteux'!$C23:$AF23,MATCH('Bilan médicamenteux'!$AG23,'Bilan médicamenteux'!$C$12:$AF$12,0)+3)),"") | F23: =IFERROR(IF(INDEX('Bilan médicamenteux'!$C23:$AF23,MATCH('Bilan médicamenteux'!$AG23,'Bilan médicamenteux'!$C$12:$AF$12,0)+4)="","",INDEX('Bilan médicamenteux'!$C23:$AF23,MATCH('Bilan médicamenteux'!$AG23,'Bilan médicamenteux'!$C$12:$AF$12,0)+4)),"") | N23: =IF(AND(A23="",H23=""),"",IF(AND(A23=H23,B23=I23,C23=J23,D23=K23,E23=L23,F23=M23),"Non","Oui"))
A24: =IF(OR('Bilan médicamenteux'!$AG24="",'Bilan médicamenteux'!$AG24="Ne pas inclure"),"",IF('Bilan médicamenteux'!$A24="","",'Bilan médicamenteux'!$A24)) | B24: =IFERROR(IF(INDEX('Bilan médicamenteux'!$C24:$AF24,MATCH('Bilan médicamenteux'!$AG24,'Bilan médicamenteux'!$C$12:$AF$12,0))="","",INDEX('Bilan médicamenteux'!$C24:$AF24,MATCH('Bilan médicamenteux'!$AG24,'Bilan médicamenteux'!$C$12:$AF$12,0))),"") | C24: =IFERROR(IF(INDEX('Bilan médicamenteux'!$C24:$AF24,MATCH('Bilan médicamenteux'!$AG24,'Bilan médicamenteux'!$C$12:$AF$12,0)+1)="","",INDEX('Bilan médicamenteux'!$C24:$AF24,MATCH('Bilan médicamenteux'!$AG24,'Bilan médicamenteux'!$C$12:$AF$12,0)+1)),"") | D24: =IFERROR(IF(INDEX('Bilan médicamenteux'!$C24:$AF24,MATCH('Bilan médicamenteux'!$AG24,'Bilan médicamenteux'!$C$12:$AF$12,0)+2)="","",INDEX('Bilan médicamenteux'!$C24:$AF24,MATCH('Bilan médicamenteux'!$AG24,'Bilan médicamenteux'!$C$12:$AF$12,0)+2)),"") | E24: =IFERROR(IF(INDEX('Bilan médicamenteux'!$C24:$AF24,MATCH('Bilan médicamenteux'!$AG24,'Bilan médicamenteux'!$C$12:$AF$12,0)+3)="","",INDEX('Bilan médicamenteux'!$C24:$AF24,MATCH('Bilan médicamenteux'!$AG24,'Bilan médicamenteux'!$C$12:$AF$12,0)+3)),"") | F24: =IFERROR(IF(INDEX('Bilan médicamenteux'!$C24:$AF24,MATCH('Bilan médicamenteux'!$AG24,'Bilan médicamenteux'!$C$12:$AF$12,0)+4)="","",INDEX('Bilan médicamenteux'!$C24:$AF24,MATCH('Bilan médicamenteux'!$AG24,'Bilan médicamenteux'!$C$12:$AF$12,0)+4)),"") | N24: =IF(AND(A24="",H24=""),"",IF(AND(A24=H24,B24=I24,C24=J24,D24=K24,E24=L24,F24=M24),"Non","Oui"))
A25: =IF(OR('Bilan médicamenteux'!$AG25="",'Bilan médicamenteux'!$AG25="Ne pas inclure"),"",IF('Bilan médicamenteux'!$A25="","",'Bilan médicamenteux'!$A25)) | B25: =IFERROR(IF(INDEX('Bilan médicamenteux'!$C25:$AF25,MATCH('Bilan médicamenteux'!$AG25,'Bilan médicamenteux'!$C$12:$AF$12,0))="","",INDEX('Bilan médicamenteux'!$C25:$AF25,MATCH('Bilan médicamenteux'!$AG25,'Bilan médicamenteux'!$C$12:$AF$12,0))),"") | C25: =IFERROR(IF(INDEX('Bilan médicamenteux'!$C25:$AF25,MATCH('Bilan médicamenteux'!$AG25,'Bilan médicamenteux'!$C$12:$AF$12,0)+1)="","",INDEX('Bilan médicamenteux'!$C25:$AF25,MATCH('Bilan médicamenteux'!$AG25,'Bilan médicamenteux'!$C$12:$AF$12,0)+1)),"") | D25: =IFERROR(IF(INDEX('Bilan médicamenteux'!$C25:$AF25,MATCH('Bilan médicamenteux'!$AG25,'Bilan médicamenteux'!$C$12:$AF$12,0)+2)="","",INDEX('Bilan médicamenteux'!$C25:$AF25,MATCH('Bilan médicamenteux'!$AG25,'Bilan médicamenteux'!$C$12:$AF$12,0)+2)),"") | E25: =IFERROR(IF(INDEX('Bilan médicamenteux'!$C25:$AF25,MATCH('Bilan médicamenteux'!$AG25,'Bilan médicamenteux'!$C$12:$AF$12,0)+3)="","",INDEX('Bilan médicamenteux'!$C25:$AF25,MATCH('Bilan médicamenteux'!$AG25,'Bilan médicamenteux'!$C$12:$AF$12,0)+3)),"") | F25: =IFERROR(IF(INDEX('Bilan médicamenteux'!$C25:$AF25,MATCH('Bilan médicamenteux'!$AG25,'Bilan médicamenteux'!$C$12:$AF$12,0)+4)="","",INDEX('Bilan médicamenteux'!$C25:$AF25,MATCH('Bilan médicamenteux'!$AG25,'Bilan médicamenteux'!$C$12:$AF$12,0)+4)),"") | N25: =IF(AND(A25="",H25=""),"",IF(AND(A25=H25,B25=I25,C25=J25,D25=K25,E25=L25,F25=M25),"Non","Oui"))
A26: =IF(OR('Bilan médicamenteux'!$AG26="",'Bilan médicamenteux'!$AG26="Ne pas inclure"),"",IF('Bilan médicamenteux'!$A26="","",'Bilan médicamenteux'!$A26)) | B26: =IFERROR(IF(INDEX('Bilan médicamenteux'!$C26:$AF26,MATCH('Bilan médicamenteux'!$AG26,'Bilan médicamenteux'!$C$12:$AF$12,0))="","",INDEX('Bilan médicamenteux'!$C26:$AF26,MATCH('Bilan médicamenteux'!$AG26,'Bilan médicamenteux'!$C$12:$AF$12,0))),"") | C26: =IFERROR(IF(INDEX('Bilan médicamenteux'!$C26:$AF26,MATCH('Bilan médicamenteux'!$AG26,'Bilan médicamenteux'!$C$12:$AF$12,0)+1)="","",INDEX('Bilan médicamenteux'!$C26:$AF26,MATCH('Bilan médicamenteux'!$AG26,'Bilan médicamenteux'!$C$12:$AF$12,0)+1)),"") | D26: =IFERROR(IF(INDEX('Bilan médicamenteux'!$C26:$AF26,MATCH('Bilan médicamenteux'!$AG26,'Bilan médicamenteux'!$C$12:$AF$12,0)+2)="","",INDEX('Bilan médicamenteux'!$C26:$AF26,MATCH('Bilan médicamenteux'!$AG26,'Bilan médicamenteux'!$C$12:$AF$12,0)+2)),"") | E26: =IFERROR(IF(INDEX('Bilan médicamenteux'!$C26:$AF26,MATCH('Bilan médicamenteux'!$AG26,'Bilan médicamenteux'!$C$12:$AF$12,0)+3)="","",INDEX('Bilan médicamenteux'!$C26:$AF26,MATCH('Bilan médicamenteux'!$AG26,'Bilan médicamenteux'!$C$12:$AF$12,0)+3)),"") | F26: =IFERROR(IF(INDEX('Bilan médicamenteux'!$C26:$AF26,MATCH('Bilan médicamenteux'!$AG26,'Bilan médicamenteux'!$C$12:$AF$12,0)+4)="","",INDEX('Bilan médicamenteux'!$C26:$AF26,MATCH('Bilan médicamenteux'!$AG26,'Bilan médicamenteux'!$C$12:$AF$12,0)+4)),"") | N26: =IF(AND(A26="",H26=""),"",IF(AND(A26=H26,B26=I26,C26=J26,D26=K26,E26=L26,F26=M26),"Non","Oui"))
A27: =IF(OR('Bilan médicamenteux'!$AG27="",'Bilan médicamenteux'!$AG27="Ne pas inclure"),"",IF('Bilan médicamenteux'!$A27="","",'Bilan médicamenteux'!$A27)) | B27: =IFERROR(IF(INDEX('Bilan médicamenteux'!$C27:$AF27,MATCH('Bilan médicamenteux'!$AG27,'Bilan médicamenteux'!$C$12:$AF$12,0))="","",INDEX('Bilan médicamenteux'!$C27:$AF27,MATCH('Bilan médicamenteux'!$AG27,'Bilan médicamenteux'!$C$12:$AF$12,0))),"") | C27: =IFERROR(IF(INDEX('Bilan médicamenteux'!$C27:$AF27,MATCH('Bilan médicamenteux'!$AG27,'Bilan médicamenteux'!$C$12:$AF$12,0)+1)="","",INDEX('Bilan médicamenteux'!$C27:$AF27,MATCH('Bilan médicamenteux'!$AG27,'Bilan médicamenteux'!$C$12:$AF$12,0)+1)),"") | D27: =IFERROR(IF(INDEX('Bilan médicamenteux'!$C27:$AF27,MATCH('Bilan médicamenteux'!$AG27,'Bilan médicamenteux'!$C$12:$AF$12,0)+2)="","",INDEX('Bilan médicamenteux'!$C27:$AF27,MATCH('Bilan médicamenteux'!$AG27,'Bilan médicamenteux'!$C$12:$AF$12,0)+2)),"") | E27: =IFERROR(IF(INDEX('Bilan médicamenteux'!$C27:$AF27,MATCH('Bilan médicamenteux'!$AG27,'Bilan médicamenteux'!$C$12:$AF$12,0)+3)="","",INDEX('Bilan médicamenteux'!$C27:$AF27,MATCH('Bilan médicamenteux'!$AG27,'Bilan médicamenteux'!$C$12:$AF$12,0)+3)),"") | F27: =IFERROR(IF(INDEX('Bilan médicamenteux'!$C27:$AF27,MATCH('Bilan médicamenteux'!$AG27,'Bilan médicamenteux'!$C$12:$AF$12,0)+4)="","",INDEX('Bilan médicamenteux'!$C27:$AF27,MATCH('Bilan médicamenteux'!$AG27,'Bilan médicamenteux'!$C$12:$AF$12,0)+4)),"") | N27: =IF(AND(A27="",H27=""),"",IF(AND(A27=H27,B27=I27,C27=J27,D27=K27,E27=L27,F27=M27),"Non","Oui"))
A28: =IF(OR('Bilan médicamenteux'!$AG28="",'Bilan médicamenteux'!$AG28="Ne pas inclure"),"",IF('Bilan médicamenteux'!$A28="","",'Bilan médicamenteux'!$A28)) | B28: =IFERROR(IF(INDEX('Bilan médicamenteux'!$C28:$AF28,MATCH('Bilan médicamenteux'!$AG28,'Bilan médicamenteux'!$C$12:$AF$12,0))="","",INDEX('Bilan médicamenteux'!$C28:$AF28,MATCH('Bilan médicamenteux'!$AG28,'Bilan médicamenteux'!$C$12:$AF$12,0))),"") | C28: =IFERROR(IF(INDEX('Bilan médicamenteux'!$C28:$AF28,MATCH('Bilan médicamenteux'!$AG28,'Bilan médicamenteux'!$C$12:$AF$12,0)+1)="","",INDEX('Bilan médicamenteux'!$C28:$AF28,MATCH('Bilan médicamenteux'!$AG28,'Bilan médicamenteux'!$C$12:$AF$12,0)+1)),"") | D28: =IFERROR(IF(INDEX('Bilan médicamenteux'!$C28:$AF28,MATCH('Bilan médicamenteux'!$AG28,'Bilan médicamenteux'!$C$12:$AF$12,0)+2)="","",INDEX('Bilan médicamenteux'!$C28:$AF28,MATCH('Bilan médicamenteux'!$AG28,'Bilan médicamenteux'!$C$12:$AF$12,0)+2)),"") | E28: =IFERROR(IF(INDEX('Bilan médicamenteux'!$C28:$AF28,MATCH('Bilan médicamenteux'!$AG28,'Bilan médicamenteux'!$C$12:$AF$12,0)+3)="","",INDEX('Bilan médicamenteux'!$C28:$AF28,MATCH('Bilan médicamenteux'!$AG28,'Bilan médicamenteux'!$C$12:$AF$12,0)+3)),"") | F28: =IFERROR(IF(INDEX('Bilan médicamenteux'!$C28:$AF28,MATCH('Bilan médicamenteux'!$AG28,'Bilan médicamenteux'!$C$12:$AF$12,0)+4)="","",INDEX('Bilan médicamenteux'!$C28:$AF28,MATCH('Bilan médicamenteux'!$AG28,'Bilan médicamenteux'!$C$12:$AF$12,0)+4)),"") | N28: =IF(AND(A28="",H28=""),"",IF(AND(A28=H28,B28=I28,C28=J28,D28=K28,E28=L28,F28=M28),"Non","Oui"))
A29: =IF(OR('Bilan médicamenteux'!$AG35="",'Bilan médicamenteux'!$AG35="Ne pas inclure"),"",IF('Bilan médicamenteux'!$A35="","",'Bilan médicamenteux'!$A35)) | B29: =IFERROR(IF(INDEX('Bilan médicamenteux'!$C35:$AF35,MATCH('Bilan médicamenteux'!$AG35,'Bilan médicamenteux'!$C$12:$AF$12,0))="","",INDEX('Bilan médicamenteux'!$C35:$AF35,MATCH('Bilan médicamenteux'!$AG35,'Bilan médicamenteux'!$C$12:$AF$12,0))),"") | C29: =IFERROR(IF(INDEX('Bilan médicamenteux'!$C35:$AF35,MATCH('Bilan médicamenteux'!$AG35,'Bilan médicamenteux'!$C$12:$AF$12,0)+1)="","",INDEX('Bilan médicamenteux'!$C35:$AF35,MATCH('Bilan médicamenteux'!$AG35,'Bilan médicamenteux'!$C$12:$AF$12,0)+1)),"") | D29: =IFERROR(IF(INDEX('Bilan médicamenteux'!$C35:$AF35,MATCH('Bilan médicamenteux'!$AG35,'Bilan médicamenteux'!$C$12:$AF$12,0)+2)="","",INDEX('Bilan médicamenteux'!$C35:$AF35,MATCH('Bilan médicamenteux'!$AG35,'Bilan médicamenteux'!$C$12:$AF$12,0)+2)),"") | E29: =IFERROR(IF(INDEX('Bilan médicamenteux'!$C35:$AF35,MATCH('Bilan médicamenteux'!$AG35,'Bilan médicamenteux'!$C$12:$AF$12,0)+3)="","",INDEX('Bilan médicamenteux'!$C35:$AF35,MATCH('Bilan médicamenteux'!$AG35,'Bilan médicamenteux'!$C$12:$AF$12,0)+3)),"") | F29: =IFERROR(IF(INDEX('Bilan médicamenteux'!$C35:$AF35,MATCH('Bilan médicamenteux'!$AG35,'Bilan médicamenteux'!$C$12:$AF$12,0)+4)="","",INDEX('Bilan médicamenteux'!$C35:$AF35,MATCH('Bilan médicamenteux'!$AG35,'Bilan médicamenteux'!$C$12:$AF$12,0)+4)),"") | N29: =IF(AND(A29="",H29=""),"",IF(AND(A29=H29,B29=I29,C29=J29,D29=K29,E29=L29,F29=M29),"Non","Oui"))
A30: =IF(OR('Bilan médicamenteux'!$AG36="",'Bilan médicamenteux'!$AG36="Ne pas inclure"),"",IF('Bilan médicamenteux'!$A36="","",'Bilan médicamenteux'!$A36)) | B30: =IFERROR(IF(INDEX('Bilan médicamenteux'!$C36:$AF36,MATCH('Bilan médicamenteux'!$AG36,'Bilan médicamenteux'!$C$12:$AF$12,0))="","",INDEX('Bilan médicamenteux'!$C36:$AF36,MATCH('Bilan médicamenteux'!$AG36,'Bilan médicamenteux'!$C$12:$AF$12,0))),"") | C30: =IFERROR(IF(INDEX('Bilan médicamenteux'!$C36:$AF36,MATCH('Bilan médicamenteux'!$AG36,'Bilan médicamenteux'!$C$12:$AF$12,0)+1)="","",INDEX('Bilan médicamenteux'!$C36:$AF36,MATCH('Bilan médicamenteux'!$AG36,'Bilan médicamenteux'!$C$12:$AF$12,0)+1)),"") | D30: =IFERROR(IF(INDEX('Bilan médicamenteux'!$C36:$AF36,MATCH('Bilan médicamenteux'!$AG36,'Bilan médicamenteux'!$C$12:$AF$12,0)+2)="","",INDEX('Bilan médicamenteux'!$C36:$AF36,MATCH('Bilan médicamenteux'!$AG36,'Bilan médicamenteux'!$C$12:$AF$12,0)+2)),"") | E30: =IFERROR(IF(INDEX('Bilan médicamenteux'!$C36:$AF36,MATCH('Bilan médicamenteux'!$AG36,'Bilan médicamenteux'!$C$12:$AF$12,0)+3)="","",INDEX('Bilan médicamenteux'!$C36:$AF36,MATCH('Bilan médicamenteux'!$AG36,'Bilan médicamenteux'!$C$12:$AF$12,0)+3)),"") | F30: =IFERROR(IF(INDEX('Bilan médicamenteux'!$C36:$AF36,MATCH('Bilan médicamenteux'!$AG36,'Bilan médicamenteux'!$C$12:$AF$12,0)+4)="","",INDEX('Bilan médicamenteux'!$C36:$AF36,MATCH('Bilan médicamenteux'!$AG36,'Bilan médicamenteux'!$C$12:$AF$12,0)+4)),"") | N30: =IF(AND(A30="",H30=""),"",IF(AND(A30=H30,B30=I30,C30=J30,D30=K30,E30=L30,F30=M30),"Non","Oui"))
A31: =IF(OR('Bilan médicamenteux'!$AG37="",'Bilan médicamenteux'!$AG37="Ne pas inclure"),"",IF('Bilan médicamenteux'!$A37="","",'Bilan médicamenteux'!$A37)) | B31: =IFERROR(IF(INDEX('Bilan médicamenteux'!$C37:$AF37,MATCH('Bilan médicamenteux'!$AG37,'Bilan médicamenteux'!$C$12:$AF$12,0))="","",INDEX('Bilan médicamenteux'!$C37:$AF37,MATCH('Bilan médicamenteux'!$AG37,'Bilan médicamenteux'!$C$12:$AF$12,0))),"") | C31: =IFERROR(IF(INDEX('Bilan médicamenteux'!$C37:$AF37,MATCH('Bilan médicamenteux'!$AG37,'Bilan médicamenteux'!$C$12:$AF$12,0)+1)="","",INDEX('Bilan médicamenteux'!$C37:$AF37,MATCH('Bilan médicamenteux'!$AG37,'Bilan médicamenteux'!$C$12:$AF$12,0)+1)),"") | D31: =IFERROR(IF(INDEX('Bilan médicamenteux'!$C37:$AF37,MATCH('Bilan médicamenteux'!$AG37,'Bilan médicamenteux'!$C$12:$AF$12,0)+2)="","",INDEX('Bilan médicamenteux'!$C37:$AF37,MATCH('Bilan médicamenteux'!$AG37,'Bilan médicamenteux'!$C$12:$AF$12,0)+2)),"") | E31: =IFERROR(IF(INDEX('Bilan médicamenteux'!$C37:$AF37,MATCH('Bilan médicamenteux'!$AG37,'Bilan médicamenteux'!$C$12:$AF$12,0)+3)="","",INDEX('Bilan médicamenteux'!$C37:$AF37,MATCH('Bilan médicamenteux'!$AG37,'Bilan médicamenteux'!$C$12:$AF$12,0)+3)),"") | F31: =IFERROR(IF(INDEX('Bilan médicamenteux'!$C37:$AF37,MATCH('Bilan médicamenteux'!$AG37,'Bilan médicamenteux'!$C$12:$AF$12,0)+4)="","",INDEX('Bilan médicamenteux'!$C37:$AF37,MATCH('Bilan médicamenteux'!$AG37,'Bilan médicamenteux'!$C$12:$AF$12,0)+4)),"") | N31: =IF(AND(A31="",H31=""),"",IF(AND(A31=H31,B31=I31,C31=J31,D31=K31,E31=L31,F31=M31),"Non","Oui"))
A32: Sources d'information consultées | N32: Nom & signature pharmacien :
A33: {=IF('Bilan médicamenteux'!C12:C12="","",'Bilan médicamenteux'!C12:C12)} | B33: {=IF('Bilan médicamenteux'!H12:H12="","",'Bilan médicamenteux'!H12:H12)} | G33: =IF('Bilan médicamenteux'!M12="","",'Bilan médicamenteux'!M12) | H33: =IF('Bilan médicamenteux'!R12="","",'Bilan médicamenteux'!R12) | I33: =IF('Bilan médicamenteux'!W12="","",'Bilan médicamenteux'!W12)
A34: {=IF('Bilan médicamenteux'!AB12:AB12="","",'Bilan médicamenteux'!AB12:AB12)} | B34: =IF('Bilan médicamenteux'!AP12="","",'Bilan médicamenteux'!AP12) | G34: =IF('Bilan médicamenteux'!AU12="","",'Bilan médicamenteux'!AU12) | H34: =IF('Bilan médicamenteux'!AZ12="","",'Bilan médicamenteux'!AZ12) | I34: =IF('Bilan médicamenteux'!BE12="","",'Bilan médicamenteux'!BE12) | N34: Nom & signature prescripteur :
A35: =IF('Bilan médicamenteux'!BJ12="","",'Bilan médicamenteux'!BJ12) | B35: =IF('Bilan médicamenteux'!BO12="","",'Bilan médicamenteux'!BO12) | G35: =IF('Bilan médicamenteux'!BT12="","",'Bilan médicamenteux'!BT12)
A36: Commentaires :
A37: Bilan médicamenteux | G37: Statut AJ : ajout AR: arrêt E : équivalent M: modifié P: poursuivi S: suspendu | H37: Ordonnance du | I37: =I13 -> [à compléter] | N37: Existence d’une divergence | O37: Divergence Intentionnelle (DI) ou Divergence Non Intentionnelle (DNI) | Q37: Décision médicale pour les DNI | R37: Commentaires
A38: Nom/dosage/forme | B38: Forme & Voie | C38: Posologie/voie | H38: Nom/dosage/forme | I38: Forme & Voie | J38: Posologie/voie
C39: M | D39: M | E39: S | F39: N | J39: M | K39: M | L39: S | M39: N
A40: =IF(OR('Bilan médicamenteux'!$AG38="",'Bilan médicamenteux'!$AG38="Ne pas inclure"),"",IF('Bilan médicamenteux'!$A38="","",'Bilan médicamenteux'!$A38)) | B40: =IFERROR(IF(INDEX('Bilan médicamenteux'!$C38:$AF38,MATCH('Bilan médicamenteux'!$AG38,'Bilan médicamenteux'!$C$12:$AF$12,0))="","",INDEX('Bilan médicamenteux'!$C38:$AF38,MATCH('Bilan médicamenteux'!$AG38,'Bilan médicamenteux'!$C$12:$AF$12,0))),"") | C40: =IFERROR(IF(INDEX('Bilan médicamenteux'!$C38:$AF38,MATCH('Bilan médicamenteux'!$AG38,'Bilan médicamenteux'!$C$12:$AF$12,0)+1)="","",INDEX('Bilan médicamenteux'!$C38:$AF38,MATCH('Bilan médicamenteux'!$AG38,'Bilan médicamenteux'!$C$12:$AF$12,0)+1)),"") | D40: =IFERROR(IF(INDEX('Bilan médicamenteux'!$C38:$AF38,MATCH('Bilan médicamenteux'!$AG38,'Bilan médicamenteux'!$C$12:$AF$12,0)+2)="","",INDEX('Bilan médicamenteux'!$C38:$AF38,MATCH('Bilan médicamenteux'!$AG38,'Bilan médicamenteux'!$C$12:$AF$12,0)+2)),"") | E40: =IFERROR(IF(INDEX('Bilan médicamenteux'!$C38:$AF38,MATCH('Bilan médicamenteux'!$AG38,'Bilan médicamenteux'!$C$12:$AF$12,0)+3)="","",INDEX('Bilan médicamenteux'!$C38:$AF38,MATCH('Bilan médicamenteux'!$AG38,'Bilan médicamenteux'!$C$12:$AF$12,0)+3)),"") | F40: =IFERROR(IF(INDEX('Bilan médicamenteux'!$C38:$AF38,MATCH('Bilan médicamenteux'!$AG38,'Bilan médicamenteux'!$C$12:$AF$12,0)+4)="","",INDEX('Bilan médicamenteux'!$C38:$AF38,MATCH('Bilan médicamenteux'!$AG38,'Bilan médicamenteux'!$C$12:$AF$12,0)+4)),"") | N40: =IF(AND(A40="",H40=""),"",IF(AND(A40=H40,B40=I40,C40=J40,D40=K40,E40=L40,F40=M40),"Non","Oui"))
A41: =IF(OR('Bilan médicamenteux'!$AG39="",'Bilan médicamenteux'!$AG39="Ne pas inclure"),"",IF('Bilan médicamenteux'!$A39="","",'Bilan médicamenteux'!$A39)) | B41: =IFERROR(IF(INDEX('Bilan médicamenteux'!$C39:$AF39,MATCH('Bilan médicamenteux'!$AG39,'Bilan médicamenteux'!$C$12:$AF$12,0))="","",INDEX('Bilan médicamenteux'!$C39:$AF39,MATCH('Bilan médicamenteux'!$AG39,'Bilan médicamenteux'!$C$12:$AF$12,0))),"") | C41: =IFERROR(IF(INDEX('Bilan médicamenteux'!$C39:$AF39,MATCH('Bilan médicamenteux'!$AG39,'Bilan médicamenteux'!$C$12:$AF$12,0)+1)="","",INDEX('Bilan médicamenteux'!$C39:$AF39,MATCH('Bilan médicamenteux'!$AG39,'Bilan médicamenteux'!$C$12:$AF$12,0)+1)),"") | D41: =IFERROR(IF(INDEX('Bilan médicamenteux'!$C39:$AF39,MATCH('Bilan médicamenteux'!$AG39,'Bilan médicamenteux'!$C$12:$AF$12,0)+2)="","",INDEX('Bilan médicamenteux'!$C39:$AF39,MATCH('Bilan médicamenteux'!$AG39,'Bilan médicamenteux'!$C$12:$AF$12,0)+2)),"") | E41: =IFERROR(IF(INDEX('Bilan médicamenteux'!$C39:$AF39,MATCH('Bilan médicamenteux'!$AG39,'Bilan médicamenteux'!$C$12:$AF$12,0)+3)="","",INDEX('Bilan médicamenteux'!$C39:$AF39,MATCH('Bilan médicamenteux'!$AG39,'Bilan médicamenteux'!$C$12:$AF$12,0)+3)),"") | F41: =IFERROR(IF(INDEX('Bilan médicamenteux'!$C39:$AF39,MATCH('Bilan médicamenteux'!$AG39,'Bilan médicamenteux'!$C$12:$AF$12,0)+4)="","",INDEX('Bilan médicamenteux'!$C39:$AF39,MATCH('Bilan médicamenteux'!$AG39,'Bilan médicamenteux'!$C$12:$AF$12,0)+4)),"") | N41: =IF(AND(A41="",H41=""),"",IF(AND(A41=H41,B41=I41,C41=J41,D41=K41,E41=L41,F41=M41),"Non","Oui"))
A42: =IF(OR('Bilan médicamenteux'!$AG40="",'Bilan médicamenteux'!$AG40="Ne pas inclure"),"",IF('Bilan médicamenteux'!$A40="","",'Bilan médicamenteux'!$A40)) | B42: =IFERROR(IF(INDEX('Bilan médicamenteux'!$C40:$AF40,MATCH('Bilan médicamenteux'!$AG40,'Bilan médicamenteux'!$C$12:$AF$12,0))="","",INDEX('Bilan médicamenteux'!$C40:$AF40,MATCH('Bilan médicamenteux'!$AG40,'Bilan médicamenteux'!$C$12:$AF$12,0))),"") | C42: =IFERROR(IF(INDEX('Bilan médicamenteux'!$C40:$AF40,MATCH('Bilan médicamenteux'!$AG40,'Bilan médicamenteux'!$C$12:$AF$12,0)+1)="","",INDEX('Bilan médicamenteux'!$C40:$AF40,MATCH('Bilan médicamenteux'!$AG40,'Bilan médicamenteux'!$C$12:$AF$12,0)+1)),"") | D42: =IFERROR(IF(INDEX('Bilan médicamenteux'!$C40:$AF40,MATCH('Bilan médicamenteux'!$AG40,'Bilan médicamenteux'!$C$12:$AF$12,0)+2)="","",INDEX('Bilan médicamenteux'!$C40:$AF40,MATCH('Bilan médicamenteux'!$AG40,'Bilan médicamenteux'!$C$12:$AF$12,0)+2)),"") | E42: =IFERROR(IF(INDEX('Bilan médicamenteux'!$C40:$AF40,MATCH('Bilan médicamenteux'!$AG40,'Bilan médicamenteux'!$C$12:$AF$12,0)+3)="","",INDEX('Bilan médicamenteux'!$C40:$AF40,MATCH('Bilan médicamenteux'!$AG40,'Bilan médicamenteux'!$C$12:$AF$12,0)+3)),"") | F42: =IFERROR(IF(INDEX('Bilan médicamenteux'!$C40:$AF40,MATCH('Bilan médicamenteux'!$AG40,'Bilan médicamenteux'!$C$12:$AF$12,0)+4)="","",INDEX('Bilan médicamenteux'!$C40:$AF40,MATCH('Bilan médicamenteux'!$AG40,'Bilan médicamenteux'!$C$12:$AF$12,0)+4)),"") | N42: =IF(AND(A42="",H42=""),"",IF(AND(A42=H42,B42=I42,C42=J42,D42=K42,E42=L42,F42=M42),"Non","Oui"))
A43: =IF(OR('Bilan médicamenteux'!$AG41="",'Bilan médicamenteux'!$AG41="Ne pas inclure"),"",IF('Bilan médicamenteux'!$A41="","",'Bilan médicamenteux'!$A41)) | B43: =IFERROR(IF(INDEX('Bilan médicamenteux'!$C41:$AF41,MATCH('Bilan médicamenteux'!$AG41,'Bilan médicamenteux'!$C$12:$AF$12,0))="","",INDEX('Bilan médicamenteux'!$C41:$AF41,MATCH('Bilan médicamenteux'!$AG41,'Bilan médicamenteux'!$C$12:$AF$12,0))),"") | C43: =IFERROR(IF(INDEX('Bilan médicamenteux'!$C41:$AF41,MATCH('Bilan médicamenteux'!$AG41,'Bilan médicamenteux'!$C$12:$AF$12,0)+1)="","",INDEX('Bilan médicamenteux'!$C41:$AF41,MATCH('Bilan médicamenteux'!$AG41,'Bilan médicamenteux'!$C$12:$AF$12,0)+1)),"") | D43: =IFERROR(IF(INDEX('Bilan médicamenteux'!$C41:$AF41,MATCH('Bilan médicamenteux'!$AG41,'Bilan médicamenteux'!$C$12:$AF$12,0)+2)="","",INDEX('Bilan médicamenteux'!$C41:$AF41,MATCH('Bilan médicamenteux'!$AG41,'Bilan médicamenteux'!$C$12:$AF$12,0)+2)),"") | E43: =IFERROR(IF(INDEX('Bilan médicamenteux'!$C41:$AF41,MATCH('Bilan médicamenteux'!$AG41,'Bilan médicamenteux'!$C$12:$AF$12,0)+3)="","",INDEX('Bilan médicamenteux'!$C41:$AF41,MATCH('Bilan médicamenteux'!$AG41,'Bilan médicamenteux'!$C$12:$AF$12,0)+3)),"") | F43: =IFERROR(IF(INDEX('Bilan médicamenteux'!$C41:$AF41,MATCH('Bilan médicamenteux'!$AG41,'Bilan médicamenteux'!$C$12:$AF$12,0)+4)="","",INDEX('Bilan médicamenteux'!$C41:$AF41,MATCH('Bilan médicamenteux'!$AG41,'Bilan médicamenteux'!$C$12:$AF$12,0)+4)),"") | N43: =IF(AND(A43="",H43=""),"",IF(AND(A43=H43,B43=I43,C43=J43,D43=K43,E43=L43,F43=M43),"Non","Oui"))
A44: =IF(OR('Bilan médicamenteux'!$AG42="",'Bilan médicamenteux'!$AG42="Ne pas inclure"),"",IF('Bilan médicamenteux'!$A42="","",'Bilan médicamenteux'!$A42)) | B44: =IFERROR(IF(INDEX('Bilan médicamenteux'!$C42:$AF42,MATCH('Bilan médicamenteux'!$AG42,'Bilan médicamenteux'!$C$12:$AF$12,0))="","",INDEX('Bilan médicamenteux'!$C42:$AF42,MATCH('Bilan médicamenteux'!$AG42,'Bilan médicamenteux'!$C$12:$AF$12,0))),"") | C44: =IFERROR(IF(INDEX('Bilan médicamenteux'!$C42:$AF42,MATCH('Bilan médicamenteux'!$AG42,'Bilan médicamenteux'!$C$12:$AF$12,0)+1)="","",INDEX('Bilan médicamenteux'!$C42:$AF42,MATCH('Bilan médicamenteux'!$AG42,'Bilan médicamenteux'!$C$12:$AF$12,0)+1)),"") | D44: =IFERROR(IF(INDEX('Bilan médicamenteux'!$C42:$AF42,MATCH('Bilan médicamenteux'!$AG42,'Bilan médicamenteux'!$C$12:$AF$12,0)+2)="","",INDEX('Bilan médicamenteux'!$C42:$AF42,MATCH('Bilan médicamenteux'!$AG42,'Bilan médicamenteux'!$C$12:$AF$12,0)+2)),"") | E44: =IFERROR(IF(INDEX('Bilan médicamenteux'!$C42:$AF42,MATCH('Bilan médicamenteux'!$AG42,'Bilan médicamenteux'!$C$12:$AF$12,0)+3)="","",INDEX('Bilan médicamenteux'!$C42:$AF42,MATCH('Bilan médicamenteux'!$AG42,'Bilan médicamenteux'!$C$12:$AF$12,0)+3)),"") | F44: =IFERROR(IF(INDEX('Bilan médicamenteux'!$C42:$AF42,MATCH('Bilan médicamenteux'!$AG42,'Bilan médicamenteux'!$C$12:$AF$12,0)+4)="","",INDEX('Bilan médicamenteux'!$C42:$AF42,MATCH('Bilan médicamenteux'!$AG42,'Bilan médicamenteux'!$C$12:$AF$12,0)+4)),"") | N44: =IF(AND(A44="",H44=""),"",IF(AND(A44=H44,B44=I44,C44=J44,D44=K44,E44=L44,F44=M44),"Non","Oui"))
A45: =IF(OR('Bilan médicamenteux'!$AG43="",'Bilan médicamenteux'!$AG43="Ne pas inclure"),"",IF('Bilan médicamenteux'!$A43="","",'Bilan médicamenteux'!$A43)) | B45: =IFERROR(IF(INDEX('Bilan médicamenteux'!$C43:$AF43,MATCH('Bilan médicamenteux'!$AG43,'Bilan médicamenteux'!$C$12:$AF$12,0))="","",INDEX('Bilan médicamenteux'!$C43:$AF43,MATCH('Bilan médicamenteux'!$AG43,'Bilan médicamenteux'!$C$12:$AF$12,0))),"") | C45: =IFERROR(IF(INDEX('Bilan médicamenteux'!$C43:$AF43,MATCH('Bilan médicamenteux'!$AG43,'Bilan médicamenteux'!$C$12:$AF$12,0)+1)="","",INDEX('Bilan médicamenteux'!$C43:$AF43,MATCH('Bilan médicamenteux'!$AG43,'Bilan médicamenteux'!$C$12:$AF$12,0)+1)),"") | D45: =IFERROR(IF(INDEX('Bilan médicamenteux'!$C43:$AF43,MATCH('Bilan médicamenteux'!$AG43,'Bilan médicamenteux'!$C$12:$AF$12,0)+2)="","",INDEX('Bilan médicamenteux'!$C43:$AF43,MATCH('Bilan médicamenteux'!$AG43,'Bilan médicamenteux'!$C$12:$AF$12,0)+2)),"") | E45: =IFERROR(IF(INDEX('Bilan médicamenteux'!$C43:$AF43,MATCH('Bilan médicamenteux'!$AG43,'Bilan médicamenteux'!$C$12:$AF$12,0)+3)="","",INDEX('Bilan médicamenteux'!$C43:$AF43,MATCH('Bilan médicamenteux'!$AG43,'Bilan médicamenteux'!$C$12:$AF$12,0)+3)),"") | F45: =IFERROR(IF(INDEX('Bilan médicamenteux'!$C43:$AF43,MATCH('Bilan médicamenteux'!$AG43,'Bilan médicamenteux'!$C$12:$AF$12,0)+4)="","",INDEX('Bilan médicamenteux'!$C43:$AF43,MATCH('Bilan médicamenteux'!$AG43,'Bilan médicamenteux'!$C$12:$AF$12,0)+4)),"") | N45: =IF(AND(A45="",H45=""),"",IF(AND(A45=H45,B45=I45,C45=J45,D45=K45,E45=L45,F45=M45),"Non","Oui"))
A46: =IF(OR('Bilan médicamenteux'!$AG44="",'Bilan médicamenteux'!$AG44="Ne pas inclure"),"",IF('Bilan médicamenteux'!$A44="","",'Bilan médicamenteux'!$A44)) | B46: =IFERROR(IF(INDEX('Bilan médicamenteux'!$C44:$AF44,MATCH('Bilan médicamenteux'!$AG44,'Bilan médicamenteux'!$C$12:$AF$12,0))="","",INDEX('Bilan médicamenteux'!$C44:$AF44,MATCH('Bilan médicamenteux'!$AG44,'Bilan médicamenteux'!$C$12:$AF$12,0))),"") | C46: =IFERROR(IF(INDEX('Bilan médicamenteux'!$C44:$AF44,MATCH('Bilan médicamenteux'!$AG44,'Bilan médicamenteux'!$C$12:$AF$12,0)+1)="","",INDEX('Bilan médicamenteux'!$C44:$AF44,MATCH('Bilan médicamenteux'!$AG44,'Bilan médicamenteux'!$C$12:$AF$12,0)+1)),"") | D46: =IFERROR(IF(INDEX('Bilan médicamenteux'!$C44:$AF44,MATCH('Bilan médicamenteux'!$AG44,'Bilan médicamenteux'!$C$12:$AF$12,0)+2)="","",INDEX('Bilan médicamenteux'!$C44:$AF44,MATCH('Bilan médicamenteux'!$AG44,'Bilan médicamenteux'!$C$12:$AF$12,0)+2)),"") | E46: =IFERROR(IF(INDEX('Bilan médicamenteux'!$C44:$AF44,MATCH('Bilan médicamenteux'!$AG44,'Bilan médicamenteux'!$C$12:$AF$12,0)+3)="","",INDEX('Bilan médicamenteux'!$C44:$AF44,MATCH('Bilan médicamenteux'!$AG44,'Bilan médicamenteux'!$C$12:$AF$12,0)+3)),"") | F46: =IFERROR(IF(INDEX('Bilan médicamenteux'!$C44:$AF44,MATCH('Bilan médicamenteux'!$AG44,'Bilan médicamenteux'!$C$12:$AF$12,0)+4)="","",INDEX('Bilan médicamenteux'!$C44:$AF44,MATCH('Bilan médicamenteux'!$AG44,'Bilan médicamenteux'!$C$12:$AF$12,0)+4)),"") | N46: =IF(AND(A46="",H46=""),"",IF(AND(A46=H46,B46=I46,C46=J46,D46=K46,E46=L46,F46=M46),"Non","Oui"))
A47: =IF(OR('Bilan médicamenteux'!$AG45="",'Bilan médicamenteux'!$AG45="Ne pas inclure"),"",IF('Bilan médicamenteux'!$A45="","",'Bilan médicamenteux'!$A45)) | B47: =IFERROR(IF(INDEX('Bilan médicamenteux'!$C45:$AF45,MATCH('Bilan médicamenteux'!$AG45,'Bilan médicamenteux'!$C$12:$AF$12,0))="","",INDEX('Bilan médicamenteux'!$C45:$AF45,MATCH('Bilan médicamenteux'!$AG45,'Bilan médicamenteux'!$C$12:$AF$12,0))),"") | C47: =IFERROR(IF(INDEX('Bilan médicamenteux'!$C45:$AF45,MATCH('Bilan médicamenteux'!$AG45,'Bilan médicamenteux'!$C$12:$AF$12,0)+1)="","",INDEX('Bilan médicamenteux'!$C45:$AF45,MATCH('Bilan médicamenteux'!$AG45,'Bilan médicamenteux'!$C$12:$AF$12,0)+1)),"") | D47: =IFERROR(IF(INDEX('Bilan médicamenteux'!$C45:$AF45,MATCH('Bilan médicamenteux'!$AG45,'Bilan médicamenteux'!$C$12:$AF$12,0)+2)="","",INDEX('Bilan médicamenteux'!$C45:$AF45,MATCH('Bilan médicamenteux'!$AG45,'Bilan médicamenteux'!$C$12:$AF$12,0)+2)),"") | E47: =IFERROR(IF(INDEX('Bilan médicamenteux'!$C45:$AF45,MATCH('Bilan médicamenteux'!$AG45,'Bilan médicamenteux'!$C$12:$AF$12,0)+3)="","",INDEX('Bilan médicamenteux'!$C45:$AF45,MATCH('Bilan médicamenteux'!$AG45,'Bilan médicamenteux'!$C$12:$AF$12,0)+3)),"") | F47: =IFERROR(IF(INDEX('Bilan médicamenteux'!$C45:$AF45,MATCH('Bilan médicamenteux'!$AG45,'Bilan médicamenteux'!$C$12:$AF$12,0)+4)="","",INDEX('Bilan médicamenteux'!$C45:$AF45,MATCH('Bilan médicamenteux'!$AG45,'Bilan médicamenteux'!$C$12:$AF$12,0)+4)),"") | N47: =IF(AND(A47="",H47=""),"",IF(AND(A47=H47,B47=I47,C47=J47,D47=K47,E47=L47,F47=M47),"Non","Oui"))
A48: =IF(OR('Bilan médicamenteux'!$AG46="",'Bilan médicamenteux'!$AG46="Ne pas inclure"),"",IF('Bilan médicamenteux'!$A46="","",'Bilan médicamenteux'!$A46)) | B48: =IFERROR(IF(INDEX('Bilan médicamenteux'!$C46:$AF46,MATCH('Bilan médicamenteux'!$AG46,'Bilan médicamenteux'!$C$12:$AF$12,0))="","",INDEX('Bilan médicamenteux'!$C46:$AF46,MATCH('Bilan médicamenteux'!$AG46,'Bilan médicamenteux'!$C$12:$AF$12,0))),"") | C48: =IFERROR(IF(INDEX('Bilan médicamenteux'!$C46:$AF46,MATCH('Bilan médicamenteux'!$AG46,'Bilan médicamenteux'!$C$12:$AF$12,0)+1)="","",INDEX('Bilan médicamenteux'!$C46:$AF46,MATCH('Bilan médicamenteux'!$AG46,'Bilan médicamenteux'!$C$12:$AF$12,0)+1)),"") | D48: =IFERROR(IF(INDEX('Bilan médicamenteux'!$C46:$AF46,MATCH('Bilan médicamenteux'!$AG46,'Bilan médicamenteux'!$C$12:$AF$12,0)+2)="","",INDEX('Bilan médicamenteux'!$C46:$AF46,MATCH('Bilan médicamenteux'!$AG46,'Bilan médicamenteux'!$C$12:$AF$12,0)+2)),"") | E48: =IFERROR(IF(INDEX('Bilan médicamenteux'!$C46:$AF46,MATCH('Bilan médicamenteux'!$AG46,'Bilan médicamenteux'!$C$12:$AF$12,0)+3)="","",INDEX('Bilan médicamenteux'!$C46:$AF46,MATCH('Bilan médicamenteux'!$AG46,'Bilan médicamenteux'!$C$12:$AF$12,0)+3)),"") | F48: =IFERROR(IF(INDEX('Bilan médicamenteux'!$C46:$AF46,MATCH('Bilan médicamenteux'!$AG46,'Bilan médicamenteux'!$C$12:$AF$12,0)+4)="","",INDEX('Bilan médicamenteux'!$C46:$AF46,MATCH('Bilan médicamenteux'!$AG46,'Bilan médicamenteux'!$C$12:$AF$12,0)+4)),"") | N48: =IF(AND(A48="",H48=""),"",IF(AND(A48=H48,B48=I48,C48=J48,D48=K48,E48=L48,F48=M48),"Non","Oui"))
A49: =IF(OR('Bilan médicamenteux'!$AG47="",'Bilan médicamenteux'!$AG47="Ne pas inclure"),"",IF('Bilan médicamenteux'!$A47="","",'Bilan médicamenteux'!$A47)) | B49: =IFERROR(IF(INDEX('Bilan médicamenteux'!$C47:$AF47,MATCH('Bilan médicamenteux'!$AG47,'Bilan médicamenteux'!$C$12:$AF$12,0))="","",INDEX('Bilan médicamenteux'!$C47:$AF47,MATCH('Bilan médicamenteux'!$AG47,'Bilan médicamenteux'!$C$12:$AF$12,0))),"") | C49: =IFERROR(IF(INDEX('Bilan médicamenteux'!$C47:$AF47,MATCH('Bilan médicamenteux'!$AG47,'Bilan médicamenteux'!$C$12:$AF$12,0)+1)="","",INDEX('Bilan médicamenteux'!$C47:$AF47,MATCH('Bilan médicamenteux'!$AG47,'Bilan médicamenteux'!$C$12:$AF$12,0)+1)),"") | D49: =IFERROR(IF(INDEX('Bilan médicamenteux'!$C47:$AF47,MATCH('Bilan médicamenteux'!$AG47,'Bilan médicamenteux'!$C$12:$AF$12,0)+2)="","",INDEX('Bilan médicamenteux'!$C47:$AF47,MATCH('Bilan médicamenteux'!$AG47,'Bilan médicamenteux'!$C$12:$AF$12,0)+2)),"") | E49: =IFERROR(IF(INDEX('Bilan médicamenteux'!$C47:$AF47,MATCH('Bilan médicamenteux'!$AG47,'Bilan médicamenteux'!$C$12:$AF$12,0)+3)="","",INDEX('Bilan médicamenteux'!$C47:$AF47,MATCH('Bilan médicamenteux'!$AG47,'Bilan médicamenteux'!$C$12:$AF$12,0)+3)),"") | F49: =IFERROR(IF(INDEX('Bilan médicamenteux'!$C47:$AF47,MATCH('Bilan médicamenteux'!$AG47,'Bilan médicamenteux'!$C$12:$AF$12,0)+4)="","",INDEX('Bilan médicamenteux'!$C47:$AF47,MATCH('Bilan médicamenteux'!$AG47,'Bilan médicamenteux'!$C$12:$AF$12,0)+4)),"") | N49: =IF(AND(A49="",H49=""),"",IF(AND(A49=H49,B49=I49,C49=J49,D49=K49,E49=L49,F49=M49),"Non","Oui"))
A50: =IF(OR('Bilan médicamenteux'!$AG48="",'Bilan médicamenteux'!$AG48="Ne pas inclure"),"",IF('Bilan médicamenteux'!$A48="","",'Bilan médicamenteux'!$A48)) | B50: =IFERROR(IF(INDEX('Bilan médicamenteux'!$C48:$AF48,MATCH('Bilan médicamenteux'!$AG48,'Bilan médicamenteux'!$C$12:$AF$12,0))="","",INDEX('Bilan médicamenteux'!$C48:$AF48,MATCH('Bilan médicamenteux'!$AG48,'Bilan médicamenteux'!$C$12:$AF$12,0))),"") | C50: =IFERROR(IF(INDEX('Bilan médicamenteux'!$C48:$AF48,MATCH('Bilan médicamenteux'!$AG48,'Bilan médicamenteux'!$C$12:$AF$12,0)+1)="","",INDEX('Bilan médicamenteux'!$C48:$AF48,MATCH('Bilan médicamenteux'!$AG48,'Bilan médicamenteux'!$C$12:$AF$12,0)+1)),"") | D50: =IFERROR(IF(INDEX('Bilan médicamenteux'!$C48:$AF48,MATCH('Bilan médicamenteux'!$AG48,'Bilan médicamenteux'!$C$12:$AF$12,0)+2)="","",INDEX('Bilan médicamenteux'!$C48:$AF48,MATCH('Bilan médicamenteux'!$AG48,'Bilan médicamenteux'!$C$12:$AF$12,0)+2)),"") | E50: =IFERROR(IF(INDEX('Bilan médicamenteux'!$C48:$AF48,MATCH('Bilan médicamenteux'!$AG48,'Bilan médicamenteux'!$C$12:$AF$12,0)+3)="","",INDEX('Bilan médicamenteux'!$C48:$AF48,MATCH('Bilan médicamenteux'!$AG48,'Bilan médicamenteux'!$C$12:$AF$12,0)+3)),"") | F50: =IFERROR(IF(INDEX('Bilan médicamenteux'!$C48:$AF48,MATCH('Bilan médicamenteux'!$AG48,'Bilan médicamenteux'!$C$12:$AF$12,0)+4)="","",INDEX('Bilan médicamenteux'!$C48:$AF48,MATCH('Bilan médicamenteux'!$AG48,'Bilan médicamenteux'!$C$12:$AF$12,0)+4)),"") | N50: =IF(AND(A50="",H50=""),"",IF(AND(A50=H50,B50=I50,C50=J50,D50=K50,E50=L50,F50=M50),"Non","Oui"))
A51: =IF(OR('Bilan médicamenteux'!$AG49="",'Bilan médicamenteux'!$AG49="Ne pas inclure"),"",IF('Bilan médicamenteux'!$A49="","",'Bilan médicamenteux'!$A49)) | B51: =IFERROR(IF(INDEX('Bilan médicamenteux'!$C49:$AF49,MATCH('Bilan médicamenteux'!$AG49,'Bilan médicamenteux'!$C$12:$AF$12,0))="","",INDEX('Bilan médicamenteux'!$C49:$AF49,MATCH('Bilan médicamenteux'!$AG49,'Bilan médicamenteux'!$C$12:$AF$12,0))),"") | C51: =IFERROR(IF(INDEX('Bilan médicamenteux'!$C49:$AF49,MATCH('Bilan médicamenteux'!$AG49,'Bilan médicamenteux'!$C$12:$AF$12,0)+1)="","",INDEX('Bilan médicamenteux'!$C49:$AF49,MATCH('Bilan médicamenteux'!$AG49,'Bilan médicamenteux'!$C$12:$AF$12,0)+1)),"") | D51: =IFERROR(IF(INDEX('Bilan médicamenteux'!$C49:$AF49,MATCH('Bilan médicamenteux'!$AG49,'Bilan médicamenteux'!$C$12:$AF$12,0)+2)="","",INDEX('Bilan médicamenteux'!$C49:$AF49,MATCH('Bilan médicamenteux'!$AG49,'Bilan médicamenteux'!$C$12:$AF$12,0)+2)),"") | E51: =IFERROR(IF(INDEX('Bilan médicamenteux'!$C49:$AF49,MATCH('Bilan médicamenteux'!$AG49,'Bilan médicamenteux'!$C$12:$AF$12,0)+3)="","",INDEX('Bilan médicamenteux'!$C49:$AF49,MATCH('Bilan médicamenteux'!$AG49,'Bilan médicamenteux'!$C$12:$AF$12,0)+3)),"") | F51: =IFERROR(IF(INDEX('Bilan médicamenteux'!$C49:$AF49,MATCH('Bilan médicamenteux'!$AG49,'Bilan médicamenteux'!$C$12:$AF$12,0)+4)="","",INDEX('Bilan médicamenteux'!$C49:$AF49,MATCH('Bilan médicamenteux'!$AG49,'Bilan médicamenteux'!$C$12:$AF$12,0)+4)),"") | N51: =IF(AND(A51="",H51=""),"",IF(AND(A51=H51,B51=I51,C51=J51,D51=K51,E51=L51,F51=M51),"Non","Oui"))
... A54: =IF(OR('Bilan médicamenteux'!$AG52="",'Bilan médicamenteux'!$AG52="Ne pas inclure"),"",IF('Bilan médicamenteux'!$A52="","",'Bilan médicamenteux'!$A52)) | B54: =IFERROR(IF(INDEX('Bilan médicamenteux'!$C52:$AF52,MATCH('Bilan médicamenteux'!$AG52,'Bilan médicamenteux'!$C$12:$AF$12,0))="","",INDEX('Bilan médicamenteux'!$C52:$AF52,MATCH('Bilan médicamenteux'!$AG52,'Bilan médicamenteux'!$C$12:$AF$12,0))),"") | C54: =IFERROR(IF(INDEX('Bilan médicamenteux'!$C52:$AF52,MATCH('Bilan médicamenteux'!$AG52,'Bilan médicamenteux'!$C$12:$AF$12,0)+1)="","",INDEX('Bilan médicamenteux'!$C52:$AF52,MATCH('Bilan médicamenteux'!$AG52,'Bilan médicamenteux'!$C$12:$AF$12,0)+1)),"") | D54: =IFERROR(IF(INDEX('Bilan médicamenteux'!$C52:$AF52,MATCH('Bilan médicamenteux'!$AG52,'Bilan médicamenteux'!$C$12:$AF$12,0)+2)="","",INDEX('Bilan médicamenteux'!$C52:$AF52,MATCH('Bilan médicamenteux'!$AG52,'Bilan médicamenteux'!$C$12:$AF$12,0)+2)),"") | E54: =IFERROR(IF(INDEX('Bilan médicamenteux'!$C52:$AF52,MATCH('Bilan médicamenteux'!$AG52,'Bilan médicamenteux'!$C$12:$AF$12,0)+3)="","",INDEX('Bilan médicamenteux'!$C52:$AF52,MATCH('Bilan médicamenteux'!$AG52,'Bilan médicamenteux'!$C$12:$AF$12,0)+3)),"") | F54: =IFERROR(IF(INDEX('Bilan médicamenteux'!$C52:$AF52,MATCH('Bilan médicamenteux'!$AG52,'Bilan médicamenteux'!$C$12:$AF$12,0)+4)="","",INDEX('Bilan médicamenteux'!$C52:$AF52,MATCH('Bilan médicamenteux'!$AG52,'Bilan médicamenteux'!$C$12:$AF$12,0)+4)),"") | N54: =IF(AND(A54="",H54=""),"",IF(AND(A54=H54,B54=I54,C54=J54,D54=K54,E54=L54,F54=M54),"Non","Oui"))
A55: =IF(OR('Bilan médicamenteux'!$AG53="",'Bilan médicamenteux'!$AG53="Ne pas inclure"),"",IF('Bilan médicamenteux'!$A53="","",'Bilan médicamenteux'!$A53)) | B55: =IFERROR(IF(INDEX('Bilan médicamenteux'!$C53:$AF53,MATCH('Bilan médicamenteux'!$AG53,'Bilan médicamenteux'!$C$12:$AF$12,0))="","",INDEX('Bilan médicamenteux'!$C53:$AF53,MATCH('Bilan médicamenteux'!$AG53,'Bilan médicamenteux'!$C$12:$AF$12,0))),"") | C55: =IFERROR(IF(INDEX('Bilan médicamenteux'!$C53:$AF53,MATCH('Bilan médicamenteux'!$AG53,'Bilan médicamenteux'!$C$12:$AF$12,0)+1)="","",INDEX('Bilan médicamenteux'!$C53:$AF53,MATCH('Bilan médicamenteux'!$AG53,'Bilan médicamenteux'!$C$12:$AF$12,0)+1)),"") | D55: =IFERROR(IF(INDEX('Bilan médicamenteux'!$C53:$AF53,MATCH('Bilan médicamenteux'!$AG53,'Bilan médicamenteux'!$C$12:$AF$12,0)+2)="","",INDEX('Bilan médicamenteux'!$C53:$AF53,MATCH('Bilan médicamenteux'!$AG53,'Bilan médicamenteux'!$C$12:$AF$12,0)+2)),"") | E55: =IFERROR(IF(INDEX('Bilan médicamenteux'!$C53:$AF53,MATCH('Bilan médicamenteux'!$AG53,'Bilan médicamenteux'!$C$12:$AF$12,0)+3)="","",INDEX('Bilan médicamenteux'!$C53:$AF53,MATCH('Bilan médicamenteux'!$AG53,'Bilan médicamenteux'!$C$12:$AF$12,0)+3)),"") | F55: =IFERROR(IF(INDEX('Bilan médicamenteux'!$C53:$AF53,MATCH('Bilan médicamenteux'!$AG53,'Bilan médicamenteux'!$C$12:$AF$12,0)+4)="","",INDEX('Bilan médicamenteux'!$C53:$AF53,MATCH('Bilan médicamenteux'!$AG53,'Bilan médicamenteux'!$C$12:$AF$12,0)+4)),"") | I55: =IFERROR(IF(INDEX('Bilan médicamenteux'!$C53:$AF53,MATCH('Bilan médicamenteux'!$AG53,'Bilan médicamenteux'!$C$12:$AF$12,0))="","",INDEX('Bilan médicamenteux'!$C53:$AF53,MATCH('Bilan médicamenteux'!$AG53,'Bilan médicamenteux'!$C$12:$AF$12,0))),"") | N55: =IF(AND(A55="",H55=""),"",IF(AND(A55=H55,B55=I55,C55=J55,D55=K55,E55=L55,F55=M55),"Non","Oui"))
A56: Sources d'information consultées | N56: Nom & signature pharmacien :
A57: =IF(A33="","",A33) | B57: =IF(B33="","",B33) | G57: =IF(G33="","",G33) | H57: =IF(H33="","",H33) | I57: =IF(I33="","",I33)
A58: =IF(A34="","",A34) | B58: =IF(B34="","",B34) | G58: =IF(G34="","",G34) | H58: =IF(H34="","",H34) | I58: =IF(I34="","",I34) | N58: Nom & signature prescripteur :
A59: =IF(A35="","",A35) | B59: =IF(B35="","",B35) | G59: =IF(G35="","",G35) | H59: =IF(H35="","",H35) | I59: =IF(I35="","",I35)
A60: Commentaires : | K60: Source : Fiche de conciliation des traitements à l’admission (FCT) - HAS

Sheet Fiche CM sortie
A1: Nom : | B1: =IF('Bilan médicamenteux'!B1="","",'Bilan médicamenteux'!B1) | E1: Date entrée hospitalisation : | H1: Nom du médecin hospitalier : | K1: [à compléter] | O1: Médecin traitant : | P1: =_xlfn.TEXTJOIN(" - ",TRUE,'Bilan médicamenteux'!N2,'Bilan médicamenteux'!T2)
A2: Prénom : | B2: =IF('Bilan médicamenteux'!B2="","",'Bilan médicamenteux'!B2) | E2: [à compléter] | H2: Nom du service hospitalier : | K2: [à compléter] | O2: Pharmacie d'officine : | P2: =_xlfn.TEXTJOIN(" - ",TRUE,'Bilan médicamenteux'!N3,'Bilan médicamenteux'!T3)
A3: Genre : | B3: =IF('Bilan médicamenteux'!B4="","",'Bilan médicamenteux'!B4) | H3: Téléphone service hospitalier : | K3: [à compléter] | O3: Infirmier à domicile : | P3: =_xlfn.TEXTJOIN(" - ",TRUE,'Bilan médicamenteux'!N4,'Bilan médicamenteux'!T4)
A4: Date naissance : | B4: =IF('Bilan médicamenteux'!B5="","",'Bilan médicamenteux'!B5) | E4: Date sortie hospitalisation : | H4: Nom du pharmacien hospitalier : | K4: [à compléter] | O4: Autre établissement/EHPAD: | P4: =_xlfn.TEXTJOIN(" - ",TRUE,'Bilan médicamenteux'!N5,'Bilan médicamenteux'!T5)
A5: IPP : | B5: =IF('Bilan médicamenteux'!B3="","",'Bilan médicamenteux'!B3) | E5: [à compléter] | H5: Téléphone (pharmacie hospitalière) : | K5: [à compléter]
A7: Source à sélectionner : | G7: Statut AJ : ajout AR: arrêt E : équivalent M: modifié P: poursuivi S: suspendu | H7: Traitement médicamenteux à la sortie | N7: Commentaires (motif de changement entre le traitement à l'entrée et traitement de sortie, cible thérapeutique et surveillance associée, durée de traitement calculée à partir de la date de rédaction du traitement de sortie)
A8: Date | B8: [à compléter] | H8: Date | I8: [à compléter]
A9: Médicament DCI (+/- nom commercial) & Forme & Dosage | B9: Voie | C9: Posologie | H9: Médicament DCI (+/- nom commercial) & Forme & Dosage | I9: Voie | J9: Posologie
C10: M | D10: M | E10: S | F10: N | J10: M | K10: M | L10: S | M10: N
A11: =IF(TRIM($A$7)="Bilan médicamenteux d'entrée",IF(OR('Bilan médicamenteux'!$AG16="",'Bilan médicamenteux'!$AG16="Ne pas inclure"),"",IF('Bilan médicamenteux'!$A16="","",'Bilan médicamenteux'!$A16)),IF(TRIM($A$7)="Conciliation médicamenteuse d'entrée proactive",'Fiche CM entrée proactive'!A16,IF(TRIM($A$7)="Conciliation médicamenteuse d'entrée rétroactive",'Fiche CM entrée rétroactive'!A16,""))) | B11: =IF(TRIM($A$7)="Bilan médicamenteux d'entrée",IFERROR(IF(INDEX('Bilan médicamenteux'!$C16:$AF16,MATCH('Bilan médicamenteux'!$AG16,'Bilan médicamenteux'!$C$12:$AF$12,0))="","",INDEX('Bilan médicamenteux'!$C16:$AF16,MATCH('Bilan médicamenteux'!$AG16,'Bilan médicamenteux'!$C$12:$AF$12,0))),""),IF(TRIM($A$7)="Conciliation médicamenteuse d'entrée proactive",'Fiche CM entrée proactive'!B16,IF(TRIM($A$7)="Conciliation médicamenteuse d'entrée rétroactive",'Fiche CM entrée rétroactive'!B16,""))) | C11: =IF(TRIM($A$7)="Bilan médicamenteux d'entrée",IFERROR(IF(INDEX('Bilan médicamenteux'!$C16:$AF16,MATCH('Bilan médicamenteux'!$AG16,'Bilan médicamenteux'!$C$12:$AF$12,0)+1)="","",INDEX('Bilan médicamenteux'!$C16:$AF16,MATCH('Bilan médicamenteux'!$AG16,'Bilan médicamenteux'!$C$12:$AF$12,0)+1)),""),IF(TRIM($A$7)="Conciliation médicamenteuse d'entrée proactive",'Fiche CM entrée proactive'!C16,IF(TRIM($A$7)="Conciliation médicamenteuse d'entrée rétroactive",'Fiche CM entrée rétroactive'!C16,""))) | D11: =IF(TRIM($A$7)="Bilan médicamenteux d'entrée",IFERROR(IF(INDEX('Bilan médicamenteux'!$C16:$AF16,MATCH('Bilan médicamenteux'!$AG16,'Bilan médicamenteux'!$C$12:$AF$12,0)+2)="","",INDEX('Bilan médicamenteux'!$C16:$AF16,MATCH('Bilan médicamenteux'!$AG16,'Bilan médicamenteux'!$C$12:$AF$12,0)+2)),""),IF(TRIM($A$7)="Conciliation médicamenteuse d'entrée proactive",'Fiche CM entrée proactive'!D16,IF(TRIM($A$7)="Conciliation médicamenteuse d'entrée rétroactive",'Fiche CM entrée rétroactive'!D16,""))) | E11: =IF(TRIM($A$7)="Bilan médicamenteux d'entrée",IFERROR(IF(INDEX('Bilan médicamenteux'!$C16:$AF16,MATCH('Bilan médicamenteux'!$AG16,'Bilan médicamenteux'!$C$12:$AF$12,0)+3)="","",INDEX('Bilan médicamenteux'!$C16:$AF16,MATCH('Bilan médicamenteux'!$AG16,'Bilan médicamenteux'!$C$12:$AF$12,0)+3)),""),IF(TRIM($A$7)="Conciliation médicamenteuse d'entrée proactive",'Fiche CM entrée proactive'!E16,IF(TRIM($A$7)="Conciliation médicamenteuse d'entrée rétroactive",'Fiche CM entrée rétroactive'!E16,""))) | F11: =IF(TRIM($A$7)="Bilan médicamenteux d'entrée",IFERROR(IF(INDEX('Bilan médicamenteux'!$C16:$AF16,MATCH('Bilan médicamenteux'!$AG16,'Bilan médicamenteux'!$C$12:$AF$12,0)+4)="","",INDEX('Bilan médicamenteux'!$C16:$AF16,MATCH('Bilan médicamenteux'!$AG16,'Bilan médicamenteux'!$C$12:$AF$12,0)+4)),""),IF(TRIM($A$7)="Conciliation médicamenteuse d'entrée proactive",'Fiche CM entrée proactive'!F16,IF(TRIM($A$7)="Conciliation médicamenteuse d'entrée rétroactive",'Fiche CM entrée rétroactive'!F16,"")))
A12: =IF(TRIM($A$7)="Bilan médicamenteux d'entrée",IF(OR('Bilan médicamenteux'!$AG17="",'Bilan médicamenteux'!$AG17="Ne pas inclure"),"",IF('Bilan médicamenteux'!$A17="","",'Bilan médicamenteux'!$A17)),IF(TRIM($A$7)="Conciliation médicamenteuse d'entrée proactive",'Fiche CM entrée proactive'!A17,IF(TRIM($A$7)="Conciliation médicamenteuse d'entrée rétroactive",'Fiche CM entrée rétroactive'!A17,""))) | B12: =IF(TRIM($A$7)="Bilan médicamenteux d'entrée",IFERROR(IF(INDEX('Bilan médicamenteux'!$C17:$AF17,MATCH('Bilan médicamenteux'!$AG17,'Bilan médicamenteux'!$C$12:$AF$12,0))="","",INDEX('Bilan médicamenteux'!$C17:$AF17,MATCH('Bilan médicamenteux'!$AG17,'Bilan médicamenteux'!$C$12:$AF$12,0))),""),IF(TRIM($A$7)="Conciliation médicamenteuse d'entrée proactive",'Fiche CM entrée proactive'!B17,IF(TRIM($A$7)="Conciliation médicamenteuse d'entrée rétroactive",'Fiche CM entrée rétroactive'!B17,""))) | C12: =IF(TRIM($A$7)="Bilan médicamenteux d'entrée",IFERROR(IF(INDEX('Bilan médicamenteux'!$C17:$AF17,MATCH('Bilan médicamenteux'!$AG17,'Bilan médicamenteux'!$C$12:$AF$12,0)+1)="","",INDEX('Bilan médicamenteux'!$C17:$AF17,MATCH('Bilan médicamenteux'!$AG17,'Bilan médicamenteux'!$C$12:$AF$12,0)+1)),""),IF(TRIM($A$7)="Conciliation médicamenteuse d'entrée proactive",'Fiche CM entrée proactive'!C17,IF(TRIM($A$7)="Conciliation médicamenteuse d'entrée rétroactive",'Fiche CM entrée rétroactive'!C17,""))) | D12: =IF(TRIM($A$7)="Bilan médicamenteux d'entrée",IFERROR(IF(INDEX('Bilan médicamenteux'!$C17:$AF17,MATCH('Bilan médicamenteux'!$AG17,'Bilan médicamenteux'!$C$12:$AF$12,0)+2)="","",INDEX('Bilan médicamenteux'!$C17:$AF17,MATCH('Bilan médicamenteux'!$AG17,'Bilan médicamenteux'!$C$12:$AF$12,0)+2)),""),IF(TRIM($A$7)="Conciliation médicamenteuse d'entrée proactive",'Fiche CM entrée proactive'!D17,IF(TRIM($A$7)="Conciliation médicamenteuse d'entrée rétroactive",'Fiche CM entrée rétroactive'!D17,""))) | E12: =IF(TRIM($A$7)="Bilan médicamenteux d'entrée",IFERROR(IF(INDEX('Bilan médicamenteux'!$C17:$AF17,MATCH('Bilan médicamenteux'!$AG17,'Bilan médicamenteux'!$C$12:$AF$12,0)+3)="","",INDEX('Bilan médicamenteux'!$C17:$AF17,MATCH('Bilan médicamenteux'!$AG17,'Bilan médicamenteux'!$C$12:$AF$12,0)+3)),""),IF(TRIM($A$7)="Conciliation médicamenteuse d'entrée proactive",'Fiche CM entrée proactive'!E17,IF(TRIM($A$7)="Conciliation médicamenteuse d'entrée rétroactive",'Fiche CM entrée rétroactive'!E17,""))) | F12: =IF(TRIM($A$7)="Bilan médicamenteux d'entrée",IFERROR(IF(INDEX('Bilan médicamenteux'!$C17:$AF17,MATCH('Bilan médicamenteux'!$AG17,'Bilan médicamenteux'!$C$12:$AF$12,0)+4)="","",INDEX('Bilan médicamenteux'!$C17:$AF17,MATCH('Bilan médicamenteux'!$AG17,'Bilan médicamenteux'!$C$12:$AF$12,0)+4)),""),IF(TRIM($A$7)="Conciliation médicamenteuse d'entrée proactive",'Fiche CM entrée proactive'!F17,IF(TRIM($A$7)="Conciliation médicamenteuse d'entrée rétroactive",'Fiche CM entrée rétroactive'!F17,"")))
A13: =IF(TRIM($A$7)="Bilan médicamenteux d'entrée",IF(OR('Bilan médicamenteux'!$AG18="",'Bilan médicamenteux'!$AG18="Ne pas inclure"),"",IF('Bilan médicamenteux'!$A18="","",'Bilan médicamenteux'!$A18)),IF(TRIM($A$7)="Conciliation médicamenteuse d'entrée proactive",'Fiche CM entrée proactive'!A18,IF(TRIM($A$7)="Conciliation médicamenteuse d'entrée rétroactive",'Fiche CM entrée rétroactive'!A18,""))) | B13: =IF(TRIM($A$7)="Bilan médicamenteux d'entrée",IFERROR(IF(INDEX('Bilan médicamenteux'!$C18:$AF18,MATCH('Bilan médicamenteux'!$AG18,'Bilan médicamenteux'!$C$12:$AF$12,0))="","",INDEX('Bilan médicamenteux'!$C18:$AF18,MATCH('Bilan médicamenteux'!$AG18,'Bilan médicamenteux'!$C$12:$AF$12,0))),""),IF(TRIM($A$7)="Conciliation médicamenteuse d'entrée proactive",'Fiche CM entrée proactive'!B18,IF(TRIM($A$7)="Conciliation médicamenteuse d'entrée rétroactive",'Fiche CM entrée rétroactive'!B18,""))) | C13: =IF(TRIM($A$7)="Bilan médicamenteux d'entrée",IFERROR(IF(INDEX('Bilan médicamenteux'!$C18:$AF18,MATCH('Bilan médicamenteux'!$AG18,'Bilan médicamenteux'!$C$12:$AF$12,0)+1)="","",INDEX('Bilan médicamenteux'!$C18:$AF18,MATCH('Bilan médicamenteux'!$AG18,'Bilan médicamenteux'!$C$12:$AF$12,0)+1)),""),IF(TRIM($A$7)="Conciliation médicamenteuse d'entrée proactive",'Fiche CM entrée proactive'!C18,IF(TRIM($A$7)="Conciliation médicamenteuse d'entrée rétroactive",'Fiche CM entrée rétroactive'!C18,""))) | D13: =IF(TRIM($A$7)="Bilan médicamenteux d'entrée",IFERROR(IF(INDEX('Bilan médicamenteux'!$C18:$AF18,MATCH('Bilan médicamenteux'!$AG18,'Bilan médicamenteux'!$C$12:$AF$12,0)+2)="","",INDEX('Bilan médicamenteux'!$C18:$AF18,MATCH('Bilan médicamenteux'!$AG18,'Bilan médicamenteux'!$C$12:$AF$12,0)+2)),""),IF(TRIM($A$7)="Conciliation médicamenteuse d'entrée proactive",'Fiche CM entrée proactive'!D18,IF(TRIM($A$7)="Conciliation médicamenteuse d'entrée rétroactive",'Fiche CM entrée rétroactive'!D18,""))) | E13: =IF(TRIM($A$7)="Bilan médicamenteux d'entrée",IFERROR(IF(INDEX('Bilan médicamenteux'!$C18:$AF18,MATCH('Bilan médicamenteux'!$AG18,'Bilan médicamenteux'!$C$12:$AF$12,0)+3)="","",INDEX('Bilan médicamenteux'!$C18:$AF18,MATCH('Bilan médicamenteux'!$AG18,'Bilan médicamenteux'!$C$12:$AF$12,0)+3)),""),IF(TRIM($A$7)="Conciliation médicamenteuse d'entrée proactive",'Fiche CM entrée proactive'!E18,IF(TRIM($A$7)="Conciliation médicamenteuse d'entrée rétroactive",'Fiche CM entrée rétroactive'!E18,""))) | F13: =IF(TRIM($A$7)="Bilan médicamenteux d'entrée",IFERROR(IF(INDEX('Bilan médicamenteux'!$C18:$AF18,MATCH('Bilan médicamenteux'!$AG18,'Bilan médicamenteux'!$C$12:$AF$12,0)+4)="","",INDEX('Bilan médicamenteux'!$C18:$AF18,MATCH('Bilan médicamenteux'!$AG18,'Bilan médicamenteux'!$C$12:$AF$12,0)+4)),""),IF(TRIM($A$7)="Conciliation médicamenteuse d'entrée proactive",'Fiche CM entrée proactive'!F18,IF(TRIM($A$7)="Conciliation médicamenteuse d'entrée rétroactive",'Fiche CM entrée rétroactive'!F18,"")))
A14: =IF(TRIM($A$7)="Bilan médicamenteux d'entrée",IF(OR('Bilan médicamenteux'!$AG19="",'Bilan médicamenteux'!$AG19="Ne pas inclure"),"",IF('Bilan médicamenteux'!$A19="","",'Bilan médicamenteux'!$A19)),IF(TRIM($A$7)="Conciliation médicamenteuse d'entrée proactive",'Fiche CM entrée proactive'!A19,IF(TRIM($A$7)="Conciliation médicamenteuse d'entrée rétroactive",'Fiche CM entrée rétroactive'!A19,""))) | B14: =IF(TRIM($A$7)="Bilan médicamenteux d'entrée",IFERROR(IF(INDEX('Bilan médicamenteux'!$C19:$AF19,MATCH('Bilan médicamenteux'!$AG19,'Bilan médicamenteux'!$C$12:$AF$12,0))="","",INDEX('Bilan médicamenteux'!$C19:$AF19,MATCH('Bilan médicamenteux'!$AG19,'Bilan médicamenteux'!$C$12:$AF$12,0))),""),IF(TRIM($A$7)="Conciliation médicamenteuse d'entrée proactive",'Fiche CM entrée proactive'!B19,IF(TRIM($A$7)="Conciliation médicamenteuse d'entrée rétroactive",'Fiche CM entrée rétroactive'!B19,""))) | C14: =IF(TRIM($A$7)="Bilan médicamenteux d'entrée",IFERROR(IF(INDEX('Bilan médicamenteux'!$C19:$AF19,MATCH('Bilan médicamenteux'!$AG19,'Bilan médicamenteux'!$C$12:$AF$12,0)+1)="","",INDEX('Bilan médicamenteux'!$C19:$AF19,MATCH('Bilan médicamenteux'!$AG19,'Bilan médicamenteux'!$C$12:$AF$12,0)+1)),""),IF(TRIM($A$7)="Conciliation médicamenteuse d'entrée proactive",'Fiche CM entrée proactive'!C19,IF(TRIM($A$7)="Conciliation médicamenteuse d'entrée rétroactive",'Fiche CM entrée rétroactive'!C19,""))) | D14: =IF(TRIM($A$7)="Bilan médicamenteux d'entrée",IFERROR(IF(INDEX('Bilan médicamenteux'!$C19:$AF19,MATCH('Bilan médicamenteux'!$AG19,'Bilan médicamenteux'!$C$12:$AF$12,0)+2)="","",INDEX('Bilan médicamenteux'!$C19:$AF19,MATCH('Bilan médicamenteux'!$AG19,'Bilan médicamenteux'!$C$12:$AF$12,0)+2)),""),IF(TRIM($A$7)="Conciliation médicamenteuse d'entrée proactive",'Fiche CM entrée proactive'!D19,IF(TRIM($A$7)="Conciliation médicamenteuse d'entrée rétroactive",'Fiche CM entrée rétroactive'!D19,""))) | E14: =IF(TRIM($A$7)="Bilan médicamenteux d'entrée",IFERROR(IF(INDEX('Bilan médicamenteux'!$C19:$AF19,MATCH('Bilan médicamenteux'!$AG19,'Bilan médicamenteux'!$C$12:$AF$12,0)+3)="","",INDEX('Bilan médicamenteux'!$C19:$AF19,MATCH('Bilan médicamenteux'!$AG19,'Bilan médicamenteux'!$C$12:$AF$12,0)+3)),""),IF(TRIM($A$7)="Conciliation médicamenteuse d'entrée proactive",'Fiche CM entrée proactive'!E19,IF(TRIM($A$7)="Conciliation médicamenteuse d'entrée rétroactive",'Fiche CM entrée rétroactive'!E19,""))) | F14: =IF(TRIM($A$7)="Bilan médicamenteux d'entrée",IFERROR(IF(INDEX('Bilan médicamenteux'!$C19:$AF19,MATCH('Bilan médicamenteux'!$AG19,'Bilan médicamenteux'!$C$12:$AF$12,0)+4)="","",INDEX('Bilan médicamenteux'!$C19:$AF19,MATCH('Bilan médicamenteux'!$AG19,'Bilan médicamenteux'!$C$12:$AF$12,0)+4)),""),IF(TRIM($A$7)="Conciliation médicamenteuse d'entrée proactive",'Fiche CM entrée proactive'!F19,IF(TRIM($A$7)="Conciliation médicamenteuse d'entrée rétroactive",'Fiche CM entrée rétroactive'!F19,"")))
A15: =IF(TRIM($A$7)="Bilan médicamenteux d'entrée",IF(OR('Bilan médicamenteux'!$AG20="",'Bilan médicamenteux'!$AG20="Ne pas inclure"),"",IF('Bilan médicamenteux'!$A20="","",'Bilan médicamenteux'!$A20)),IF(TRIM($A$7)="Conciliation médicamenteuse d'entrée proactive",'Fiche CM entrée proactive'!A20,IF(TRIM($A$7)="Conciliation médicamenteuse d'entrée rétroactive",'Fiche CM entrée rétroactive'!A20,""))) | B15: =IF(TRIM($A$7)="Bilan médicamenteux d'entrée",IFERROR(IF(INDEX('Bilan médicamenteux'!$C20:$AF20,MATCH('Bilan médicamenteux'!$AG20,'Bilan médicamenteux'!$C$12:$AF$12,0))="","",INDEX('Bilan médicamenteux'!$C20:$AF20,MATCH('Bilan médicamenteux'!$AG20,'Bilan médicamenteux'!$C$12:$AF$12,0))),""),IF(TRIM($A$7)="Conciliation médicamenteuse d'entrée proactive",'Fiche CM entrée proactive'!B20,IF(TRIM($A$7)="Conciliation médicamenteuse d'entrée rétroactive",'Fiche CM entrée rétroactive'!B20,""))) | C15: =IF(TRIM($A$7)="Bilan médicamenteux d'entrée",IFERROR(IF(INDEX('Bilan médicamenteux'!$C20:$AF20,MATCH('Bilan médicamenteux'!$AG20,'Bilan médicamenteux'!$C$12:$AF$12,0)+1)="","",INDEX('Bilan médicamenteux'!$C20:$AF20,MATCH('Bilan médicamenteux'!$AG20,'Bilan médicamenteux'!$C$12:$AF$12,0)+1)),""),IF(TRIM($A$7)="Conciliation médicamenteuse d'entrée proactive",'Fiche CM entrée proactive'!C20,IF(TRIM($A$7)="Conciliation médicamenteuse d'entrée rétroactive",'Fiche CM entrée rétroactive'!C20,""))) | D15: =IF(TRIM($A$7)="Bilan médicamenteux d'entrée",IFERROR(IF(INDEX('Bilan médicamenteux'!$C20:$AF20,MATCH('Bilan médicamenteux'!$AG20,'Bilan médicamenteux'!$C$12:$AF$12,0)+2)="","",INDEX('Bilan médicamenteux'!$C20:$AF20,MATCH('Bilan médicamenteux'!$AG20,'Bilan médicamenteux'!$C$12:$AF$12,0)+2)),""),IF(TRIM($A$7)="Conciliation médicamenteuse d'entrée proactive",'Fiche CM entrée proactive'!D20,IF(TRIM($A$7)="Conciliation médicamenteuse d'entrée rétroactive",'Fiche CM entrée rétroactive'!D20,""))) | E15: =IF(TRIM($A$7)="Bilan médicamenteux d'entrée",IFERROR(IF(INDEX('Bilan médicamenteux'!$C20:$AF20,MATCH('Bilan médicamenteux'!$AG20,'Bilan médicamenteux'!$C$12:$AF$12,0)+3)="","",INDEX('Bilan médicamenteux'!$C20:$AF20,MATCH('Bilan médicamenteux'!$AG20,'Bilan médicamenteux'!$C$12:$AF$12,0)+3)),""),IF(TRIM($A$7)="Conciliation médicamenteuse d'entrée proactive",'Fiche CM entrée proactive'!E20,IF(TRIM($A$7)="Conciliation médicamenteuse d'entrée rétroactive",'Fiche CM entrée rétroactive'!E20,""))) | F15: =IF(TRIM($A$7)="Bilan médicamenteux d'entrée",IFERROR(IF(INDEX('Bilan médicamenteux'!$C20:$AF20,MATCH('Bilan médicamenteux'!$AG20,'Bilan médicamenteux'!$C$12:$AF$12,0)+4)="","",INDEX('Bilan médicamenteux'!$C20:$AF20,MATCH('Bilan médicamenteux'!$AG20,'Bilan médicamenteux'!$C$12:$AF$12,0)+4)),""),IF(TRIM($A$7)="Conciliation médicamenteuse d'entrée proactive",'Fiche CM entrée proactive'!F20,IF(TRIM($A$7)="Conciliation médicamenteuse d'entrée rétroactive",'Fiche CM entrée rétroactive'!F20,"")))
A16: =IF(TRIM($A$7)="Bilan médicamenteux d'entrée",IF(OR('Bilan médicamenteux'!$AG21="",'Bilan médicamenteux'!$AG21="Ne pas inclure"),"",IF('Bilan médicamenteux'!$A21="","",'Bilan médicamenteux'!$A21)),IF(TRIM($A$7)="Conciliation médicamenteuse d'entrée proactive",'Fiche CM entrée proactive'!A21,IF(TRIM($A$7)="Conciliation médicamenteuse d'entrée rétroactive",'Fiche CM entrée rétroactive'!A21,""))) | B16: =IF(TRIM($A$7)="Bilan médicamenteux d'entrée",IFERROR(IF(INDEX('Bilan médicamenteux'!$C21:$AF21,MATCH('Bilan médicamenteux'!$AG21,'Bilan médicamenteux'!$C$12:$AF$12,0))="","",INDEX('Bilan médicamenteux'!$C21:$AF21,MATCH('Bilan médicamenteux'!$AG21,'Bilan médicamenteux'!$C$12:$AF$12,0))),""),IF(TRIM($A$7)="Conciliation médicamenteuse d'entrée proactive",'Fiche CM entrée proactive'!B21,IF(TRIM($A$7)="Conciliation médicamenteuse d'entrée rétroactive",'Fiche CM entrée rétroactive'!B21,""))) | C16: =IF(TRIM($A$7)="Bilan médicamenteux d'entrée",IFERROR(IF(INDEX('Bilan médicamenteux'!$C21:$AF21,MATCH('Bilan médicamenteux'!$AG21,'Bilan médicamenteux'!$C$12:$AF$12,0)+1)="","",INDEX('Bilan médicamenteux'!$C21:$AF21,MATCH('Bilan médicamenteux'!$AG21,'Bilan médicamenteux'!$C$12:$AF$12,0)+1)),""),IF(TRIM($A$7)="Conciliation médicamenteuse d'entrée proactive",'Fiche CM entrée proactive'!C21,IF(TRIM($A$7)="Conciliation médicamenteuse d'entrée rétroactive",'Fiche CM entrée rétroactive'!C21,""))) | D16: =IF(TRIM($A$7)="Bilan médicamenteux d'entrée",IFERROR(IF(INDEX('Bilan médicamenteux'!$C21:$AF21,MATCH('Bilan médicamenteux'!$AG21,'Bilan médicamenteux'!$C$12:$AF$12,0)+2)="","",INDEX('Bilan médicamenteux'!$C21:$AF21,MATCH('Bilan médicamenteux'!$AG21,'Bilan médicamenteux'!$C$12:$AF$12,0)+2)),""),IF(TRIM($A$7)="Conciliation médicamenteuse d'entrée proactive",'Fiche CM entrée proactive'!D21,IF(TRIM($A$7)="Conciliation médicamenteuse d'entrée rétroactive",'Fiche CM entrée rétroactive'!D21,""))) | E16: =IF(TRIM($A$7)="Bilan médicamenteux d'entrée",IFERROR(IF(INDEX('Bilan médicamenteux'!$C21:$AF21,MATCH('Bilan médicamenteux'!$AG21,'Bilan médicamenteux'!$C$12:$AF$12,0)+3)="","",INDEX('Bilan médicamenteux'!$C21:$AF21,MATCH('Bilan médicamenteux'!$AG21,'Bilan médicamenteux'!$C$12:$AF$12,0)+3)),""),IF(TRIM($A$7)="Conciliation médicamenteuse d'entrée proactive",'Fiche CM entrée proactive'!E21,IF(TRIM($A$7)="Conciliation médicamenteuse d'entrée rétroactive",'Fiche CM entrée rétroactive'!E21,""))) | F16: =IF(TRIM($A$7)="Bilan médicamenteux d'entrée",IFERROR(IF(INDEX('Bilan médicamenteux'!$C21:$AF21,MATCH('Bilan médicamenteux'!$AG21,'Bilan médicamenteux'!$C$12:$AF$12,0)+4)="","",INDEX('Bilan médicamenteux'!$C21:$AF21,MATCH('Bilan médicamenteux'!$AG21,'Bilan médicamenteux'!$C$12:$AF$12,0)+4)),""),IF(TRIM($A$7)="Conciliation médicamenteuse d'entrée proactive",'Fiche CM entrée proactive'!F21,IF(TRIM($A$7)="Conciliation médicamenteuse d'entrée rétroactive",'Fiche CM entrée rétroactive'!F21,"")))
A17: =IF(TRIM($A$7)="Bilan médicamenteux d'entrée",IF(OR('Bilan médicamenteux'!$AG22="",'Bilan médicamenteux'!$AG22="Ne pas inclure"),"",IF('Bilan médicamenteux'!$A22="","",'Bilan médicamenteux'!$A22)),IF(TRIM($A$7)="Conciliation médicamenteuse d'entrée proactive",'Fiche CM entrée proactive'!A22,IF(TRIM($A$7)="Conciliation médicamenteuse d'entrée rétroactive",'Fiche CM entrée rétroactive'!A22,""))) | B17: =IF(TRIM($A$7)="Bilan médicamenteux d'entrée",IFERROR(IF(INDEX('Bilan médicamenteux'!$C22:$AF22,MATCH('Bilan médicamenteux'!$AG22,'Bilan médicamenteux'!$C$12:$AF$12,0))="","",INDEX('Bilan médicamenteux'!$C22:$AF22,MATCH('Bilan médicamenteux'!$AG22,'Bilan médicamenteux'!$C$12:$AF$12,0))),""),IF(TRIM($A$7)="Conciliation médicamenteuse d'entrée proactive",'Fiche CM entrée proactive'!B22,IF(TRIM($A$7)="Conciliation médicamenteuse d'entrée rétroactive",'Fiche CM entrée rétroactive'!B22,""))) | C17: =IF(TRIM($A$7)="Bilan médicamenteux d'entrée",IFERROR(IF(INDEX('Bilan médicamenteux'!$C22:$AF22,MATCH('Bilan médicamenteux'!$AG22,'Bilan médicamenteux'!$C$12:$AF$12,0)+1)="","",INDEX('Bilan médicamenteux'!$C22:$AF22,MATCH('Bilan médicamenteux'!$AG22,'Bilan médicamenteux'!$C$12:$AF$12,0)+1)),""),IF(TRIM($A$7)="Conciliation médicamenteuse d'entrée proactive",'Fiche CM entrée proactive'!C22,IF(TRIM($A$7)="Conciliation médicamenteuse d'entrée rétroactive",'Fiche CM entrée rétroactive'!C22,""))) | D17: =IF(TRIM($A$7)="Bilan médicamenteux d'entrée",IFERROR(IF(INDEX('Bilan médicamenteux'!$C22:$AF22,MATCH('Bilan médicamenteux'!$AG22,'Bilan médicamenteux'!$C$12:$AF$12,0)+2)="","",INDEX('Bilan médicamenteux'!$C22:$AF22,MATCH('Bilan médicamenteux'!$AG22,'Bilan médicamenteux'!$C$12:$AF$12,0)+2)),""),IF(TRIM($A$7)="Conciliation médicamenteuse d'entrée proactive",'Fiche CM entrée proactive'!D22,IF(TRIM($A$7)="Conciliation médicamenteuse d'entrée rétroactive",'Fiche CM entrée rétroactive'!D22,""))) | E17: =IF(TRIM($A$7)="Bilan médicamenteux d'entrée",IFERROR(IF(INDEX('Bilan médicamenteux'!$C22:$AF22,MATCH('Bilan médicamenteux'!$AG22,'Bilan médicamenteux'!$C$12:$AF$12,0)+3)="","",INDEX('Bilan médicamenteux'!$C22:$AF22,MATCH('Bilan médicamenteux'!$AG22,'Bilan médicamenteux'!$C$12:$AF$12,0)+3)),""),IF(TRIM($A$7)="Conciliation médicamenteuse d'entrée proactive",'Fiche CM entrée proactive'!E22,IF(TRIM($A$7)="Conciliation médicamenteuse d'entrée rétroactive",'Fiche CM entrée rétroactive'!E22,""))) | F17: =IF(TRIM($A$7)="Bilan médicamenteux d'entrée",IFERROR(IF(INDEX('Bilan médicamenteux'!$C22:$AF22,MATCH('Bilan médicamenteux'!$AG22,'Bilan médicamenteux'!$C$12:$AF$12,0)+4)="","",INDEX('Bilan médicamenteux'!$C22:$AF22,MATCH('Bilan médicamenteux'!$AG22,'Bilan médicamenteux'!$C$12:$AF$12,0)+4)),""),IF(TRIM($A$7)="Conciliation médicamenteuse d'entrée proactive",'Fiche CM entrée proactive'!F22,IF(TRIM($A$7)="Conciliation médicamenteuse d'entrée rétroactive",'Fiche CM entrée rétroactive'!F22,"")))
A18: =IF(TRIM($A$7)="Bilan médicamenteux d'entrée",IF(OR('Bilan médicamenteux'!$AG23="",'Bilan médicamenteux'!$AG23="Ne pas inclure"),"",IF('Bilan médicamenteux'!$A23="","",'Bilan médicamenteux'!$A23)),IF(TRIM($A$7)="Conciliation médicamenteuse d'entrée proactive",'Fiche CM entrée proactive'!A23,IF(TRIM($A$7)="Conciliation médicamenteuse d'entrée rétroactive",'Fiche CM entrée rétroactive'!A23,""))) | B18: =IF(TRIM($A$7)="Bilan médicamenteux d'entrée",IFERROR(IF(INDEX('Bilan médicamenteux'!$C23:$AF23,MATCH('Bilan médicamenteux'!$AG23,'Bilan médicamenteux'!$C$12:$AF$12,0))="","",INDEX('Bilan médicamenteux'!$C23:$AF23,MATCH('Bilan médicamenteux'!$AG23,'Bilan médicamenteux'!$C$12:$AF$12,0))),""),IF(TRIM($A$7)="Conciliation médicamenteuse d'entrée proactive",'Fiche CM entrée proactive'!B23,IF(TRIM($A$7)="Conciliation médicamenteuse d'entrée rétroactive",'Fiche CM entrée rétroactive'!B23,""))) | C18: =IF(TRIM($A$7)="Bilan médicamenteux d'entrée",IFERROR(IF(INDEX('Bilan médicamenteux'!$C23:$AF23,MATCH('Bilan médicamenteux'!$AG23,'Bilan médicamenteux'!$C$12:$AF$12,0)+1)="","",INDEX('Bilan médicamenteux'!$C23:$AF23,MATCH('Bilan médicamenteux'!$AG23,'Bilan médicamenteux'!$C$12:$AF$12,0)+1)),""),IF(TRIM($A$7)="Conciliation médicamenteuse d'entrée proactive",'Fiche CM entrée proactive'!C23,IF(TRIM($A$7)="Conciliation médicamenteuse d'entrée rétroactive",'Fiche CM entrée rétroactive'!C23,""))) | D18: =IF(TRIM($A$7)="Bilan médicamenteux d'entrée",IFERROR(IF(INDEX('Bilan médicamenteux'!$C23:$AF23,MATCH('Bilan médicamenteux'!$AG23,'Bilan médicamenteux'!$C$12:$AF$12,0)+2)="","",INDEX('Bilan médicamenteux'!$C23:$AF23,MATCH('Bilan médicamenteux'!$AG23,'Bilan médicamenteux'!$C$12:$AF$12,0)+2)),""),IF(TRIM($A$7)="Conciliation médicamenteuse d'entrée proactive",'Fiche CM entrée proactive'!D23,IF(TRIM($A$7)="Conciliation médicamenteuse d'entrée rétroactive",'Fiche CM entrée rétroactive'!D23,""))) | E18: =IF(TRIM($A$7)="Bilan médicamenteux d'entrée",IFERROR(IF(INDEX('Bilan médicamenteux'!$C23:$AF23,MATCH('Bilan médicamenteux'!$AG23,'Bilan médicamenteux'!$C$12:$AF$12,0)+3)="","",INDEX('Bilan médicamenteux'!$C23:$AF23,MATCH('Bilan médicamenteux'!$AG23,'Bilan médicamenteux'!$C$12:$AF$12,0)+3)),""),IF(TRIM($A$7)="Conciliation médicamenteuse d'entrée proactive",'Fiche CM entrée proactive'!E23,IF(TRIM($A$7)="Conciliation médicamenteuse d'entrée rétroactive",'Fiche CM entrée rétroactive'!E23,""))) | F18: =IF(TRIM($A$7)="Bilan médicamenteux d'entrée",IFERROR(IF(INDEX('Bilan médicamenteux'!$C23:$AF23,MATCH('Bilan médicamenteux'!$AG23,'Bilan médicamenteux'!$C$12:$AF$12,0)+4)="","",INDEX('Bilan médicamenteux'!$C23:$AF23,MATCH('Bilan médicamenteux'!$AG23,'Bilan médicamenteux'!$C$12:$AF$12,0)+4)),""),IF(TRIM($A$7)="Conciliation médicamenteuse d'entrée proactive",'Fiche CM entrée proactive'!F23,IF(TRIM($A$7)="Conciliation médicamenteuse d'entrée rétroactive",'Fiche CM entrée rétroactive'!F23,"")))
A19: =IF(TRIM($A$7)="Bilan médicamenteux d'entrée",IF(OR('Bilan médicamenteux'!$AG24="",'Bilan médicamenteux'!$AG24="Ne pas inclure"),"",IF('Bilan médicamenteux'!$A24="","",'Bilan médicamenteux'!$A24)),IF(TRIM($A$7)="Conciliation médicamenteuse d'entrée proactive",'Fiche CM entrée proactive'!A24,IF(TRIM($A$7)="Conciliation médicamenteuse d'entrée rétroactive",'Fiche CM entrée rétroactive'!A24,""))) | B19: =IF(TRIM($A$7)="Bilan médicamenteux d'entrée",IFERROR(IF(INDEX('Bilan médicamenteux'!$C24:$AF24,MATCH('Bilan médicamenteux'!$AG24,'Bilan médicamenteux'!$C$12:$AF$12,0))="","",INDEX('Bilan médicamenteux'!$C24:$AF24,MATCH('Bilan médicamenteux'!$AG24,'Bilan médicamenteux'!$C$12:$AF$12,0))),""),IF(TRIM($A$7)="Conciliation médicamenteuse d'entrée proactive",'Fiche CM entrée proactive'!B24,IF(TRIM($A$7)="Conciliation médicamenteuse d'entrée rétroactive",'Fiche CM entrée rétroactive'!B24,""))) | C19: =IF(TRIM($A$7)="Bilan médicamenteux d'entrée",IFERROR(IF(INDEX('Bilan médicamenteux'!$C24:$AF24,MATCH('Bilan médicamenteux'!$AG24,'Bilan médicamenteux'!$C$12:$AF$12,0)+1)="","",INDEX('Bilan médicamenteux'!$C24:$AF24,MATCH('Bilan médicamenteux'!$AG24,'Bilan médicamenteux'!$C$12:$AF$12,0)+1)),""),IF(TRIM($A$7)="Conciliation médicamenteuse d'entrée proactive",'Fiche CM entrée proactive'!C24,IF(TRIM($A$7)="Conciliation médicamenteuse d'entrée rétroactive",'Fiche CM entrée rétroactive'!C24,""))) | D19: =IF(TRIM($A$7)="Bilan médicamenteux d'entrée",IFERROR(IF(INDEX('Bilan médicamenteux'!$C24:$AF24,MATCH('Bilan médicamenteux'!$AG24,'Bilan médicamenteux'!$C$12:$AF$12,0)+2)="","",INDEX('Bilan médicamenteux'!$C24:$AF24,MATCH('Bilan médicamenteux'!$AG24,'Bilan médicamenteux'!$C$12:$AF$12,0)+2)),""),IF(TRIM($A$7)="Conciliation médicamenteuse d'entrée proactive",'Fiche CM entrée proactive'!D24,IF(TRIM($A$7)="Conciliation médicamenteuse d'entrée rétroactive",'Fiche CM entrée rétroactive'!D24,""))) | E19: =IF(TRIM($A$7)="Bilan médicamenteux d'entrée",IFERROR(IF(INDEX('Bilan médicamenteux'!$C24:$AF24,MATCH('Bilan médicamenteux'!$AG24,'Bilan médicamenteux'!$C$12:$AF$12,0)+3)="","",INDEX('Bilan médicamenteux'!$C24:$AF24,MATCH('Bilan médicamenteux'!$AG24,'Bilan médicamenteux'!$C$12:$AF$12,0)+3)),""),IF(TRIM($A$7)="Conciliation médicamenteuse d'entrée proactive",'Fiche CM entrée proactive'!E24,IF(TRIM($A$7)="Conciliation médicamenteuse d'entrée rétroactive",'Fiche CM entrée rétroactive'!E24,""))) | F19: =IF(TRIM($A$7)="Bilan médicamenteux d'entrée",IFERROR(IF(INDEX('Bilan médicamenteux'!$C24:$AF24,MATCH('Bilan médicamenteux'!$AG24,'Bilan médicamenteux'!$C$12:$AF$12,0)+4)="","",INDEX('Bilan médicamenteux'!$C24:$AF24,MATCH('Bilan médicamenteux'!$AG24,'Bilan médicamenteux'!$C$12:$AF$12,0)+4)),""),IF(TRIM($A$7)="Conciliation médicamenteuse d'entrée proactive",'Fiche CM entrée proactive'!F24,IF(TRIM($A$7)="Conciliation médicamenteuse d'entrée rétroactive",'Fiche CM entrée rétroactive'!F24,"")))
A20: =IF(TRIM($A$7)="Bilan médicamenteux d'entrée",IF(OR('Bilan médicamenteux'!$AG25="",'Bilan médicamenteux'!$AG25="Ne pas inclure"),"",IF('Bilan médicamenteux'!$A25="","",'Bilan médicamenteux'!$A25)),IF(TRIM($A$7)="Conciliation médicamenteuse d'entrée proactive",'Fiche CM entrée proactive'!A25,IF(TRIM($A$7)="Conciliation médicamenteuse d'entrée rétroactive",'Fiche CM entrée rétroactive'!A25,""))) | B20: =IF(TRIM($A$7)="Bilan médicamenteux d'entrée",IFERROR(IF(INDEX('Bilan médicamenteux'!$C25:$AF25,MATCH('Bilan médicamenteux'!$AG25,'Bilan médicamenteux'!$C$12:$AF$12,0))="","",INDEX('Bilan médicamenteux'!$C25:$AF25,MATCH('Bilan médicamenteux'!$AG25,'Bilan médicamenteux'!$C$12:$AF$12,0))),""),IF(TRIM($A$7)="Conciliation médicamenteuse d'entrée proactive",'Fiche CM entrée proactive'!B25,IF(TRIM($A$7)="Conciliation médicamenteuse d'entrée rétroactive",'Fiche CM entrée rétroactive'!B25,""))) | C20: =IF(TRIM($A$7)="Bilan médicamenteux d'entrée",IFERROR(IF(INDEX('Bilan médicamenteux'!$C25:$AF25,MATCH('Bilan médicamenteux'!$AG25,'Bilan médicamenteux'!$C$12:$AF$12,0)+1)="","",INDEX('Bilan médicamenteux'!$C25:$AF25,MATCH('Bilan médicamenteux'!$AG25,'Bilan médicamenteux'!$C$12:$AF$12,0)+1)),""),IF(TRIM($A$7)="Conciliation médicamenteuse d'entrée proactive",'Fiche CM entrée proactive'!C25,IF(TRIM($A$7)="Conciliation médicamenteuse d'entrée rétroactive",'Fiche CM entrée rétroactive'!C25,""))) | D20: =IF(TRIM($A$7)="Bilan médicamenteux d'entrée",IFERROR(IF(INDEX('Bilan médicamenteux'!$C25:$AF25,MATCH('Bilan médicamenteux'!$AG25,'Bilan médicamenteux'!$C$12:$AF$12,0)+2)="","",INDEX('Bilan médicamenteux'!$C25:$AF25,MATCH('Bilan médicamenteux'!$AG25,'Bilan médicamenteux'!$C$12:$AF$12,0)+2)),""),IF(TRIM($A$7)="Conciliation médicamenteuse d'entrée proactive",'Fiche CM entrée proactive'!D25,IF(TRIM($A$7)="Conciliation médicamenteuse d'entrée rétroactive",'Fiche CM entrée rétroactive'!D25,""))) | E20: =IF(TRIM($A$7)="Bilan médicamenteux d'entrée",IFERROR(IF(INDEX('Bilan médicamenteux'!$C25:$AF25,MATCH('Bilan médicamenteux'!$AG25,'Bilan médicamenteux'!$C$12:$AF$12,0)+3)="","",INDEX('Bilan médicamenteux'!$C25:$AF25,MATCH('Bilan médicamenteux'!$AG25,'Bilan médicamenteux'!$C$12:$AF$12,0)+3)),""),IF(TRIM($A$7)="Conciliation médicamenteuse d'entrée proactive",'Fiche CM entrée proactive'!E25,IF(TRIM($A$7)="Conciliation médicamenteuse d'entrée rétroactive",'Fiche CM entrée rétroactive'!E25,""))) | F20: =IF(TRIM($A$7)="Bilan médicamenteux d'entrée",IFERROR(IF(INDEX('Bilan médicamenteux'!$C25:$AF25,MATCH('Bilan médicamenteux'!$AG25,'Bilan médicamenteux'!$C$12:$AF$12,0)+4)="","",INDEX('Bilan médicamenteux'!$C25:$AF25,MATCH('Bilan médicamenteux'!$AG25,'Bilan médicamenteux'!$C$12:$AF$12,0)+4)),""),IF(TRIM($A$7)="Conciliation médicamenteuse d'entrée proactive",'Fiche CM entrée proactive'!F25,IF(TRIM($A$7)="Conciliation médicamenteuse d'entrée rétroactive",'Fiche CM entrée rétroactive'!F25,"")))
A21: =IF(TRIM($A$7)="Bilan médicamenteux d'entrée",IF(OR('Bilan médicamenteux'!$AG26="",'Bilan médicamenteux'!$AG26="Ne pas inclure"),"",IF('Bilan médicamenteux'!$A26="","",'Bilan médicamenteux'!$A26)),IF(TRIM($A$7)="Conciliation médicamenteuse d'entrée proactive",'Fiche CM entrée proactive'!A26,IF(TRIM($A$7)="Conciliation médicamenteuse d'entrée rétroactive",'Fiche CM entrée rétroactive'!A26,""))) | B21: =IF(TRIM($A$7)="Bilan médicamenteux d'entrée",IFERROR(IF(INDEX('Bilan médicamenteux'!$C26:$AF26,MATCH('Bilan médicamenteux'!$AG26,'Bilan médicamenteux'!$C$12:$AF$12,0))="","",INDEX('Bilan médicamenteux'!$C26:$AF26,MATCH('Bilan médicamenteux'!$AG26,'Bilan médicamenteux'!$C$12:$AF$12,0))),""),IF(TRIM($A$7)="Conciliation médicamenteuse d'entrée proactive",'Fiche CM entrée proactive'!B26,IF(TRIM($A$7)="Conciliation médicamenteuse d'entrée rétroactive",'Fiche CM entrée rétroactive'!B26,""))) | C21: =IF(TRIM($A$7)="Bilan médicamenteux d'entrée",IFERROR(IF(INDEX('Bilan médicamenteux'!$C26:$AF26,MATCH('Bilan médicamenteux'!$AG26,'Bilan médicamenteux'!$C$12:$AF$12,0)+1)="","",INDEX('Bilan médicamenteux'!$C26:$AF26,MATCH('Bilan médicamenteux'!$AG26,'Bilan médicamenteux'!$C$12:$AF$12,0)+1)),""),IF(TRIM($A$7)="Conciliation médicamenteuse d'entrée proactive",'Fiche CM entrée proactive'!C26,IF(TRIM($A$7)="Conciliation médicamenteuse d'entrée rétroactive",'Fiche CM entrée rétroactive'!C26,""))) | D21: =IF(TRIM($A$7)="Bilan médicamenteux d'entrée",IFERROR(IF(INDEX('Bilan médicamenteux'!$C26:$AF26,MATCH('Bilan médicamenteux'!$AG26,'Bilan médicamenteux'!$C$12:$AF$12,0)+2)="","",INDEX('Bilan médicamenteux'!$C26:$AF26,MATCH('Bilan médicamenteux'!$AG26,'Bilan médicamenteux'!$C$12:$AF$12,0)+2)),""),IF(TRIM($A$7)="Conciliation médicamenteuse d'entrée proactive",'Fiche CM entrée proactive'!D26,IF(TRIM($A$7)="Conciliation médicamenteuse d'entrée rétroactive",'Fiche CM entrée rétroactive'!D26,""))) | E21: =IF(TRIM($A$7)="Bilan médicamenteux d'entrée",IFERROR(IF(INDEX('Bilan médicamenteux'!$C26:$AF26,MATCH('Bilan médicamenteux'!$AG26,'Bilan médicamenteux'!$C$12:$AF$12,0)+3)="","",INDEX('Bilan médicamenteux'!$C26:$AF26,MATCH('Bilan médicamenteux'!$AG26,'Bilan médicamenteux'!$C$12:$AF$12,0)+3)),""),IF(TRIM($A$7)="Conciliation médicamenteuse d'entrée proactive",'Fiche CM entrée proactive'!E26,IF(TRIM($A$7)="Conciliation médicamenteuse d'entrée rétroactive",'Fiche CM entrée rétroactive'!E26,""))) | F21: =IF(TRIM($A$7)="Bilan médicamenteux d'entrée",IFERROR(IF(INDEX('Bilan médicamenteux'!$C26:$AF26,MATCH('Bilan médicamenteux'!$AG26,'Bilan médicamenteux'!$C$12:$AF$12,0)+4)="","",INDEX('Bilan médicamenteux'!$C26:$AF26,MATCH('Bilan médicamenteux'!$AG26,'Bilan médicamenteux'!$C$12:$AF$12,0)+4)),""),IF(TRIM($A$7)="Conciliation médicamenteuse d'entrée proactive",'Fiche CM entrée proactive'!F26,IF(TRIM($A$7)="Conciliation médicamenteuse d'entrée rétroactive",'Fiche CM entrée rétroactive'!F26,"")))
A22: =IF(TRIM($A$7)="Bilan médicamenteux d'entrée",IF(OR('Bilan médicamenteux'!$AG27="",'Bilan médicamenteux'!$AG27="Ne pas inclure"),"",IF('Bilan médicamenteux'!$A27="","",'Bilan médicamenteux'!$A27)),IF(TRIM($A$7)="Conciliation médicamenteuse d'entrée proactive",'Fiche CM entrée proactive'!A27,IF(TRIM($A$7)="Conciliation médicamenteuse d'entrée rétroactive",'Fiche CM entrée rétroactive'!A27,""))) | B22: =IF(TRIM($A$7)="Bilan médicamenteux d'entrée",IFERROR(IF(INDEX('Bilan médicamenteux'!$C27:$AF27,MATCH('Bilan médicamenteux'!$AG27,'Bilan médicamenteux'!$C$12:$AF$12,0))="","",INDEX('Bilan médicamenteux'!$C27:$AF27,MATCH('Bilan médicamenteux'!$AG27,'Bilan médicamenteux'!$C$12:$AF$12,0))),""),IF(TRIM($A$7)="Conciliation médicamenteuse d'entrée proactive",'Fiche CM entrée proactive'!B27,IF(TRIM($A$7)="Conciliation médicamenteuse d'entrée rétroactive",'Fiche CM entrée rétroactive'!B27,""))) | C22: =IF(TRIM($A$7)="Bilan médicamenteux d'entrée",IFERROR(IF(INDEX('Bilan médicamenteux'!$C27:$AF27,MATCH('Bilan médicamenteux'!$AG27,'Bilan médicamenteux'!$C$12:$AF$12,0)+1)="","",INDEX('Bilan médicamenteux'!$C27:$AF27,MATCH('Bilan médicamenteux'!$AG27,'Bilan médicamenteux'!$C$12:$AF$12,0)+1)),""),IF(TRIM($A$7)="Conciliation médicamenteuse d'entrée proactive",'Fiche CM entrée proactive'!C27,IF(TRIM($A$7)="Conciliation médicamenteuse d'entrée rétroactive",'Fiche CM entrée rétroactive'!C27,""))) | D22: =IF(TRIM($A$7)="Bilan médicamenteux d'entrée",IFERROR(IF(INDEX('Bilan médicamenteux'!$C27:$AF27,MATCH('Bilan médicamenteux'!$AG27,'Bilan médicamenteux'!$C$12:$AF$12,0)+2)="","",INDEX('Bilan médicamenteux'!$C27:$AF27,MATCH('Bilan médicamenteux'!$AG27,'Bilan médicamenteux'!$C$12:$AF$12,0)+2)),""),IF(TRIM($A$7)="Conciliation médicamenteuse d'entrée proactive",'Fiche CM entrée proactive'!D27,IF(TRIM($A$7)="Conciliation médicamenteuse d'entrée rétroactive",'Fiche CM entrée rétroactive'!D27,""))) | E22: =IF(TRIM($A$7)="Bilan médicamenteux d'entrée",IFERROR(IF(INDEX('Bilan médicamenteux'!$C27:$AF27,MATCH('Bilan médicamenteux'!$AG27,'Bilan médicamenteux'!$C$12:$AF$12,0)+3)="","",INDEX('Bilan médicamenteux'!$C27:$AF27,MATCH('Bilan médicamenteux'!$AG27,'Bilan médicamenteux'!$C$12:$AF$12,0)+3)),""),IF(TRIM($A$7)="Conciliation médicamenteuse d'entrée proactive",'Fiche CM entrée proactive'!E27,IF(TRIM($A$7)="Conciliation médicamenteuse d'entrée rétroactive",'Fiche CM entrée rétroactive'!E27,""))) | F22: =IF(TRIM($A$7)="Bilan médicamenteux d'entrée",IFERROR(IF(INDEX('Bilan médicamenteux'!$C27:$AF27,MATCH('Bilan médicamenteux'!$AG27,'Bilan médicamenteux'!$C$12:$AF$12,0)+4)="","",INDEX('Bilan médicamenteux'!$C27:$AF27,MATCH('Bilan médicamenteux'!$AG27,'Bilan médicamenteux'!$C$12:$AF$12,0)+4)),""),IF(TRIM($A$7)="Conciliation médicamenteuse d'entrée proactive",'Fiche CM entrée proactive'!F27,IF(TRIM($A$7)="Conciliation médicamenteuse d'entrée rétroactive",'Fiche CM entrée rétroactive'!F27,"")))
A23: =IF(TRIM($A$7)="Bilan médicamenteux d'entrée",IF(OR('Bilan médicamenteux'!$AG28="",'Bilan médicamenteux'!$AG28="Ne pas inclure"),"",IF('Bilan médicamenteux'!$A28="","",'Bilan médicamenteux'!$A28)),IF(TRIM($A$7)="Conciliation médicamenteuse d'entrée proactive",'Fiche CM entrée proactive'!A28,IF(TRIM($A$7)="Conciliation médicamenteuse d'entrée rétroactive",'Fiche CM entrée rétroactive'!A28,""))) | B23: =IF(TRIM($A$7)="Bilan médicamenteux d'entrée",IFERROR(IF(INDEX('Bilan médicamenteux'!$C28:$AF28,MATCH('Bilan médicamenteux'!$AG28,'Bilan médicamenteux'!$C$12:$AF$12,0))="","",INDEX('Bilan médicamenteux'!$C28:$AF28,MATCH('Bilan médicamenteux'!$AG28,'Bilan médicamenteux'!$C$12:$AF$12,0))),""),IF(TRIM($A$7)="Conciliation médicamenteuse d'entrée proactive",'Fiche CM entrée proactive'!B28,IF(TRIM($A$7)="Conciliation médicamenteuse d'entrée rétroactive",'Fiche CM entrée rétroactive'!B28,""))) | C23: =IF(TRIM($A$7)="Bilan médicamenteux d'entrée",IFERROR(IF(INDEX('Bilan médicamenteux'!$C28:$AF28,MATCH('Bilan médicamenteux'!$AG28,'Bilan médicamenteux'!$C$12:$AF$12,0)+1)="","",INDEX('Bilan médicamenteux'!$C28:$AF28,MATCH('Bilan médicamenteux'!$AG28,'Bilan médicamenteux'!$C$12:$AF$12,0)+1)),""),IF(TRIM($A$7)="Conciliation médicamenteuse d'entrée proactive",'Fiche CM entrée proactive'!C28,IF(TRIM($A$7)="Conciliation médicamenteuse d'entrée rétroactive",'Fiche CM entrée rétroactive'!C28,""))) | D23: =IF(TRIM($A$7)="Bilan médicamenteux d'entrée",IFERROR(IF(INDEX('Bilan médicamenteux'!$C28:$AF28,MATCH('Bilan médicamenteux'!$AG28,'Bilan médicamenteux'!$C$12:$AF$12,0)+2)="","",INDEX('Bilan médicamenteux'!$C28:$AF28,MATCH('Bilan médicamenteux'!$AG28,'Bilan médicamenteux'!$C$12:$AF$12,0)+2)),""),IF(TRIM($A$7)="Conciliation médicamenteuse d'entrée proactive",'Fiche CM entrée proactive'!D28,IF(TRIM($A$7)="Conciliation médicamenteuse d'entrée rétroactive",'Fiche CM entrée rétroactive'!D28,""))) | E23: =IF(TRIM($A$7)="Bilan médicamenteux d'entrée",IFERROR(IF(INDEX('Bilan médicamenteux'!$C28:$AF28,MATCH('Bilan médicamenteux'!$AG28,'Bilan médicamenteux'!$C$12:$AF$12,0)+3)="","",INDEX('Bilan médicamenteux'!$C28:$AF28,MATCH('Bilan médicamenteux'!$AG28,'Bilan médicamenteux'!$C$12:$AF$12,0)+3)),""),IF(TRIM($A$7)="Conciliation médicamenteuse d'entrée proactive",'Fiche CM entrée proactive'!E28,IF(TRIM($A$7)="Conciliation médicamenteuse d'entrée rétroactive",'Fiche CM entrée rétroactive'!E28,""))) | F23: =IF(TRIM($A$7)="Bilan médicamenteux d'entrée",IFERROR(IF(INDEX('Bilan médicamenteux'!$C28:$AF28,MATCH('Bilan médicamenteux'!$AG28,'Bilan médicamenteux'!$C$12:$AF$12,0)+4)="","",INDEX('Bilan médicamenteux'!$C28:$AF28,MATCH('Bilan médicamenteux'!$AG28,'Bilan médicamenteux'!$C$12:$AF$12,0)+4)),""),IF(TRIM($A$7)="Conciliation médicamenteuse d'entrée proactive",'Fiche CM entrée proactive'!F28,IF(TRIM($A$7)="Conciliation médicamenteuse d'entrée rétroactive",'Fiche CM entrée rétroactive'!F28,"")))
A24: =IF(TRIM($A$7)="Bilan médicamenteux d'entrée",IF(OR('Bilan médicamenteux'!$AG35="",'Bilan médicamenteux'!$AG35="Ne pas inclure"),"",IF('Bilan médicamenteux'!$A35="","",'Bilan médicamenteux'!$A35)),IF(TRIM($A$7)="Conciliation médicamenteuse d'entrée proactive",'Fiche CM entrée proactive'!A29,IF(TRIM($A$7)="Conciliation médicamenteuse d'entrée rétroactive",'Fiche CM entrée rétroactive'!A29,""))) | B24: =IF(TRIM($A$7)="Bilan médicamenteux d'entrée",IFERROR(IF(INDEX('Bilan médicamenteux'!$C35:$AF35,MATCH('Bilan médicamenteux'!$AG35,'Bilan médicamenteux'!$C$12:$AF$12,0))="","",INDEX('Bilan médicamenteux'!$C35:$AF35,MATCH('Bilan médicamenteux'!$AG35,'Bilan médicamenteux'!$C$12:$AF$12,0))),""),IF(TRIM($A$7)="Conciliation médicamenteuse d'entrée proactive",'Fiche CM entrée proactive'!B29,IF(TRIM($A$7)="Conciliation médicamenteuse d'entrée rétroactive",'Fiche CM entrée rétroactive'!B29,""))) | C24: =IF(TRIM($A$7)="Bilan médicamenteux d'entrée",IFERROR(IF(INDEX('Bilan médicamenteux'!$C35:$AF35,MATCH('Bilan médicamenteux'!$AG35,'Bilan médicamenteux'!$C$12:$AF$12,0)+1)="","",INDEX('Bilan médicamenteux'!$C35:$AF35,MATCH('Bilan médicamenteux'!$AG35,'Bilan médicamenteux'!$C$12:$AF$12,0)+1)),""),IF(TRIM($A$7)="Conciliation médicamenteuse d'entrée proactive",'Fiche CM entrée proactive'!C29,IF(TRIM($A$7)="Conciliation médicamenteuse d'entrée rétroactive",'Fiche CM entrée rétroactive'!C29,""))) | D24: =IF(TRIM($A$7)="Bilan médicamenteux d'entrée",IFERROR(IF(INDEX('Bilan médicamenteux'!$C35:$AF35,MATCH('Bilan médicamenteux'!$AG35,'Bilan médicamenteux'!$C$12:$AF$12,0)+2)="","",INDEX('Bilan médicamenteux'!$C35:$AF35,MATCH('Bilan médicamenteux'!$AG35,'Bilan médicamenteux'!$C$12:$AF$12,0)+2)),""),IF(TRIM($A$7)="Conciliation médicamenteuse d'entrée proactive",'Fiche CM entrée proactive'!D29,IF(TRIM($A$7)="Conciliation médicamenteuse d'entrée rétroactive",'Fiche CM entrée rétroactive'!D29,""))) | E24: =IF(TRIM($A$7)="Bilan médicamenteux d'entrée",IFERROR(IF(INDEX('Bilan médicamenteux'!$C35:$AF35,MATCH('Bilan médicamenteux'!$AG35,'Bilan médicamenteux'!$C$12:$AF$12,0)+3)="","",INDEX('Bilan médicamenteux'!$C35:$AF35,MATCH('Bilan médicamenteux'!$AG35,'Bilan médicamenteux'!$C$12:$AF$12,0)+3)),""),IF(TRIM($A$7)="Conciliation médicamenteuse d'entrée proactive",'Fiche CM entrée proactive'!E29,IF(TRIM($A$7)="Conciliation médicamenteuse d'entrée rétroactive",'Fiche CM entrée rétroactive'!E29,""))) | F24: =IF(TRIM($A$7)="Bilan médicamenteux d'entrée",IFERROR(IF(INDEX('Bilan médicamenteux'!$C35:$AF35,MATCH('Bilan médicamenteux'!$AG35,'Bilan médicamenteux'!$C$12:$AF$12,0)+4)="","",INDEX('Bilan médicamenteux'!$C35:$AF35,MATCH('Bilan médicamenteux'!$AG35,'Bilan médicamenteux'!$C$12:$AF$12,0)+4)),""),IF(TRIM($A$7)="Conciliation médicamenteuse d'entrée proactive",'Fiche CM entrée proactive'!F29,IF(TRIM($A$7)="Conciliation médicamenteuse d'entrée rétroactive",'Fiche CM entrée rétroactive'!F29,"")))
A25: =IF(TRIM($A$7)="Bilan médicamenteux d'entrée",IF(OR('Bilan médicamenteux'!$AG36="",'Bilan médicamenteux'!$AG36="Ne pas inclure"),"",IF('Bilan médicamenteux'!$A36="","",'Bilan médicamenteux'!$A36)),IF(TRIM($A$7)="Conciliation médicamenteuse d'entrée proactive",'Fiche CM entrée proactive'!A30,IF(TRIM($A$7)="Conciliation médicamenteuse d'entrée rétroactive",'Fiche CM entrée rétroactive'!A30,""))) | B25: =IF(TRIM($A$7)="Bilan médicamenteux d'entrée",IFERROR(IF(INDEX('Bilan médicamenteux'!$C36:$AF36,MATCH('Bilan médicamenteux'!$AG36,'Bilan médicamenteux'!$C$12:$AF$12,0))="","",INDEX('Bilan médicamenteux'!$C36:$AF36,MATCH('Bilan médicamenteux'!$AG36,'Bilan médicamenteux'!$C$12:$AF$12,0))),""),IF(TRIM($A$7)="Conciliation médicamenteuse d'entrée proactive",'Fiche CM entrée proactive'!B30,IF(TRIM($A$7)="Conciliation médicamenteuse d'entrée rétroactive",'Fiche CM entrée rétroactive'!B30,""))) | C25: =IF(TRIM($A$7)="Bilan médicamenteux d'entrée",IFERROR(IF(INDEX('Bilan médicamenteux'!$C36:$AF36,MATCH('Bilan médicamenteux'!$AG36,'Bilan médicamenteux'!$C$12:$AF$12,0)+1)="","",INDEX('Bilan médicamenteux'!$C36:$AF36,MATCH('Bilan médicamenteux'!$AG36,'Bilan médicamenteux'!$C$12:$AF$12,0)+1)),""),IF(TRIM($A$7)="Conciliation médicamenteuse d'entrée proactive",'Fiche CM entrée proactive'!C30,IF(TRIM($A$7)="Conciliation médicamenteuse d'entrée rétroactive",'Fiche CM entrée rétroactive'!C30,""))) | D25: =IF(TRIM($A$7)="Bilan médicamenteux d'entrée",IFERROR(IF(INDEX('Bilan médicamenteux'!$C36:$AF36,MATCH('Bilan médicamenteux'!$AG36,'Bilan médicamenteux'!$C$12:$AF$12,0)+2)="","",INDEX('Bilan médicamenteux'!$C36:$AF36,MATCH('Bilan médicamenteux'!$AG36,'Bilan médicamenteux'!$C$12:$AF$12,0)+2)),""),IF(TRIM($A$7)="Conciliation médicamenteuse d'entrée proactive",'Fiche CM entrée proactive'!D30,IF(TRIM($A$7)="Conciliation médicamenteuse d'entrée rétroactive",'Fiche CM entrée rétroactive'!D30,""))) | E25: =IF(TRIM($A$7)="Bilan médicamenteux d'entrée",IFERROR(IF(INDEX('Bilan médicamenteux'!$C36:$AF36,MATCH('Bilan médicamenteux'!$AG36,'Bilan médicamenteux'!$C$12:$AF$12,0)+3)="","",INDEX('Bilan médicamenteux'!$C36:$AF36,MATCH('Bilan médicamenteux'!$AG36,'Bilan médicamenteux'!$C$12:$AF$12,0)+3)),""),IF(TRIM($A$7)="Conciliation médicamenteuse d'entrée proactive",'Fiche CM entrée proactive'!E30,IF(TRIM($A$7)="Conciliation médicamenteuse d'entrée rétroactive",'Fiche CM entrée rétroactive'!E30,""))) | F25: =IF(TRIM($A$7)="Bilan médicamenteux d'entrée",IFERROR(IF(INDEX('Bilan médicamenteux'!$C36:$AF36,MATCH('Bilan médicamenteux'!$AG36,'Bilan médicamenteux'!$C$12:$AF$12,0)+4)="","",INDEX('Bilan médicamenteux'!$C36:$AF36,MATCH('Bilan médicamenteux'!$AG36,'Bilan médicamenteux'!$C$12:$AF$12,0)+4)),""),IF(TRIM($A$7)="Conciliation médicamenteuse d'entrée proactive",'Fiche CM entrée proactive'!F30,IF(TRIM($A$7)="Conciliation médicamenteuse d'entrée rétroactive",'Fiche CM entrée rétroactive'!F30,"")))
A26: =IF(TRIM($A$7)="Bilan médicamenteux d'entrée",IF(OR('Bilan médicamenteux'!$AG37="",'Bilan médicamenteux'!$AG37="Ne pas inclure"),"",IF('Bilan médicamenteux'!$A37="","",'Bilan médicamenteux'!$A37)),IF(TRIM($A$7)="Conciliation médicamenteuse d'entrée proactive",'Fiche CM entrée proactive'!A31,IF(TRIM($A$7)="Conciliation médicamenteuse d'entrée rétroactive",'Fiche CM entrée rétroactive'!A31,""))) | B26: =IF(TRIM($A$7)="Bilan médicamenteux d'entrée",IFERROR(IF(INDEX('Bilan médicamenteux'!$C37:$AF37,MATCH('Bilan médicamenteux'!$AG37,'Bilan médicamenteux'!$C$12:$AF$12,0))="","",INDEX('Bilan médicamenteux'!$C37:$AF37,MATCH('Bilan médicamenteux'!$AG37,'Bilan médicamenteux'!$C$12:$AF$12,0))),""),IF(TRIM($A$7)="Conciliation médicamenteuse d'entrée proactive",'Fiche CM entrée proactive'!B31,IF(TRIM($A$7)="Conciliation médicamenteuse d'entrée rétroactive",'Fiche CM entrée rétroactive'!B31,""))) | C26: =IF(TRIM($A$7)="Bilan médicamenteux d'entrée",IFERROR(IF(INDEX('Bilan médicamenteux'!$C37:$AF37,MATCH('Bilan médicamenteux'!$AG37,'Bilan médicamenteux'!$C$12:$AF$12,0)+1)="","",INDEX('Bilan médicamenteux'!$C37:$AF37,MATCH('Bilan médicamenteux'!$AG37,'Bilan médicamenteux'!$C$12:$AF$12,0)+1)),""),IF(TRIM($A$7)="Conciliation médicamenteuse d'entrée proactive",'Fiche CM entrée proactive'!C31,IF(TRIM($A$7)="Conciliation médicamenteuse d'entrée rétroactive",'Fiche CM entrée rétroactive'!C31,""))) | D26: =IF(TRIM($A$7)="Bilan médicamenteux d'entrée",IFERROR(IF(INDEX('Bilan médicamenteux'!$C37:$AF37,MATCH('Bilan médicamenteux'!$AG37,'Bilan médicamenteux'!$C$12:$AF$12,0)+2)="","",INDEX('Bilan médicamenteux'!$C37:$AF37,MATCH('Bilan médicamenteux'!$AG37,'Bilan médicamenteux'!$C$12:$AF$12,0)+2)),""),IF(TRIM($A$7)="Conciliation médicamenteuse d'entrée proactive",'Fiche CM entrée proactive'!D31,IF(TRIM($A$7)="Conciliation médicamenteuse d'entrée rétroactive",'Fiche CM entrée rétroactive'!D31,""))) | E26: =IF(TRIM($A$7)="Bilan médicamenteux d'entrée",IFERROR(IF(INDEX('Bilan médicamenteux'!$C37:$AF37,MATCH('Bilan médicamenteux'!$AG37,'Bilan médicamenteux'!$C$12:$AF$12,0)+3)="","",INDEX('Bilan médicamenteux'!$C37:$AF37,MATCH('Bilan médicamenteux'!$AG37,'Bilan médicamenteux'!$C$12:$AF$12,0)+3)),""),IF(TRIM($A$7)="Conciliation médicamenteuse d'entrée proactive",'Fiche CM entrée proactive'!E31,IF(TRIM($A$7)="Conciliation médicamenteuse d'entrée rétroactive",'Fiche CM entrée rétroactive'!E31,""))) | F26: =IF(TRIM($A$7)="Bilan médicamenteux d'entrée",IFERROR(IF(INDEX('Bilan médicamenteux'!$C37:$AF37,MATCH('Bilan médicamenteux'!$AG37,'Bilan médicamenteux'!$C$12:$AF$12,0)+4)="","",INDEX('Bilan médicamenteux'!$C37:$AF37,MATCH('Bilan médicamenteux'!$AG37,'Bilan médicamenteux'!$C$12:$AF$12,0)+4)),""),IF(TRIM($A$7)="Conciliation médicamenteuse d'entrée proactive",'Fiche CM entrée proactive'!F31,IF(TRIM($A$7)="Conciliation médicamenteuse d'entrée rétroactive",'Fiche CM entrée rétroactive'!F31,"")))
A27: =IF(TRIM($A$7)="Bilan médicamenteux d'entrée",IF(OR('Bilan médicamenteux'!$AG38="",'Bilan médicamenteux'!$AG38="Ne pas inclure"),"",IF('Bilan médicamenteux'!$A38="","",'Bilan médicamenteux'!$A38)),IF(TRIM($A$7)="Conciliation médicamenteuse d'entrée proactive",'Fiche CM entrée proactive'!A32,IF(TRIM($A$7)="Conciliation médicamenteuse d'entrée rétroactive",'Fiche CM entrée rétroactive'!A40,""))) | B27: =IF(TRIM($A$7)="Bilan médicamenteux d'entrée",IFERROR(IF(INDEX('Bilan médicamenteux'!$C38:$AF38,MATCH('Bilan médicamenteux'!$AG38,'Bilan médicamenteux'!$C$12:$AF$12,0))="","",INDEX('Bilan médicamenteux'!$C38:$AF38,MATCH('Bilan médicamenteux'!$AG38,'Bilan médicamenteux'!$C$12:$AF$12,0))),""),IF(TRIM($A$7)="Conciliation médicamenteuse d'entrée proactive",'Fiche CM entrée proactive'!B32,IF(TRIM($A$7)="Conciliation médicamenteuse d'entrée rétroactive",'Fiche CM entrée rétroactive'!B40,""))) | C27: =IF(TRIM($A$7)="Bilan médicamenteux d'entrée",IFERROR(IF(INDEX('Bilan médicamenteux'!$C38:$AF38,MATCH('Bilan médicamenteux'!$AG38,'Bilan médicamenteux'!$C$12:$AF$12,0)+1)="","",INDEX('Bilan médicamenteux'!$C38:$AF38,MATCH('Bilan médicamenteux'!$AG38,'Bilan médicamenteux'!$C$12:$AF$12,0)+1)),""),IF(TRIM($A$7)="Conciliation médicamenteuse d'entrée proactive",'Fiche CM entrée proactive'!C32,IF(TRIM($A$7)="Conciliation médicamenteuse d'entrée rétroactive",'Fiche CM entrée rétroactive'!C40,""))) | D27: =IF(TRIM($A$7)="Bilan médicamenteux d'entrée",IFERROR(IF(INDEX('Bilan médicamenteux'!$C38:$AF38,MATCH('Bilan médicamenteux'!$AG38,'Bilan médicamenteux'!$C$12:$AF$12,0)+2)="","",INDEX('Bilan médicamenteux'!$C38:$AF38,MATCH('Bilan médicamenteux'!$AG38,'Bilan médicamenteux'!$C$12:$AF$12,0)+2)),""),IF(TRIM($A$7)="Conciliation médicamenteuse d'entrée proactive",'Fiche CM entrée proactive'!D32,IF(TRIM($A$7)="Conciliation médicamenteuse d'entrée rétroactive",'Fiche CM entrée rétroactive'!D40,""))) | E27: =IF(TRIM($A$7)="Bilan médicamenteux d'entrée",IFERROR(IF(INDEX('Bilan médicamenteux'!$C38:$AF38,MATCH('Bilan médicamenteux'!$AG38,'Bilan médicamenteux'!$C$12:$AF$12,0)+3)="","",INDEX('Bilan médicamenteux'!$C38:$AF38,MATCH('Bilan médicamenteux'!$AG38,'Bilan médicamenteux'!$C$12:$AF$12,0)+3)),""),IF(TRIM($A$7)="Conciliation médicamenteuse d'entrée proactive",'Fiche CM entrée proactive'!E32,IF(TRIM($A$7)="Conciliation médicamenteuse d'entrée rétroactive",'Fiche CM entrée rétroactive'!E40,""))) | F27: =IF(TRIM($A$7)="Bilan médicamenteux d'entrée",IFERROR(IF(INDEX('Bilan médicamenteux'!$C38:$AF38,MATCH('Bilan médicamenteux'!$AG38,'Bilan médicamenteux'!$C$12:$AF$12,0)+4)="","",INDEX('Bilan médicamenteux'!$C38:$AF38,MATCH('Bilan médicamenteux'!$AG38,'Bilan médicamenteux'!$C$12:$AF$12,0)+4)),""),IF(TRIM($A$7)="Conciliation médicamenteuse d'entrée proactive",'Fiche CM entrée proactive'!F32,IF(TRIM($A$7)="Conciliation médicamenteuse d'entrée rétroactive",'Fiche CM entrée rétroactive'!F40,"")))
A28: =IF(TRIM($A$7)="Bilan médicamenteux d'entrée",IF(OR('Bilan médicamenteux'!$AG39="",'Bilan médicamenteux'!$AG39="Ne pas inclure"),"",IF('Bilan médicamenteux'!$A39="","",'Bilan médicamenteux'!$A39)),IF(TRIM($A$7)="Conciliation médicamenteuse d'entrée proactive",'Fiche CM entrée proactive'!A33,IF(TRIM($A$7)="Conciliation médicamenteuse d'entrée rétroactive",'Fiche CM entrée rétroactive'!A41,""))) | B28: =IF(TRIM($A$7)="Bilan médicamenteux d'entrée",IFERROR(IF(INDEX('Bilan médicamenteux'!$C39:$AF39,MATCH('Bilan médicamenteux'!$AG39,'Bilan médicamenteux'!$C$12:$AF$12,0))="","",INDEX('Bilan médicamenteux'!$C39:$AF39,MATCH('Bilan médicamenteux'!$AG39,'Bilan médicamenteux'!$C$12:$AF$12,0))),""),IF(TRIM($A$7)="Conciliation médicamenteuse d'entrée proactive",'Fiche CM entrée proactive'!B33,IF(TRIM($A$7)="Conciliation médicamenteuse d'entrée rétroactive",'Fiche CM entrée rétroactive'!B41,""))) | C28: =IF(TRIM($A$7)="Bilan médicamenteux d'entrée",IFERROR(IF(INDEX('Bilan médicamenteux'!$C39:$AF39,MATCH('Bilan médicamenteux'!$AG39,'Bilan médicamenteux'!$C$12:$AF$12,0)+1)="","",INDEX('Bilan médicamenteux'!$C39:$AF39,MATCH('Bilan médicamenteux'!$AG39,'Bilan médicamenteux'!$C$12:$AF$12,0)+1)),""),IF(TRIM($A$7)="Conciliation médicamenteuse d'entrée proactive",'Fiche CM entrée proactive'!C33,IF(TRIM($A$7)="Conciliation médicamenteuse d'entrée rétroactive",'Fiche CM entrée rétroactive'!C41,""))) | D28: =IF(TRIM($A$7)="Bilan médicamenteux d'entrée",IFERROR(IF(INDEX('Bilan médicamenteux'!$C39:$AF39,MATCH('Bilan médicamenteux'!$AG39,'Bilan médicamenteux'!$C$12:$AF$12,0)+2)="","",INDEX('Bilan médicamenteux'!$C39:$AF39,MATCH('Bilan médicamenteux'!$AG39,'Bilan médicamenteux'!$C$12:$AF$12,0)+2)),""),IF(TRIM($A$7)="Conciliation médicamenteuse d'entrée proactive",'Fiche CM entrée proactive'!D33,IF(TRIM($A$7)="Conciliation médicamenteuse d'entrée rétroactive",'Fiche CM entrée rétroactive'!D41,""))) | E28: =IF(TRIM($A$7)="Bilan médicamenteux d'entrée",IFERROR(IF(INDEX('Bilan médicamenteux'!$C39:$AF39,MATCH('Bilan médicamenteux'!$AG39,'Bilan médicamenteux'!$C$12:$AF$12,0)+3)="","",INDEX('Bilan médicamenteux'!$C39:$AF39,MATCH('Bilan médicamenteux'!$AG39,'Bilan médicamenteux'!$C$12:$AF$12,0)+3)),""),IF(TRIM($A$7)="Conciliation médicamenteuse d'entrée proactive",'Fiche CM entrée proactive'!E33,IF(TRIM($A$7)="Conciliation médicamenteuse d'entrée rétroactive",'Fiche CM entrée rétroactive'!E41,""))) | F28: =IF(TRIM($A$7)="Bilan médicamenteux d'entrée",IFERROR(IF(INDEX('Bilan médicamenteux'!$C39:$AF39,MATCH('Bilan médicamenteux'!$AG39,'Bilan médicamenteux'!$C$12:$AF$12,0)+4)="","",INDEX('Bilan médicamenteux'!$C39:$AF39,MATCH('Bilan médicamenteux'!$AG39,'Bilan médicamenteux'!$C$12:$AF$12,0)+4)),""),IF(TRIM($A$7)="Conciliation médicamenteuse d'entrée proactive",'Fiche CM entrée proactive'!F33,IF(TRIM($A$7)="Conciliation médicamenteuse d'entrée rétroactive",'Fiche CM entrée rétroactive'!F41,"")))
A29: =IF(TRIM($A$7)="Bilan médicamenteux d'entrée",IF(OR('Bilan médicamenteux'!$AG40="",'Bilan médicamenteux'!$AG40="Ne pas inclure"),"",IF('Bilan médicamenteux'!$A40="","",'Bilan médicamenteux'!$A40)),IF(TRIM($A$7)="Conciliation médicamenteuse d'entrée proactive",'Fiche CM entrée proactive'!A34,IF(TRIM($A$7)="Conciliation médicamenteuse d'entrée rétroactive",'Fiche CM entrée rétroactive'!A42,""))) | B29: =IF(TRIM($A$7)="Bilan médicamenteux d'entrée",IFERROR(IF(INDEX('Bilan médicamenteux'!$C40:$AF40,MATCH('Bilan médicamenteux'!$AG40,'Bilan médicamenteux'!$C$12:$AF$12,0))="","",INDEX('Bilan médicamenteux'!$C40:$AF40,MATCH('Bilan médicamenteux'!$AG40,'Bilan médicamenteux'!$C$12:$AF$12,0))),""),IF(TRIM($A$7)="Conciliation médicamenteuse d'entrée proactive",'Fiche CM entrée proactive'!B34,IF(TRIM($A$7)="Conciliation médicamenteuse d'entrée rétroactive",'Fiche CM entrée rétroactive'!B42,""))) | C29: =IF(TRIM($A$7)="Bilan médicamenteux d'entrée",IFERROR(IF(INDEX('Bilan médicamenteux'!$C40:$AF40,MATCH('Bilan médicamenteux'!$AG40,'Bilan médicamenteux'!$C$12:$AF$12,0)+1)="","",INDEX('Bilan médicamenteux'!$C40:$AF40,MATCH('Bilan médicamenteux'!$AG40,'Bilan médicamenteux'!$C$12:$AF$12,0)+1)),""),IF(TRIM($A$7)="Conciliation médicamenteuse d'entrée proactive",'Fiche CM entrée proactive'!C34,IF(TRIM($A$7)="Conciliation médicamenteuse d'entrée rétroactive",'Fiche CM entrée rétroactive'!C42,""))) | D29: =IF(TRIM($A$7)="Bilan médicamenteux d'entrée",IFERROR(IF(INDEX('Bilan médicamenteux'!$C40:$AF40,MATCH('Bilan médicamenteux'!$AG40,'Bilan médicamenteux'!$C$12:$AF$12,0)+2)="","",INDEX('Bilan médicamenteux'!$C40:$AF40,MATCH('Bilan médicamenteux'!$AG40,'Bilan médicamenteux'!$C$12:$AF$12,0)+2)),""),IF(TRIM($A$7)="Conciliation médicamenteuse d'entrée proactive",'Fiche CM entrée proactive'!D34,IF(TRIM($A$7)="Conciliation médicamenteuse d'entrée rétroactive",'Fiche CM entrée rétroactive'!D42,""))) | E29: =IF(TRIM($A$7)="Bilan médicamenteux d'entrée",IFERROR(IF(INDEX('Bilan médicamenteux'!$C40:$AF40,MATCH('Bilan médicamenteux'!$AG40,'Bilan médicamenteux'!$C$12:$AF$12,0)+3)="","",INDEX('Bilan médicamenteux'!$C40:$AF40,MATCH('Bilan médicamenteux'!$AG40,'Bilan médicamenteux'!$C$12:$AF$12,0)+3)),""),IF(TRIM($A$7)="Conciliation médicamenteuse d'entrée proactive",'Fiche CM entrée proactive'!E34,IF(TRIM($A$7)="Conciliation médicamenteuse d'entrée rétroactive",'Fiche CM entrée rétroactive'!E42,""))) | F29: =IF(TRIM($A$7)="Bilan médicamenteux d'entrée",IFERROR(IF(INDEX('Bilan médicamenteux'!$C40:$AF40,MATCH('Bilan médicamenteux'!$AG40,'Bilan médicamenteux'!$C$12:$AF$12,0)+4)="","",INDEX('Bilan médicamenteux'!$C40:$AF40,MATCH('Bilan médicamenteux'!$AG40,'Bilan médicamenteux'!$C$12:$AF$12,0)+4)),""),IF(TRIM($A$7)="Conciliation médicamenteuse d'entrée proactive",'Fiche CM entrée proactive'!F34,IF(TRIM($A$7)="Conciliation médicamenteuse d'entrée rétroactive",'Fiche CM entrée rétroactive'!F42,"")))
A30: =IF(TRIM($A$7)="Bilan médicamenteux d'entrée",IF(OR('Bilan médicamenteux'!$AG41="",'Bilan médicamenteux'!$AG41="Ne pas inclure"),"",IF('Bilan médicamenteux'!$A41="","",'Bilan médicamenteux'!$A41)),IF(TRIM($A$7)="Conciliation médicamenteuse d'entrée proactive",'Fiche CM entrée proactive'!A35,IF(TRIM($A$7)="Conciliation médicamenteuse d'entrée rétroactive",'Fiche CM entrée rétroactive'!A43,""))) | B30: =IF(TRIM($A$7)="Bilan médicamenteux d'entrée",IFERROR(IF(INDEX('Bilan médicamenteux'!$C41:$AF41,MATCH('Bilan médicamenteux'!$AG41,'Bilan médicamenteux'!$C$12:$AF$12,0))="","",INDEX('Bilan médicamenteux'!$C41:$AF41,MATCH('Bilan médicamenteux'!$AG41,'Bilan médicamenteux'!$C$12:$AF$12,0))),""),IF(TRIM($A$7)="Conciliation médicamenteuse d'entrée proactive",'Fiche CM entrée proactive'!B35,IF(TRIM($A$7)="Conciliation médicamenteuse d'entrée rétroactive",'Fiche CM entrée rétroactive'!B43,""))) | C30: =IF(TRIM($A$7)="Bilan médicamenteux d'entrée",IFERROR(IF(INDEX('Bilan médicamenteux'!$C41:$AF41,MATCH('Bilan médicamenteux'!$AG41,'Bilan médicamenteux'!$C$12:$AF$12,0)+1)="","",INDEX('Bilan médicamenteux'!$C41:$AF41,MATCH('Bilan médicamenteux'!$AG41,'Bilan médicamenteux'!$C$12:$AF$12,0)+1)),""),IF(TRIM($A$7)="Conciliation médicamenteuse d'entrée proactive",'Fiche CM entrée proactive'!C35,IF(TRIM($A$7)="Conciliation médicamenteuse d'entrée rétroactive",'Fiche CM entrée rétroactive'!C43,""))) | D30: =IF(TRIM($A$7)="Bilan médicamenteux d'entrée",IFERROR(IF(INDEX('Bilan médicamenteux'!$C41:$AF41,MATCH('Bilan médicamenteux'!$AG41,'Bilan médicamenteux'!$C$12:$AF$12,0)+2)="","",INDEX('Bilan médicamenteux'!$C41:$AF41,MATCH('Bilan médicamenteux'!$AG41,'Bilan médicamenteux'!$C$12:$AF$12,0)+2)),""),IF(TRIM($A$7)="Conciliation médicamenteuse d'entrée proactive",'Fiche CM entrée proactive'!D35,IF(TRIM($A$7)="Conciliation médicamenteuse d'entrée rétroactive",'Fiche CM entrée rétroactive'!D43,""))) | E30: =IF(TRIM($A$7)="Bilan médicamenteux d'entrée",IFERROR(IF(INDEX('Bilan médicamenteux'!$C41:$AF41,MATCH('Bilan médicamenteux'!$AG41,'Bilan médicamenteux'!$C$12:$AF$12,0)+3)="","",INDEX('Bilan médicamenteux'!$C41:$AF41,MATCH('Bilan médicamenteux'!$AG41,'Bilan médicamenteux'!$C$12:$AF$12,0)+3)),""),IF(TRIM($A$7)="Conciliation médicamenteuse d'entrée proactive",'Fiche CM entrée proactive'!E35,IF(TRIM($A$7)="Conciliation médicamenteuse d'entrée rétroactive",'Fiche CM entrée rétroactive'!E43,""))) | F30: =IF(TRIM($A$7)="Bilan médicamenteux d'entrée",IFERROR(IF(INDEX('Bilan médicamenteux'!$C41:$AF41,MATCH('Bilan médicamenteux'!$AG41,'Bilan médicamenteux'!$C$12:$AF$12,0)+4)="","",INDEX('Bilan médicamenteux'!$C41:$AF41,MATCH('Bilan médicamenteux'!$AG41,'Bilan médicamenteux'!$C$12:$AF$12,0)+4)),""),IF(TRIM($A$7)="Conciliation médicamenteuse d'entrée proactive",'Fiche CM entrée proactive'!F35,IF(TRIM($A$7)="Conciliation médicamenteuse d'entrée rétroactive",'Fiche CM entrée rétroactive'!F43,"")))
A31: Sources d'informations consultées pour le bilan médicamenteux ou la conciliation médicamenteuse d'entrée | N31: Nom & signature pharmacien :
A32: =IF('Bilan médicamenteux'!C12="","",'Bilan médicamenteux'!C12) | B32: =IF('Bilan médicamenteux'!H12="","",'Bilan médicamenteux'!H12) | G32: =IF('Bilan médicamenteux'!M12="","",'Bilan médicamenteux'!M12) | H32: =IF('Bilan médicamenteux'!R12="","",'Bilan médicamenteux'!R12) | I32: =IF('Bilan médicamenteux'!W12="","",'Bilan médicamenteux'!W12)
A33: =IF('Bilan médicamenteux'!AB12="","",'Bilan médicamenteux'!AB12) | B33: =IF('Bilan médicamenteux'!AP12="","",'Bilan médicamenteux'!AP12) | G33: =IF('Bilan médicamenteux'!AU12="","",'Bilan médicamenteux'!AU12) | H33: =IF('Bilan médicamenteux'!AZ12="","",'Bilan médicamenteux'!AZ12) | I33: =IF('Bilan médicamenteux'!BE12="","",'Bilan médicamenteux'!BE12) | N33: Nom & signature prescripteur :
A34: =IF('Bilan médicamenteux'!BJ12="","",'Bilan médicamenteux'!BJ12) | B34: =IF('Bilan médicamenteux'!BO12="","",'Bilan médicamenteux'!BO12) | G34: =IF('Bilan médicamenteux'!BT12="","",'Bilan médicamenteux'!BT12)
A35: Commentaires :
A36: =A7 -> Source à sélectionner : | G36: Statut AJ : ajout AR: arrêt E : équivalent M: modifié P: poursuivi S: suspendu | H36: =H7 -> Traitement médicamenteux à la sortie | N36: Commentaires (motif de changement entre bilan médicamenteux et traitement de sortie, cible thérapeutique et surveillance associée, durée de traitement calculée à partir de la date de rédaction du traitement de sortie)
A37: Date | B37: =B8 -> [à compléter] | H37: Date | I37: =I8 -> [à compléter]
A38: Médicament DCI (+/- nom commercial) & Forme & Dosage | B38: Voie | C38: Posologie | H38: Médicament DCI (+/- nom commercial) & Forme & Dosage | I38: Voie | J38: Posologie
C39: M | D39: M | E39: S | F39: N | J39: M | K39: M | L39: S | M39: N
A40: =IF(TRIM($A$7)="Bilan médicamenteux d'entrée",IF(OR('Bilan médicamenteux'!$AG42="",'Bilan médicamenteux'!$AG42="Ne pas inclure"),"",IF('Bilan médicamenteux'!$A42="","",'Bilan médicamenteux'!$A42)),IF(TRIM($A$7)="Conciliation médicamenteuse d'entrée proactive",'Fiche CM entrée proactive'!A36,IF(TRIM($A$7)="Conciliation médicamenteuse d'entrée rétroactive",'Fiche CM entrée rétroactive'!A44,""))) | B40: =IF(TRIM($A$7)="Bilan médicamenteux d'entrée",IFERROR(IF(INDEX('Bilan médicamenteux'!$C42:$AF42,MATCH('Bilan médicamenteux'!$AG42,'Bilan médicamenteux'!$C$12:$AF$12,0))="","",INDEX('Bilan médicamenteux'!$C42:$AF42,MATCH('Bilan médicamenteux'!$AG42,'Bilan médicamenteux'!$C$12:$AF$12,0))),""),IF(TRIM($A$7)="Conciliation médicamenteuse d'entrée proactive",'Fiche CM entrée proactive'!B36,IF(TRIM($A$7)="Conciliation médicamenteuse d'entrée rétroactive",'Fiche CM entrée rétroactive'!B44,""))) | C40: =IF(TRIM($A$7)="Bilan médicamenteux d'entrée",IFERROR(IF(INDEX('Bilan médicamenteux'!$C42:$AF42,MATCH('Bilan médicamenteux'!$AG42,'Bilan médicamenteux'!$C$12:$AF$12,0)+1)="","",INDEX('Bilan médicamenteux'!$C42:$AF42,MATCH('Bilan médicamenteux'!$AG42,'Bilan médicamenteux'!$C$12:$AF$12,0)+1)),""),IF(TRIM($A$7)="Conciliation médicamenteuse d'entrée proactive",'Fiche CM entrée proactive'!C36,IF(TRIM($A$7)="Conciliation médicamenteuse d'entrée rétroactive",'Fiche CM entrée rétroactive'!C44,""))) | D40: =IF(TRIM($A$7)="Bilan médicamenteux d'entrée",IFERROR(IF(INDEX('Bilan médicamenteux'!$C42:$AF42,MATCH('Bilan médicamenteux'!$AG42,'Bilan médicamenteux'!$C$12:$AF$12,0)+2)="","",INDEX('Bilan médicamenteux'!$C42:$AF42,MATCH('Bilan médicamenteux'!$AG42,'Bilan médicamenteux'!$C$12:$AF$12,0)+2)),""),IF(TRIM($A$7)="Conciliation médicamenteuse d'entrée proactive",'Fiche CM entrée proactive'!D36,IF(TRIM($A$7)="Conciliation médicamenteuse d'entrée rétroactive",'Fiche CM entrée rétroactive'!D44,""))) | E40: =IF(TRIM($A$7)="Bilan médicamenteux d'entrée",IFERROR(IF(INDEX('Bilan médicamenteux'!$C42:$AF42,MATCH('Bilan médicamenteux'!$AG42,'Bilan médicamenteux'!$C$12:$AF$12,0)+3)="","",INDEX('Bilan médicamenteux'!$C42:$AF42,MATCH('Bilan médicamenteux'!$AG42,'Bilan médicamenteux'!$C$12:$AF$12,0)+3)),""),IF(TRIM($A$7)="Conciliation médicamenteuse d'entrée proactive",'Fiche CM entrée proactive'!E36,IF(TRIM($A$7)="Conciliation médicamenteuse d'entrée rétroactive",'Fiche CM entrée rétroactive'!E44,""))) | F40: =IF(TRIM($A$7)="Bilan médicamenteux d'entrée",IFERROR(IF(INDEX('Bilan médicamenteux'!$C42:$AF42,MATCH('Bilan médicamenteux'!$AG42,'Bilan médicamenteux'!$C$12:$AF$12,0)+4)="","",INDEX('Bilan médicamenteux'!$C42:$AF42,MATCH('Bilan médicamenteux'!$AG42,'Bilan médicamenteux'!$C$12:$AF$12,0)+4)),""),IF(TRIM($A$7)="Conciliation médicamenteuse d'entrée proactive",'Fiche CM entrée proactive'!F36,IF(TRIM($A$7)="Conciliation médicamenteuse d'entrée rétroactive",'Fiche CM entrée rétroactive'!F44,"")))
A41: =IF(TRIM($A$7)="Bilan médicamenteux d'entrée",IF(OR('Bilan médicamenteux'!$AG43="",'Bilan médicamenteux'!$AG43="Ne pas inclure"),"",IF('Bilan médicamenteux'!$A43="","",'Bilan médicamenteux'!$A43)),IF(TRIM($A$7)="Conciliation médicamenteuse d'entrée proactive",'Fiche CM entrée proactive'!A37,IF(TRIM($A$7)="Conciliation médicamenteuse d'entrée rétroactive",'Fiche CM entrée rétroactive'!A45,""))) | B41: =IF(TRIM($A$7)="Bilan médicamenteux d'entrée",IFERROR(IF(INDEX('Bilan médicamenteux'!$C43:$AF43,MATCH('Bilan médicamenteux'!$AG43,'Bilan médicamenteux'!$C$12:$AF$12,0))="","",INDEX('Bilan médicamenteux'!$C43:$AF43,MATCH('Bilan médicamenteux'!$AG43,'Bilan médicamenteux'!$C$12:$AF$12,0))),""),IF(TRIM($A$7)="Conciliation médicamenteuse d'entrée proactive",'Fiche CM entrée proactive'!B37,IF(TRIM($A$7)="Conciliation médicamenteuse d'entrée rétroactive",'Fiche CM entrée rétroactive'!B45,""))) | C41: =IF(TRIM($A$7)="Bilan médicamenteux d'entrée",IFERROR(IF(INDEX('Bilan médicamenteux'!$C43:$AF43,MATCH('Bilan médicamenteux'!$AG43,'Bilan médicamenteux'!$C$12:$AF$12,0)+1)="","",INDEX('Bilan médicamenteux'!$C43:$AF43,MATCH('Bilan médicamenteux'!$AG43,'Bilan médicamenteux'!$C$12:$AF$12,0)+1)),""),IF(TRIM($A$7)="Conciliation médicamenteuse d'entrée proactive",'Fiche CM entrée proactive'!C37,IF(TRIM($A$7)="Conciliation médicamenteuse d'entrée rétroactive",'Fiche CM entrée rétroactive'!C45,""))) | D41: =IF(TRIM($A$7)="Bilan médicamenteux d'entrée",IFERROR(IF(INDEX('Bilan médicamenteux'!$C43:$AF43,MATCH('Bilan médicamenteux'!$AG43,'Bilan médicamenteux'!$C$12:$AF$12,0)+2)="","",INDEX('Bilan médicamenteux'!$C43:$AF43,MATCH('Bilan médicamenteux'!$AG43,'Bilan médicamenteux'!$C$12:$AF$12,0)+2)),""),IF(TRIM($A$7)="Conciliation médicamenteuse d'entrée proactive",'Fiche CM entrée proactive'!D37,IF(TRIM($A$7)="Conciliation médicamenteuse d'entrée rétroactive",'Fiche CM entrée rétroactive'!D45,""))) | E41: =IF(TRIM($A$7)="Bilan médicamenteux d'entrée",IFERROR(IF(INDEX('Bilan médicamenteux'!$C43:$AF43,MATCH('Bilan médicamenteux'!$AG43,'Bilan médicamenteux'!$C$12:$AF$12,0)+3)="","",INDEX('Bilan médicamenteux'!$C43:$AF43,MATCH('Bilan médicamenteux'!$AG43,'Bilan médicamenteux'!$C$12:$AF$12,0)+3)),""),IF(TRIM($A$7)="Conciliation médicamenteuse d'entrée proactive",'Fiche CM entrée proactive'!E37,IF(TRIM($A$7)="Conciliation médicamenteuse d'entrée rétroactive",'Fiche CM entrée rétroactive'!E45,""))) | F41: =IF(TRIM($A$7)="Bilan médicamenteux d'entrée",IFERROR(IF(INDEX('Bilan médicamenteux'!$C43:$AF43,MATCH('Bilan médicamenteux'!$AG43,'Bilan médicamenteux'!$C$12:$AF$12,0)+4)="","",INDEX('Bilan médicamenteux'!$C43:$AF43,MATCH('Bilan médicamenteux'!$AG43,'Bilan médicamenteux'!$C$12:$AF$12,0)+4)),""),IF(TRIM($A$7)="Conciliation médicamenteuse d'entrée proactive",'Fiche CM entrée proactive'!F37,IF(TRIM($A$7)="Conciliation médicamenteuse d'entrée rétroactive",'Fiche CM entrée rétroactive'!F45,"")))
A42: =IF(TRIM($A$7)="Bilan médicamenteux d'entrée",IF(OR('Bilan médicamenteux'!$AG44="",'Bilan médicamenteux'!$AG44="Ne pas inclure"),"",IF('Bilan médicamenteux'!$A44="","",'Bilan médicamenteux'!$A44)),IF(TRIM($A$7)="Conciliation médicamenteuse d'entrée proactive",'Fiche CM entrée proactive'!A38,IF(TRIM($A$7)="Conciliation médicamenteuse d'entrée rétroactive",'Fiche CM entrée rétroactive'!A46,""))) | B42: =IF(TRIM($A$7)="Bilan médicamenteux d'entrée",IFERROR(IF(INDEX('Bilan médicamenteux'!$C44:$AF44,MATCH('Bilan médicamenteux'!$AG44,'Bilan médicamenteux'!$C$12:$AF$12,0))="","",INDEX('Bilan médicamenteux'!$C44:$AF44,MATCH('Bilan médicamenteux'!$AG44,'Bilan médicamenteux'!$C$12:$AF$12,0))),""),IF(TRIM($A$7)="Conciliation médicamenteuse d'entrée proactive",'Fiche CM entrée proactive'!B38,IF(TRIM($A$7)="Conciliation médicamenteuse d'entrée rétroactive",'Fiche CM entrée rétroactive'!B46,""))) | C42: =IF(TRIM($A$7)="Bilan médicamenteux d'entrée",IFERROR(IF(INDEX('Bilan médicamenteux'!$C44:$AF44,MATCH('Bilan médicamenteux'!$AG44,'Bilan médicamenteux'!$C$12:$AF$12,0)+1)="","",INDEX('Bilan médicamenteux'!$C44:$AF44,MATCH('Bilan médicamenteux'!$AG44,'Bilan médicamenteux'!$C$12:$AF$12,0)+1)),""),IF(TRIM($A$7)="Conciliation médicamenteuse d'entrée proactive",'Fiche CM entrée proactive'!C38,IF(TRIM($A$7)="Conciliation médicamenteuse d'entrée rétroactive",'Fiche CM entrée rétroactive'!C46,""))) | D42: =IF(TRIM($A$7)="Bilan médicamenteux d'entrée",IFERROR(IF(INDEX('Bilan médicamenteux'!$C44:$AF44,MATCH('Bilan médicamenteux'!$AG44,'Bilan médicamenteux'!$C$12:$AF$12,0)+2)="","",INDEX('Bilan médicamenteux'!$C44:$AF44,MATCH('Bilan médicamenteux'!$AG44,'Bilan médicamenteux'!$C$12:$AF$12,0)+2)),""),IF(TRIM($A$7)="Conciliation médicamenteuse d'entrée proactive",'Fiche CM entrée proactive'!D38,IF(TRIM($A$7)="Conciliation médicamenteuse d'entrée rétroactive",'Fiche CM entrée rétroactive'!D46,""))) | E42: =IF(TRIM($A$7)="Bilan médicamenteux d'entrée",IFERROR(IF(INDEX('Bilan médicamenteux'!$C44:$AF44,MATCH('Bilan médicamenteux'!$AG44,'Bilan médicamenteux'!$C$12:$AF$12,0)+3)="","",INDEX('Bilan médicamenteux'!$C44:$AF44,MATCH('Bilan médicamenteux'!$AG44,'Bilan médicamenteux'!$C$12:$AF$12,0)+3)),""),IF(TRIM($A$7)="Conciliation médicamenteuse d'entrée proactive",'Fiche CM entrée proactive'!E38,IF(TRIM($A$7)="Conciliation médicamenteuse d'entrée rétroactive",'Fiche CM entrée rétroactive'!E46,""))) | F42: =IF(TRIM($A$7)="Bilan médicamenteux d'entrée",IFERROR(IF(INDEX('Bilan médicamenteux'!$C44:$AF44,MATCH('Bilan médicamenteux'!$AG44,'Bilan médicamenteux'!$C$12:$AF$12,0)+4)="","",INDEX('Bilan médicamenteux'!$C44:$AF44,MATCH('Bilan médicamenteux'!$AG44,'Bilan médicamenteux'!$C$12:$AF$12,0)+4)),""),IF(TRIM($A$7)="Conciliation médicamenteuse d'entrée proactive",'Fiche CM entrée proactive'!F38,IF(TRIM($A$7)="Conciliation médicamenteuse d'entrée rétroactive",'Fiche CM entrée rétroactive'!F46,"")))
A43: =IF(TRIM($A$7)="Bilan médicamenteux d'entrée",IF(OR('Bilan médicamenteux'!$AG45="",'Bilan médicamenteux'!$AG45="Ne pas inclure"),"",IF('Bilan médicamenteux'!$A45="","",'Bilan médicamenteux'!$A45)),IF(TRIM($A$7)="Conciliation médicamenteuse d'entrée proactive",'Fiche CM entrée proactive'!A39,IF(TRIM($A$7)="Conciliation médicamenteuse d'entrée rétroactive",'Fiche CM entrée rétroactive'!A47,""))) | B43: =IF(TRIM($A$7)="Bilan médicamenteux d'entrée",IFERROR(IF(INDEX('Bilan médicamenteux'!$C45:$AF45,MATCH('Bilan médicamenteux'!$AG45,'Bilan médicamenteux'!$C$12:$AF$12,0))="","",INDEX('Bilan médicamenteux'!$C45:$AF45,MATCH('Bilan médicamenteux'!$AG45,'Bilan médicamenteux'!$C$12:$AF$12,0))),""),IF(TRIM($A$7)="Conciliation médicamenteuse d'entrée proactive",'Fiche CM entrée proactive'!B39,IF(TRIM($A$7)="Conciliation médicamenteuse d'entrée rétroactive",'Fiche CM entrée rétroactive'!B47,""))) | C43: =IF(TRIM($A$7)="Bilan médicamenteux d'entrée",IFERROR(IF(INDEX('Bilan médicamenteux'!$C45:$AF45,MATCH('Bilan médicamenteux'!$AG45,'Bilan médicamenteux'!$C$12:$AF$12,0)+1)="","",INDEX('Bilan médicamenteux'!$C45:$AF45,MATCH('Bilan médicamenteux'!$AG45,'Bilan médicamenteux'!$C$12:$AF$12,0)+1)),""),IF(TRIM($A$7)="Conciliation médicamenteuse d'entrée proactive",'Fiche CM entrée proactive'!C39,IF(TRIM($A$7)="Conciliation médicamenteuse d'entrée rétroactive",'Fiche CM entrée rétroactive'!C47,""))) | D43: =IF(TRIM($A$7)="Bilan médicamenteux d'entrée",IFERROR(IF(INDEX('Bilan médicamenteux'!$C45:$AF45,MATCH('Bilan médicamenteux'!$AG45,'Bilan médicamenteux'!$C$12:$AF$12,0)+2)="","",INDEX('Bilan médicamenteux'!$C45:$AF45,MATCH('Bilan médicamenteux'!$AG45,'Bilan médicamenteux'!$C$12:$AF$12,0)+2)),""),IF(TRIM($A$7)="Conciliation médicamenteuse d'entrée proactive",'Fiche CM entrée proactive'!D39,IF(TRIM($A$7)="Conciliation médicamenteuse d'entrée rétroactive",'Fiche CM entrée rétroactive'!D47,""))) | E43: =IF(TRIM($A$7)="Bilan médicamenteux d'entrée",IFERROR(IF(INDEX('Bilan médicamenteux'!$C45:$AF45,MATCH('Bilan médicamenteux'!$AG45,'Bilan médicamenteux'!$C$12:$AF$12,0)+3)="","",INDEX('Bilan médicamenteux'!$C45:$AF45,MATCH('Bilan médicamenteux'!$AG45,'Bilan médicamenteux'!$C$12:$AF$12,0)+3)),""),IF(TRIM($A$7)="Conciliation médicamenteuse d'entrée proactive",'Fiche CM entrée proactive'!E39,IF(TRIM($A$7)="Conciliation médicamenteuse d'entrée rétroactive",'Fiche CM entrée rétroactive'!E47,""))) | F43: =IF(TRIM($A$7)="Bilan médicamenteux d'entrée",IFERROR(IF(INDEX('Bilan médicamenteux'!$C45:$AF45,MATCH('Bilan médicamenteux'!$AG45,'Bilan médicamenteux'!$C$12:$AF$12,0)+4)="","",INDEX('Bilan médicamenteux'!$C45:$AF45,MATCH('Bilan médicamenteux'!$AG45,'Bilan médicamenteux'!$C$12:$AF$12,0)+4)),""),IF(TRIM($A$7)="Conciliation médicamenteuse d'entrée proactive",'Fiche CM entrée proactive'!F39,IF(TRIM($A$7)="Conciliation médicamenteuse d'entrée rétroactive",'Fiche CM entrée rétroactive'!F47,"")))
A44: =IF(TRIM($A$7)="Bilan médicamenteux d'entrée",IF(OR('Bilan médicamenteux'!$AG46="",'Bilan médicamenteux'!$AG46="Ne pas inclure"),"",IF('Bilan médicamenteux'!$A46="","",'Bilan médicamenteux'!$A46)),IF(TRIM($A$7)="Conciliation médicamenteuse d'entrée proactive",'Fiche CM entrée proactive'!A40,IF(TRIM($A$7)="Conciliation médicamenteuse d'entrée rétroactive",'Fiche CM entrée rétroactive'!A48,""))) | B44: =IF(TRIM($A$7)="Bilan médicamenteux d'entrée",IFERROR(IF(INDEX('Bilan médicamenteux'!$C46:$AF46,MATCH('Bilan médicamenteux'!$AG46,'Bilan médicamenteux'!$C$12:$AF$12,0))="","",INDEX('Bilan médicamenteux'!$C46:$AF46,MATCH('Bilan médicamenteux'!$AG46,'Bilan médicamenteux'!$C$12:$AF$12,0))),""),IF(TRIM($A$7)="Conciliation médicamenteuse d'entrée proactive",'Fiche CM entrée proactive'!B40,IF(TRIM($A$7)="Conciliation médicamenteuse d'entrée rétroactive",'Fiche CM entrée rétroactive'!B48,""))) | C44: =IF(TRIM($A$7)="Bilan médicamenteux d'entrée",IFERROR(IF(INDEX('Bilan médicamenteux'!$C46:$AF46,MATCH('Bilan médicamenteux'!$AG46,'Bilan médicamenteux'!$C$12:$AF$12,0)+1)="","",INDEX('Bilan médicamenteux'!$C46:$AF46,MATCH('Bilan médicamenteux'!$AG46,'Bilan médicamenteux'!$C$12:$AF$12,0)+1)),""),IF(TRIM($A$7)="Conciliation médicamenteuse d'entrée proactive",'Fiche CM entrée proactive'!C40,IF(TRIM($A$7)="Conciliation médicamenteuse d'entrée rétroactive",'Fiche CM entrée rétroactive'!C48,""))) | D44: =IF(TRIM($A$7)="Bilan médicamenteux d'entrée",IFERROR(IF(INDEX('Bilan médicamenteux'!$C46:$AF46,MATCH('Bilan médicamenteux'!$AG46,'Bilan médicamenteux'!$C$12:$AF$12,0)+2)="","",INDEX('Bilan médicamenteux'!$C46:$AF46,MATCH('Bilan médicamenteux'!$AG46,'Bilan médicamenteux'!$C$12:$AF$12,0)+2)),""),IF(TRIM($A$7)="Conciliation médicamenteuse d'entrée proactive",'Fiche CM entrée proactive'!D40,IF(TRIM($A$7)="Conciliation médicamenteuse d'entrée rétroactive",'Fiche CM entrée rétroactive'!D48,""))) | E44: =IF(TRIM($A$7)="Bilan médicamenteux d'entrée",IFERROR(IF(INDEX('Bilan médicamenteux'!$C46:$AF46,MATCH('Bilan médicamenteux'!$AG46,'Bilan médicamenteux'!$C$12:$AF$12,0)+3)="","",INDEX('Bilan médicamenteux'!$C46:$AF46,MATCH('Bilan médicamenteux'!$AG46,'Bilan médicamenteux'!$C$12:$AF$12,0)+3)),""),IF(TRIM($A$7)="Conciliation médicamenteuse d'entrée proactive",'Fiche CM entrée proactive'!E40,IF(TRIM($A$7)="Conciliation médicamenteuse d'entrée rétroactive",'Fiche CM entrée rétroactive'!E48,""))) | F44: =IF(TRIM($A$7)="Bilan médicamenteux d'entrée",IFERROR(IF(INDEX('Bilan médicamenteux'!$C46:$AF46,MATCH('Bilan médicamenteux'!$AG46,'Bilan médicamenteux'!$C$12:$AF$12,0)+4)="","",INDEX('Bilan médicamenteux'!$C46:$AF46,MATCH('Bilan médicamenteux'!$AG46,'Bilan médicamenteux'!$C$12:$AF$12,0)+4)),""),IF(TRIM($A$7)="Conciliation médicamenteuse d'entrée proactive",'Fiche CM entrée proactive'!F40,IF(TRIM($A$7)="Conciliation médicamenteuse d'entrée rétroactive",'Fiche CM entrée rétroactive'!F48,"")))
A45: =IF(TRIM($A$7)="Bilan médicamenteux d'entrée",IF(OR('Bilan médicamenteux'!$AG47="",'Bilan médicamenteux'!$AG47="Ne pas inclure"),"",IF('Bilan médicamenteux'!$A47="","",'Bilan médicamenteux'!$A47)),IF(TRIM($A$7)="Conciliation médicamenteuse d'entrée proactive",'Fiche CM entrée proactive'!A41,IF(TRIM($A$7)="Conciliation médicamenteuse d'entrée rétroactive",'Fiche CM entrée rétroactive'!A49,""))) | B45: =IF(TRIM($A$7)="Bilan médicamenteux d'entrée",IFERROR(IF(INDEX('Bilan médicamenteux'!$C47:$AF47,MATCH('Bilan médicamenteux'!$AG47,'Bilan médicamenteux'!$C$12:$AF$12,0))="","",INDEX('Bilan médicamenteux'!$C47:$AF47,MATCH('Bilan médicamenteux'!$AG47,'Bilan médicamenteux'!$C$12:$AF$12,0))),""),IF(TRIM($A$7)="Conciliation médicamenteuse d'entrée proactive",'Fiche CM entrée proactive'!B41,IF(TRIM($A$7)="Conciliation médicamenteuse d'entrée rétroactive",'Fiche CM entrée rétroactive'!B49,""))) | C45: =IF(TRIM($A$7)="Bilan médicamenteux d'entrée",IFERROR(IF(INDEX('Bilan médicamenteux'!$C47:$AF47,MATCH('Bilan médicamenteux'!$AG47,'Bilan médicamenteux'!$C$12:$AF$12,0)+1)="","",INDEX('Bilan médicamenteux'!$C47:$AF47,MATCH('Bilan médicamenteux'!$AG47,'Bilan médicamenteux'!$C$12:$AF$12,0)+1)),""),IF(TRIM($A$7)="Conciliation médicamenteuse d'entrée proactive",'Fiche CM entrée proactive'!C41,IF(TRIM($A$7)="Conciliation médicamenteuse d'entrée rétroactive",'Fiche CM entrée rétroactive'!C49,""))) | D45: =IF(TRIM($A$7)="Bilan médicamenteux d'entrée",IFERROR(IF(INDEX('Bilan médicamenteux'!$C47:$AF47,MATCH('Bilan médicamenteux'!$AG47,'Bilan médicamenteux'!$C$12:$AF$12,0)+2)="","",INDEX('Bilan médicamenteux'!$C47:$AF47,MATCH('Bilan médicamenteux'!$AG47,'Bilan médicamenteux'!$C$12:$AF$12,0)+2)),""),IF(TRIM($A$7)="Conciliation médicamenteuse d'entrée proactive",'Fiche CM entrée proactive'!D41,IF(TRIM($A$7)="Conciliation médicamenteuse d'entrée rétroactive",'Fiche CM entrée rétroactive'!D49,""))) | E45: =IF(TRIM($A$7)="Bilan médicamenteux d'entrée",IFERROR(IF(INDEX('Bilan médicamenteux'!$C47:$AF47,MATCH('Bilan médicamenteux'!$AG47,'Bilan médicamenteux'!$C$12:$AF$12,0)+3)="","",INDEX('Bilan médicamenteux'!$C47:$AF47,MATCH('Bilan médicamenteux'!$AG47,'Bilan médicamenteux'!$C$12:$AF$12,0)+3)),""),IF(TRIM($A$7)="Conciliation médicamenteuse d'entrée proactive",'Fiche CM entrée proactive'!E41,IF(TRIM($A$7)="Conciliation médicamenteuse d'entrée rétroactive",'Fiche CM entrée rétroactive'!E49,""))) | F45: =IF(TRIM($A$7)="Bilan médicamenteux d'entrée",IFERROR(IF(INDEX('Bilan médicamenteux'!$C47:$AF47,MATCH('Bilan médicamenteux'!$AG47,'Bilan médicamenteux'!$C$12:$AF$12,0)+4)="","",INDEX('Bilan médicamenteux'!$C47:$AF47,MATCH('Bilan médicamenteux'!$AG47,'Bilan médicamenteux'!$C$12:$AF$12,0)+4)),""),IF(TRIM($A$7)="Conciliation médicamenteuse d'entrée proactive",'Fiche CM entrée proactive'!F41,IF(TRIM($A$7)="Conciliation médicamenteuse d'entrée rétroactive",'Fiche CM entrée rétroactive'!F49,"")))
A46: =IF(TRIM($A$7)="Bilan médicamenteux d'entrée",IF(OR('Bilan médicamenteux'!$AG48="",'Bilan médicamenteux'!$AG48="Ne pas inclure"),"",IF('Bilan médicamenteux'!$A48="","",'Bilan médicamenteux'!$A48)),IF(TRIM($A$7)="Conciliation médicamenteuse d'entrée proactive",'Fiche CM entrée proactive'!A42,IF(TRIM($A$7)="Conciliation médicamenteuse d'entrée rétroactive",'Fiche CM entrée rétroactive'!A50,""))) | B46: =IF(TRIM($A$7)="Bilan médicamenteux d'entrée",IFERROR(IF(INDEX('Bilan médicamenteux'!$C48:$AF48,MATCH('Bilan médicamenteux'!$AG48,'Bilan médicamenteux'!$C$12:$AF$12,0))="","",INDEX('Bilan médicamenteux'!$C48:$AF48,MATCH('Bilan médicamenteux'!$AG48,'Bilan médicamenteux'!$C$12:$AF$12,0))),""),IF(TRIM($A$7)="Conciliation médicamenteuse d'entrée proactive",'Fiche CM entrée proactive'!B42,IF(TRIM($A$7)="Conciliation médicamenteuse d'entrée rétroactive",'Fiche CM entrée rétroactive'!B50,""))) | C46: =IF(TRIM($A$7)="Bilan médicamenteux d'entrée",IFERROR(IF(INDEX('Bilan médicamenteux'!$C48:$AF48,MATCH('Bilan médicamenteux'!$AG48,'Bilan médicamenteux'!$C$12:$AF$12,0)+1)="","",INDEX('Bilan médicamenteux'!$C48:$AF48,MATCH('Bilan médicamenteux'!$AG48,'Bilan médicamenteux'!$C$12:$AF$12,0)+1)),""),IF(TRIM($A$7)="Conciliation médicamenteuse d'entrée proactive",'Fiche CM entrée proactive'!C42,IF(TRIM($A$7)="Conciliation médicamenteuse d'entrée rétroactive",'Fiche CM entrée rétroactive'!C50,""))) | D46: =IF(TRIM($A$7)="Bilan médicamenteux d'entrée",IFERROR(IF(INDEX('Bilan médicamenteux'!$C48:$AF48,MATCH('Bilan médicamenteux'!$AG48,'Bilan médicamenteux'!$C$12:$AF$12,0)+2)="","",INDEX('Bilan médicamenteux'!$C48:$AF48,MATCH('Bilan médicamenteux'!$AG48,'Bilan médicamenteux'!$C$12:$AF$12,0)+2)),""),IF(TRIM($A$7)="Conciliation médicamenteuse d'entrée proactive",'Fiche CM entrée proactive'!D42,IF(TRIM($A$7)="Conciliation médicamenteuse d'entrée rétroactive",'Fiche CM entrée rétroactive'!D50,""))) | E46: =IF(TRIM($A$7)="Bilan médicamenteux d'entrée",IFERROR(IF(INDEX('Bilan médicamenteux'!$C48:$AF48,MATCH('Bilan médicamenteux'!$AG48,'Bilan médicamenteux'!$C$12:$AF$12,0)+3)="","",INDEX('Bilan médicamenteux'!$C48:$AF48,MATCH('Bilan médicamenteux'!$AG48,'Bilan médicamenteux'!$C$12:$AF$12,0)+3)),""),IF(TRIM($A$7)="Conciliation médicamenteuse d'entrée proactive",'Fiche CM entrée proactive'!E42,IF(TRIM($A$7)="Conciliation médicamenteuse d'entrée rétroactive",'Fiche CM entrée rétroactive'!E50,""))) | F46: =IF(TRIM($A$7)="Bilan médicamenteux d'entrée",IFERROR(IF(INDEX('Bilan médicamenteux'!$C48:$AF48,MATCH('Bilan médicamenteux'!$AG48,'Bilan médicamenteux'!$C$12:$AF$12,0)+4)="","",INDEX('Bilan médicamenteux'!$C48:$AF48,MATCH('Bilan médicamenteux'!$AG48,'Bilan médicamenteux'!$C$12:$AF$12,0)+4)),""),IF(TRIM($A$7)="Conciliation médicamenteuse d'entrée proactive",'Fiche CM entrée proactive'!F42,IF(TRIM($A$7)="Conciliation médicamenteuse d'entrée rétroactive",'Fiche CM entrée rétroactive'!F50,"")))
A47: =IF(TRIM($A$7)="Bilan médicamenteux d'entrée",IF(OR('Bilan médicamenteux'!$AG49="",'Bilan médicamenteux'!$AG49="Ne pas inclure"),"",IF('Bilan médicamenteux'!$A49="","",'Bilan médicamenteux'!$A49)),IF(TRIM($A$7)="Conciliation médicamenteuse d'entrée proactive",'Fiche CM entrée proactive'!A43,IF(TRIM($A$7)="Conciliation médicamenteuse d'entrée rétroactive",'Fiche CM entrée rétroactive'!A51,""))) | B47: =IF(TRIM($A$7)="Bilan médicamenteux d'entrée",IFERROR(IF(INDEX('Bilan médicamenteux'!$C49:$AF49,MATCH('Bilan médicamenteux'!$AG49,'Bilan médicamenteux'!$C$12:$AF$12,0))="","",INDEX('Bilan médicamenteux'!$C49:$AF49,MATCH('Bilan médicamenteux'!$AG49,'Bilan médicamenteux'!$C$12:$AF$12,0))),""),IF(TRIM($A$7)="Conciliation médicamenteuse d'entrée proactive",'Fiche CM entrée proactive'!B43,IF(TRIM($A$7)="Conciliation médicamenteuse d'entrée rétroactive",'Fiche CM entrée rétroactive'!B51,""))) | C47: =IF(TRIM($A$7)="Bilan médicamenteux d'entrée",IFERROR(IF(INDEX('Bilan médicamenteux'!$C49:$AF49,MATCH('Bilan médicamenteux'!$AG49,'Bilan médicamenteux'!$C$12:$AF$12,0)+1)="","",INDEX('Bilan médicamenteux'!$C49:$AF49,MATCH('Bilan médicamenteux'!$AG49,'Bilan médicamenteux'!$C$12:$AF$12,0)+1)),""),IF(TRIM($A$7)="Conciliation médicamenteuse d'entrée proactive",'Fiche CM entrée proactive'!C43,IF(TRIM($A$7)="Conciliation médicamenteuse d'entrée rétroactive",'Fiche CM entrée rétroactive'!C51,""))) | D47: =IF(TRIM($A$7)="Bilan médicamenteux d'entrée",IFERROR(IF(INDEX('Bilan médicamenteux'!$C49:$AF49,MATCH('Bilan médicamenteux'!$AG49,'Bilan médicamenteux'!$C$12:$AF$12,0)+2)="","",INDEX('Bilan médicamenteux'!$C49:$AF49,MATCH('Bilan médicamenteux'!$AG49,'Bilan médicamenteux'!$C$12:$AF$12,0)+2)),""),IF(TRIM($A$7)="Conciliation médicamenteuse d'entrée proactive",'Fiche CM entrée proactive'!D43,IF(TRIM($A$7)="Conciliation médicamenteuse d'entrée rétroactive",'Fiche CM entrée rétroactive'!D51,""))) | E47: =IF(TRIM($A$7)="Bilan médicamenteux d'entrée",IFERROR(IF(INDEX('Bilan médicamenteux'!$C49:$AF49,MATCH('Bilan médicamenteux'!$AG49,'Bilan médicamenteux'!$C$12:$AF$12,0)+3)="","",INDEX('Bilan médicamenteux'!$C49:$AF49,MATCH('Bilan médicamenteux'!$AG49,'Bilan médicamenteux'!$C$12:$AF$12,0)+3)),""),IF(TRIM($A$7)="Conciliation médicamenteuse d'entrée proactive",'Fiche CM entrée proactive'!E43,IF(TRIM($A$7)="Conciliation médicamenteuse d'entrée rétroactive",'Fiche CM entrée rétroactive'!E51,""))) | F47: =IF(TRIM($A$7)="Bilan médicamenteux d'entrée",IFERROR(IF(INDEX('Bilan médicamenteux'!$C49:$AF49,MATCH('Bilan médicamenteux'!$AG49,'Bilan médicamenteux'!$C$12:$AF$12,0)+4)="","",INDEX('Bilan médicamenteux'!$C49:$AF49,MATCH('Bilan médicamenteux'!$AG49,'Bilan médicamenteux'!$C$12:$AF$12,0)+4)),""),IF(TRIM($A$7)="Conciliation médicamenteuse d'entrée proactive",'Fiche CM entrée proactive'!F43,IF(TRIM($A$7)="Conciliation médicamenteuse d'entrée rétroactive",'Fiche CM entrée rétroactive'!F51,"")))
A48: =IF(TRIM($A$7)="Bilan médicamenteux d'entrée",IF(OR('Bilan médicamenteux'!$AG50="",'Bilan médicamenteux'!$AG50="Ne pas inclure"),"",IF('Bilan médicamenteux'!$A50="","",'Bilan médicamenteux'!$A50)),IF(TRIM($A$7)="Conciliation médicamenteuse d'entrée proactive",'Fiche CM entrée proactive'!A44,IF(TRIM($A$7)="Conciliation médicamenteuse d'entrée rétroactive",'Fiche CM entrée rétroactive'!A52,""))) | B48: =IF(TRIM($A$7)="Bilan médicamenteux d'entrée",IFERROR(IF(INDEX('Bilan médicamenteux'!$C50:$AF50,MATCH('Bilan médicamenteux'!$AG50,'Bilan médicamenteux'!$C$12:$AF$12,0))="","",INDEX('Bilan médicamenteux'!$C50:$AF50,MATCH('Bilan médicamenteux'!$AG50,'Bilan médicamenteux'!$C$12:$AF$12,0))),""),IF(TRIM($A$7)="Conciliation médicamenteuse d'entrée proactive",'Fiche CM entrée proactive'!B44,IF(TRIM($A$7)="Conciliation médicamenteuse d'entrée rétroactive",'Fiche CM entrée rétroactive'!B52,""))) | C48: =IF(TRIM($A$7)="Bilan médicamenteux d'entrée",IFERROR(IF(INDEX('Bilan médicamenteux'!$C50:$AF50,MATCH('Bilan médicamenteux'!$AG50,'Bilan médicamenteux'!$C$12:$AF$12,0)+1)="","",INDEX('Bilan médicamenteux'!$C50:$AF50,MATCH('Bilan médicamenteux'!$AG50,'Bilan médicamenteux'!$C$12:$AF$12,0)+1)),""),IF(TRIM($A$7)="Conciliation médicamenteuse d'entrée proactive",'Fiche CM entrée proactive'!C44,IF(TRIM($A$7)="Conciliation médicamenteuse d'entrée rétroactive",'Fiche CM entrée rétroactive'!C52,""))) | D48: =IF(TRIM($A$7)="Bilan médicamenteux d'entrée",IFERROR(IF(INDEX('Bilan médicamenteux'!$C50:$AF50,MATCH('Bilan médicamenteux'!$AG50,'Bilan médicamenteux'!$C$12:$AF$12,0)+2)="","",INDEX('Bilan médicamenteux'!$C50:$AF50,MATCH('Bilan médicamenteux'!$AG50,'Bilan médicamenteux'!$C$12:$AF$12,0)+2)),""),IF(TRIM($A$7)="Conciliation médicamenteuse d'entrée proactive",'Fiche CM entrée proactive'!D44,IF(TRIM($A$7)="Conciliation médicamenteuse d'entrée rétroactive",'Fiche CM entrée rétroactive'!D52,""))) | E48: =IF(TRIM($A$7)="Bilan médicamenteux d'entrée",IFERROR(IF(INDEX('Bilan médicamenteux'!$C50:$AF50,MATCH('Bilan médicamenteux'!$AG50,'Bilan médicamenteux'!$C$12:$AF$12,0)+3)="","",INDEX('Bilan médicamenteux'!$C50:$AF50,MATCH('Bilan médicamenteux'!$AG50,'Bilan médicamenteux'!$C$12:$AF$12,0)+3)),""),IF(TRIM($A$7)="Conciliation médicamenteuse d'entrée proactive",'Fiche CM entrée proactive'!E44,IF(TRIM($A$7)="Conciliation médicamenteuse d'entrée rétroactive",'Fiche CM entrée rétroactive'!E52,""))) | F48: =IF(TRIM($A$7)="Bilan médicamenteux d'entrée",IFERROR(IF(INDEX('Bilan médicamenteux'!$C50:$AF50,MATCH('Bilan médicamenteux'!$AG50,'Bilan médicamenteux'!$C$12:$AF$12,0)+4)="","",INDEX('Bilan médicamenteux'!$C50:$AF50,MATCH('Bilan médicamenteux'!$AG50,'Bilan médicamenteux'!$C$12:$AF$12,0)+4)),""),IF(TRIM($A$7)="Conciliation médicamenteuse d'entrée proactive",'Fiche CM entrée proactive'!F44,IF(TRIM($A$7)="Conciliation médicamenteuse d'entrée rétroactive",'Fiche CM entrée rétroactive'!F52,"")))
A49: =IF(TRIM($A$7)="Bilan médicamenteux d'entrée",IF(OR('Bilan médicamenteux'!$AG51="",'Bilan médicamenteux'!$AG51="Ne pas inclure"),"",IF('Bilan médicamenteux'!$A51="","",'Bilan médicamenteux'!$A51)),IF(TRIM($A$7)="Conciliation médicamenteuse d'entrée proactive",'Fiche CM entrée proactive'!A45,IF(TRIM($A$7)="Conciliation médicamenteuse d'entrée rétroactive",'Fiche CM entrée rétroactive'!A53,""))) | B49: =IF(TRIM($A$7)="Bilan médicamenteux d'entrée",IFERROR(IF(INDEX('Bilan médicamenteux'!$C51:$AF51,MATCH('Bilan médicamenteux'!$AG51,'Bilan médicamenteux'!$C$12:$AF$12,0))="","",INDEX('Bilan médicamenteux'!$C51:$AF51,MATCH('Bilan médicamenteux'!$AG51,'Bilan médicamenteux'!$C$12:$AF$12,0))),""),IF(TRIM($A$7)="Conciliation médicamenteuse d'entrée proactive",'Fiche CM entrée proactive'!B45,IF(TRIM($A$7)="Conciliation médicamenteuse d'entrée rétroactive",'Fiche CM entrée rétroactive'!B53,""))) | C49: =IF(TRIM($A$7)="Bilan médicamenteux d'entrée",IFERROR(IF(INDEX('Bilan médicamenteux'!$C51:$AF51,MATCH('Bilan médicamenteux'!$AG51,'Bilan médicamenteux'!$C$12:$AF$12,0)+1)="","",INDEX('Bilan médicamenteux'!$C51:$AF51,MATCH('Bilan médicamenteux'!$AG51,'Bilan médicamenteux'!$C$12:$AF$12,0)+1)),""),IF(TRIM($A$7)="Conciliation médicamenteuse d'entrée proactive",'Fiche CM entrée proactive'!C45,IF(TRIM($A$7)="Conciliation médicamenteuse d'entrée rétroactive",'Fiche CM entrée rétroactive'!C53,""))) | D49: =IF(TRIM($A$7)="Bilan médicamenteux d'entrée",IFERROR(IF(INDEX('Bilan médicamenteux'!$C51:$AF51,MATCH('Bilan médicamenteux'!$AG51,'Bilan médicamenteux'!$C$12:$AF$12,0)+2)="","",INDEX('Bilan médicamenteux'!$C51:$AF51,MATCH('Bilan médicamenteux'!$AG51,'Bilan médicamenteux'!$C$12:$AF$12,0)+2)),""),IF(TRIM($A$7)="Conciliation médicamenteuse d'entrée proactive",'Fiche CM entrée proactive'!D45,IF(TRIM($A$7)="Conciliation médicamenteuse d'entrée rétroactive",'Fiche CM entrée rétroactive'!D53,""))) | E49: =IF(TRIM($A$7)="Bilan médicamenteux d'entrée",IFERROR(IF(INDEX('Bilan médicamenteux'!$C51:$AF51,MATCH('Bilan médicamenteux'!$AG51,'Bilan médicamenteux'!$C$12:$AF$12,0)+3)="","",INDEX('Bilan médicamenteux'!$C51:$AF51,MATCH('Bilan médicamenteux'!$AG51,'Bilan médicamenteux'!$C$12:$AF$12,0)+3)),""),IF(TRIM($A$7)="Conciliation médicamenteuse d'entrée proactive",'Fiche CM entrée proactive'!E45,IF(TRIM($A$7)="Conciliation médicamenteuse d'entrée rétroactive",'Fiche CM entrée rétroactive'!E53,""))) | F49: =IF(TRIM($A$7)="Bilan médicamenteux d'entrée",IFERROR(IF(INDEX('Bilan médicamenteux'!$C51:$AF51,MATCH('Bilan médicamenteux'!$AG51,'Bilan médicamenteux'!$C$12:$AF$12,0)+4)="","",INDEX('Bilan médicamenteux'!$C51:$AF51,MATCH('Bilan médicamenteux'!$AG51,'Bilan médicamenteux'!$C$12:$AF$12,0)+4)),""),IF(TRIM($A$7)="Conciliation médicamenteuse d'entrée proactive",'Fiche CM entrée proactive'!F45,IF(TRIM($A$7)="Conciliation médicamenteuse d'entrée rétroactive",'Fiche CM entrée rétroactive'!F53,"")))
A50: =IF(TRIM($A$7)="Bilan médicamenteux d'entrée",IF(OR('Bilan médicamenteux'!$AG52="",'Bilan médicamenteux'!$AG52="Ne pas inclure"),"",IF('Bilan médicamenteux'!$A52="","",'Bilan médicamenteux'!$A52)),IF(TRIM($A$7)="Conciliation médicamenteuse d'entrée proactive",'Fiche CM entrée proactive'!A46,IF(TRIM($A$7)="Conciliation médicamenteuse d'entrée rétroactive",'Fiche CM entrée rétroactive'!A54,""))) | B50: =IF(TRIM($A$7)="Bilan médicamenteux d'entrée",IFERROR(IF(INDEX('Bilan médicamenteux'!$C52:$AF52,MATCH('Bilan médicamenteux'!$AG52,'Bilan médicamenteux'!$C$12:$AF$12,0))="","",INDEX('Bilan médicamenteux'!$C52:$AF52,MATCH('Bilan médicamenteux'!$AG52,'Bilan médicamenteux'!$C$12:$AF$12,0))),""),IF(TRIM($A$7)="Conciliation médicamenteuse d'entrée proactive",'Fiche CM entrée proactive'!B46,IF(TRIM($A$7)="Conciliation médicamenteuse d'entrée rétroactive",'Fiche CM entrée rétroactive'!B54,""))) | C50: =IF(TRIM($A$7)="Bilan médicamenteux d'entrée",IFERROR(IF(INDEX('Bilan médicamenteux'!$C52:$AF52,MATCH('Bilan médicamenteux'!$AG52,'Bilan médicamenteux'!$C$12:$AF$12,0)+1)="","",INDEX('Bilan médicamenteux'!$C52:$AF52,MATCH('Bilan médicamenteux'!$AG52,'Bilan médicamenteux'!$C$12:$AF$12,0)+1)),""),IF(TRIM($A$7)="Conciliation médicamenteuse d'entrée proactive",'Fiche CM entrée proactive'!C46,IF(TRIM($A$7)="Conciliation médicamenteuse d'entrée rétroactive",'Fiche CM entrée rétroactive'!C54,""))) | D50: =IF(TRIM($A$7)="Bilan médicamenteux d'entrée",IFERROR(IF(INDEX('Bilan médicamenteux'!$C52:$AF52,MATCH('Bilan médicamenteux'!$AG52,'Bilan médicamenteux'!$C$12:$AF$12,0)+2)="","",INDEX('Bilan médicamenteux'!$C52:$AF52,MATCH('Bilan médicamenteux'!$AG52,'Bilan médicamenteux'!$C$12:$AF$12,0)+2)),""),IF(TRIM($A$7)="Conciliation médicamenteuse d'entrée proactive",'Fiche CM entrée proactive'!D46,IF(TRIM($A$7)="Conciliation médicamenteuse d'entrée rétroactive",'Fiche CM entrée rétroactive'!D54,""))) | E50: =IF(TRIM($A$7)="Bilan médicamenteux d'entrée",IFERROR(IF(INDEX('Bilan médicamenteux'!$C52:$AF52,MATCH('Bilan médicamenteux'!$AG52,'Bilan médicamenteux'!$C$12:$AF$12,0)+3)="","",INDEX('Bilan médicamenteux'!$C52:$AF52,MATCH('Bilan médicamenteux'!$AG52,'Bilan médicamenteux'!$C$12:$AF$12,0)+3)),""),IF(TRIM($A$7)="Conciliation médicamenteuse d'entrée proactive",'Fiche CM entrée proactive'!E46,IF(TRIM($A$7)="Conciliation médicamenteuse d'entrée rétroactive",'Fiche CM entrée rétroactive'!E54,""))) | F50: =IF(TRIM($A$7)="Bilan médicamenteux d'entrée",IFERROR(IF(INDEX('Bilan médicamenteux'!$C52:$AF52,MATCH('Bilan médicamenteux'!$AG52,'Bilan médicamenteux'!$C$12:$AF$12,0)+4)="","",INDEX('Bilan médicamenteux'!$C52:$AF52,MATCH('Bilan médicamenteux'!$AG52,'Bilan médicamenteux'!$C$12:$AF$12,0)+4)),""),IF(TRIM($A$7)="Conciliation médicamenteuse d'entrée proactive",'Fiche CM entrée proactive'!F46,IF(TRIM($A$7)="Conciliation médicamenteuse d'entrée rétroactive",'Fiche CM entrée rétroactive'!F54,"")))
