Workbook

Sheet A propos
Q1: V1 15.09.2026
B209: Glossaire :
B210: BM : Bilan médicamenteux. Liste complète, exacte et datée des traitements du patient, établie par croisement des sources.
B211: CM : Conciliation médicamenteuse. Démarche de prévention et d'interception des erreurs médicamenteuses aux points de transition du parcours de soins (HAS, 2018).
B212: DCI : Dénomination Commune Internationale. Nom scientifique international d'une substance active, indépendant des noms commerciaux.
B213: DI : Divergence intentionnelle. Écart entre le bilan médicamenteux et l'ordonnance résultant d'une décision clinique volontaire du prescripteur.
B214: DNI : Divergence non intentionnelle. Écart non voulu (omission, erreur de transcription, discordance non documentée) à revoir avec le prescripteur.
B215: DP : Dossier Pharmaceutique. Historique des médicaments délivrés en officine, accessible via la carte Vitale.
B216: DMP : Dossier Médical Partagé. Carnet de santé numérique du patient regroupant ses données de santé.
B217: DPI : Dossier Patient Informatisé. Système d'information hospitalier centralisant le dossier du patient.
B218: EHPAD : Établissement d'Hébergement pour Personnes Âgées Dépendantes.
B219: FCT : Fiche de Conciliation des Traitements. Nom du support HAS pour la conciliation médicamenteuse à l'admission.
B220: HAS : Haute Autorité de Santé.
... B224: Statuts (AJ, AR, E, M, P, S) : Ajout, Arrêt, Équivalent, Modifié, Poursuivi, Suspendu. Devenir d'un médicament entre deux points de transition.

Sheet Bilan médicamenteux
A1: Nom : | H1: Personne à contacter : | S1: Tél. | X1: Patch : | AF1: =IF(TRIM(AC1)="Oui","Merci de remplir le tableau inférieur","") | AN1: Nom : | AO1: =IF(B1="","",B1) | AU1: Personne à contacter : | BA1: =IF(N1="","",N1) | BF1: Tél. | BG1: =IF(T1="","",T1) | BK1: Patch : | BP1: =IF(AC1="","",AC1) | BS1: =IF(AF1="","",AF1)
A2: Prénom : | H2: Médecin traitant : | S2: Tél. | X2: Injections : | AF2: =IF(TRIM(AC2)="Oui","Merci de remplir le tableau inférieur","") | AN2: Prénom : | AO2: =IF(B2="","",B2) | AU2: Médecin traitant : | BA2: =IF(N2="","",N2) | BF2: Tél. | BG2: =IF(T2="","",T2) | BK2: Injections : | BP2: =IF(AC2="","",AC2) | BS2: =IF(AF2="","",AF2)
A3: IPP : | H3: Pharmacie d'officine : | S3: Tél. | X3: Automédication : | AF3: =IF(TRIM(AC3)="Oui","Merci de remplir le tableau inférieur","") | AN3: IPP : | AO3: =IF(B3="","",B3) | AU3: Pharmacie d'officine : | BA3: =IF(N3="","",N3) | BF3: Tél. | BG3: =IF(T3="","",T3) | BK3: Automédication : | BP3: =IF(AC3="","",AC3) | BS3: =IF(AF3="","",AF3)
A4: Genre : | H4: Infirmier à domicile : | S4: Tél. | X4: Crèmes/pommades : | AF4: =IF(TRIM(AC4)="Oui","Merci de remplir le tableau inférieur","") | AN4: Sexe : | AO4: =IF(B4="","",B4) | AU4: Infirmier à domicile : | BA4: =IF(N4="","",N4) | BF4: Tél. | BG4: =IF(T4="","",T4) | BK4: Crèmes/pommades : | BP4: =IF(AC4="","",AC4) | BS4: =IF(AF4="","",AF4)
A5: Date naissance : | H5: Autre établissement / EHPAD: | S5: Tél. | X5: Collyres (œil D/G) : | AF5: =IF(TRIM(AC5)="Oui","Merci de remplir le tableau inférieur","") | AN5: Date naissance : | AO5: =IF(B5="","",B5) | AU5: Autre établissement / EHPAD: | BA5: =IF(N5="","",N5) | BF5: Tél. | BG5: =IF(T5="","",T5) | BK5: Collyres (œil D/G) : | BP5: =IF(AC5="","",AC5) | BS5: =IF(AF5="","",AF5)
A6: Service : | H6: Motif d'hospitalisation : | X6: Allergies : | AF6: Lesquelles : | AN6: Service : | AO6: =IF(B6="","",B6) | AU6: Motif d'hospitalisation : | BK6: Allergies : | BP6: =IF(AC6="","",AC6) | BS6: Lesquelles : | BV6: =IF(AI6="","",AI6)
A7: N° chambre : | X7: Phytothérapies : | AF7: Lesquelles : | AN7: N° chambre : | AO7: =IF(B7="","",B7) | AU7: =IF(H7="","",H7) | BK7: Phytothérapies : | BP7: =IF(AC7="","",AC7) | BS7: Lesquelles : | BV7: =IF(AI7="","",AI7)
A8: Date d'admission : | H8: Antécédents : | X8: Jus de pamplemousse : | AN8: Date d'admission : | AO8: =IF(B8="","",B8) | AU8: Antécédents : | BK8: Jus de pamplemousse : | BP8: =IF(AC8="","",AC8)
A9: Date de BMO : | X9: Carte Vitale : | AF9: Dossier Pharmaceutique : | AN9: Date de BMO : | AO9: =IF(B9="","",B9) | AU9: =IF(H9="","",H9) | BK9: Carte Vitale : | BP9: =IF(AC9="","",AC9) | BS9: Dossier Pharmaceutique : | BY9: =IF(AL9="","",AL9)
A11: Information datée du | AG11: Médicament à reporter : choisir la source | AL11: Commentaire | AN11: Information datée du | BY11: Commentaire
A12: Sources d'information | AN12: Sources d'information
A13: Informations complémentaires sur la source | AN13: Informations complémentaires sur la source
A14: Médicament DCI (+/- nom commercial) & Forme & Dosage | C14: Voie | D14: Posologie | H14: Voie | I14: Posologie | M14: Voie | N14: Posologie | R14: Voie | S14: Posologie | W14: Voie | X14: Posologie | AB14: Voie | AC14: Posologie | AN14: Médicament DCI (+/- nom commercial) & Dosage | AP14: Voie | AQ14: Posologie | AU14: Voie | AV14: Posologie | AZ14: Voie | BA14: Posologie | BE14: Voie | BF14: Posologie | BJ14: Voie | BK14: Posologie | BO14: Voie | BP14: Posologie | BT14: Voie | BU14: Posologie
D15: M | E15: M | F15: S | G15: N | I15: M | J15: M | K15: S | L15: N | N15: M | O15: M | P15: S | Q15: N | S15: M | T15: M | U15: S | V15: N | X15: M | Y15: M | Z15: S | AA15: N | AC15: M | AD15: M | AE15: S | AF15: N | AQ15: M | AR15: M | AS15: S | AT15: N | AV15: M | AW15: M | AX15: S | AY15: N | BA15: M | BB15: M | BC15: S | BD15: N | BF15: M | BG15: M | BH15: S | BI15: N | BK15: M | BL15: M | BM15: S | BN15: N | BP15: M | BQ15: M | BR15: S | BS15: N | BU15: M | BV15: M | BW15: S | BX15: N
AM16: Ne pas inclure | AN16: =IF(A16="","",A16)
AM17: =IF(C12="","",C12) | AN17: =IF(A17="","",A17)
AM18: =IF(H12="","",H12) | AN18: =IF(A18="","",A18)
AM19: =IF(M12="","",M12) | AN19: =IF(A19="","",A19)
AM20: =IF(R12="","",R12) | AN20: =IF(A20="","",A20)
AM21: =IF(W12="","",W12) | AN21: =IF(A21="","",A21)
AM22: =IF(AB12="","",AB12) | AN22: =IF(A22="","",A22)
AM23: =IF(AP12="","",AP12) | AN23: =IF(A23="","",A23)
AM24: =IF(AU12="","",AU12) | AN24: =IF(A24="","",A24)
AM25: =IF(AZ12="","",AZ12) | AN25: =IF(A25="","",A25)
AM26: =IF(BE12="","",BE12) | AN26: =IF(A26="","",A26)
AM27: =IF(BJ12="","",BJ12) | AN27: =IF(A27="","",A27)
AM28: =IF(BO12="","",BO12) | AN28: =IF(A28="","",A28)
A29: Commentaires : | AB29: Nom & signature : | AM29: =IF(BT12="","",BT12) | AN29: Commentaires : | BO29: Nom & signature :
A30: Information datée du | C30: =IF(C11="","",C11) | H30: =IF(H11="","",H11) | M30: =IF(M11="","",M11) | R30: =IF(R11="","",R11) | W30: =IF(W11="","",W11) | AB30: =IF(AB11="","",AB11) | AG30: Médicament à reporter : choisir la source | AL30: Commentaire | AN30: Information datée du | AP30: =IF(AP11="","",AP11) | AU30: =IF(AU11="","",AU11) | AZ30: =IF(AZ11="","",AZ11) | BE30: =IF(BE11="","",BE11) | BJ30: =IF(BJ11="","",BJ11) | BO30: =IF(BO11="","",BO11) | BT30: =IF(BT11="","",BT11) | BY30: Commentaire
A31: Sources d'information | C31: =IF(C12="","",C12) | H31: =IF(H12="","",H12) | M31: =IF(M12="","",M12) | R31: =IF(R12="","",R12) | W31: =IF(W12="","",W12) | AB31: =IF(AB12="","",AB12) | AN31: Sources d'information | AP31: =IF(AP12="","",AP12) | AU31: =IF(AU12="","",AU12) | AZ31: =IF(AZ12="","",AZ12) | BE31: =IF(BE12="","",BE12) | BJ31: =IF(BJ12="","",BJ12) | BO31: =IF(BO12="","",BO12) | BT31: =IF(BT12="","",BT12)
A32: Informations complémentaires sur la source | C32: =IF(C13="","",C13) | H32: =IF(H13="","",H13) | M32: =IF(M13="","",M13) | R32: =IF(R13="","",R13) | W32: =IF(W13="","",W13) | AB32: =IF(AB13="","",AB13) | AN32: Informations complémentaires sur la source | AP32: =IF(AP13="","",AP13) | AU32: =IF(AU13="","",AU13) | AZ32: =IF(AZ13="","",AZ13) | BE32: =IF(BE13="","",BE13) | BJ32: =IF(BJ13="","",BJ13) | BO32: =IF(BO13="","",BO13) | BT32: =IF(BT13="","",BT13)
A33: Médicament DCI (+/- nom commercial) & Dosage | C33: Voie | D33: Posologie | H33: Voie | I33: Posologie | M33: Voie | N33: Posologie | R33: Voie | S33: Posologie | W33: Voie | X33: Posologie | AB33: Voie | AC33: Posologie | AN33: Médicament DCI (+/- nom commercial) & Dosage | AP33: Voie | AQ33: Posologie | AU33: Voie | AV33: Posologie | AZ33: Voie | BA33: Posologie | BE33: Voie | BF33: Posologie | BJ33: Voie | BK33: Posologie | BO33: Voie | BP33: Posologie | BT33: Voie | BU33: Posologie
D34: M | E34: M | F34: S | G34: N | I34: M | J34: M | K34: S | L34: N | N34: M | O34: M | P34: S | Q34: N | S34: M | T34: M | U34: S | V34: N | X34: M | Y34: M | Z34: S | AA34: N | AC34: M | AD34: M | AE34: S | AF34: N | AQ34: M | AR34: M | AS34: S | AT34: N | AV34: M | AW34: M | AX34: S | AY34: N | BA34: M | BB34: M | BC34: S | BD34: N | BF34: M | BG34: M | BH34: S | BI34: N | BK34: M | BL34: M | BM34: S | BN34: N | BP34: M | BQ34: M | BR34: S | BS34: N | BU34: M | BV34: M | BW34: S | BX34: N
AN35: =IF(A35="","",A35)
AN36: =IF(A36="","",A36)
AN37: =IF(A37="","",A37)
AN38: =IF(A38="","",A38)
AN39: =IF(A39="","",A39)
AN40: =IF(A40="","",A40)
AN41: =IF(A41="","",A41)
...

Sheet Fiche CM entrée proactive
A1: Nom : | B1: {=IF('Bilan médicamenteux'!B1:B1="","",'Bilan médicamenteux'!B1:B1)} | F1: Personne à contacter : | H1: {=IF('Bilan médicamenteux'!N1:N1="","",'Bilan médicamenteux'!N1:N1)} | I1: Tél. | J1: {=IF('Bilan médicamenteux'!T1:T1="","",'Bilan médicamenteux'!T1:T1)} | K1: Patch : | L1: {=IF('Bilan médicamenteux'!AC1:AC1="","",'Bilan médicamenteux'!AC1:AC1)} | M1: Lesquelles : | N1: =IF('Bilan médicamenteux'!AI1="","",'Bilan médicamenteux'!AI1)
A2: Prénom : | B2: {=IF('Bilan médicamenteux'!B2:B2="","",'Bilan médicamenteux'!B2:B2)} | F2: Médecin traitant : | H2: {=IF('Bilan médicamenteux'!N2:N2="","",'Bilan médicamenteux'!N2:N2)} | I2: Tél. | J2: {=IF('Bilan médicamenteux'!T2:T2="","",'Bilan médicamenteux'!T2:T2)} | K2: Injections : | L2: {=IF('Bilan médicamenteux'!AC2:AC2="","",'Bilan médicamenteux'!AC2:AC2)} | M2: Lesquelles : | N2: =IF('Bilan médicamenteux'!AI2="","",'Bilan médicamenteux'!AI2)
A3: IPP : | B3: {=IF('Bilan médicamenteux'!B3:B3="","",'Bilan médicamenteux'!B3:B3)} | F3: Pharmacie d'officine : | H3: {=IF('Bilan médicamenteux'!N3:N3="","",'Bilan médicamenteux'!N3:N3)} | I3: Tél. | J3: {=IF('Bilan médicamenteux'!T3:T3="","",'Bilan médicamenteux'!T3:T3)} | K3: Automédication : | L3: {=IF('Bilan médicamenteux'!AC3:AC3="","",'Bilan médicamenteux'!AC3:AC3)} | M3: Lesquelles : | N3: =IF('Bilan médicamenteux'!AI3="","",'Bilan médicamenteux'!AI3)
A4: Genre : | B4: {=IF('Bilan médicamenteux'!B4:B4="","",'Bilan médicamenteux'!B4:B4)} | F4: Infirmier à domicile : | H4: {=IF('Bilan médicamenteux'!N4:N4="","",'Bilan médicamenteux'!N4:N4)} | I4: Tél. | J4: {=IF('Bilan médicamenteux'!T4:T4="","",'Bilan médicamenteux'!T4:T4)} | K4: Crèmes/pommades : | L4: {=IF('Bilan médicamenteux'!AC4:AC4="","",'Bilan médicamenteux'!AC4:AC4)} | M4: Lesquelles : | N4: =IF('Bilan médicamenteux'!AI4="","",'Bilan médicamenteux'!AI4)
A5: Date naissance : | B5: {=IF('Bilan médicamenteux'!B5:B5="","",'Bilan médicamenteux'!B5:B5)} | F5: Autre établissement/EHPAD: | H5: {=IF('Bilan médicamenteux'!N5:N5="","",'Bilan médicamenteux'!N5:N5)} | I5: Tél. | J5: {=IF('Bilan médicamenteux'!T5:T5="","",'Bilan médicamenteux'!T5:T5)} | K5: Collyres (œil D/G) : | L5: {=IF('Bilan médicamenteux'!AC5:AC5="","",'Bilan médicamenteux'!AC5:AC5)} | M5: Lesquelles : | N5: =IF('Bilan médicamenteux'!AI5="","",'Bilan médicamenteux'!AI5)
A6: Service : | B6: {=IF('Bilan médicamenteux'!B6:B6="","",'Bilan médicamenteux'!B6:B6)} | K6: Allergies : | L6: {=IF('Bilan médicamenteux'!AC6:AC6="","",'Bilan médicamenteux'!AC6:AC6)} | M6: Lesquelles : | N6: =IF('Bilan médicamenteux'!AI6="","",'Bilan médicamenteux'!AI6)
A7: N° chambre : | B7: {=IF('Bilan médicamenteux'!B7:B7="","",'Bilan médicamenteux'!B7:B7)} | K7: Phytothérapies : | L7: {=IF('Bilan médicamenteux'!AC7:AC7="","",'Bilan médicamenteux'!AC7:AC7)} | M7: Lesquelles : | N7: =IF('Bilan médicamenteux'!AI7="","",'Bilan médicamenteux'!AI7)
A8: Date d'admission : | B8: {=IF('Bilan médicamenteux'!B8:B8="","",'Bilan médicamenteux'!B8:B8)} | F8: Carte Vitale : | H8: {=IF('Bilan médicamenteux'!AC9:AC9="","",'Bilan médicamenteux'!AC9:AC9)} | K8: Jus de pamplemousse : | L8: {=IF('Bilan médicamenteux'!AC8:AC8="","",'Bilan médicamenteux'!AC8:AC8)}
A9: Date de BMO : | B9: {=IF('Bilan médicamenteux'!B9:B9="","",'Bilan médicamenteux'!B9:B9)} | F9: Dossier Pharmaceutique : | H9: {=IF('Bilan médicamenteux'!AL9:AL9="","",'Bilan médicamenteux'!AL9:AL9)}
A11: Conciliation faite le : | B11: [à compléter] | K11: Processus de conciliation : | M11: Proactif
A13: Conciliation médicamenteuse | G13: Commentaires
A14: Médicament DCI (+/- nom commercial) & Forme & Dosage | B14: Voie | C14: Posologie
C15: M | D15: M | E15: S | F15: N
A16: =IF(OR('Bilan médicamenteux'!$AG16="",'Bilan médicamenteux'!$AG16="Ne pas inclure"),"",IF('Bilan médicamenteux'!$A16="","",'Bilan médicamenteux'!$A16)) | B16: =IFERROR(IF(INDEX('Bilan médicamenteux'!$C16:$AF16,MATCH('Bilan médicamenteux'!$AG16,'Bilan médicamenteux'!$C$12:$AF$12,0))="","",INDEX('Bilan médicamenteux'!$C16:$AF16,MATCH('Bilan médicamenteux'!$AG16,'Bilan médicamenteux'!$C$12:$AF$12,0))),"") | C16: =IFERROR(IF(INDEX('Bilan médicamenteux'!$C16:$AF16,MATCH('Bilan médicamenteux'!$AG16,'Bilan médicamenteux'!$C$12:$AF$12,0)+1)="","",INDEX('Bilan médicamenteux'!$C16:$AF16,MATCH('Bilan médicamenteux'!$AG16,'Bilan médicamenteux'!$C$12:$AF$12,0)+1)),"") | D16: =IFERROR(IF(INDEX('Bilan médicamenteux'!$C16:$AF16,MATCH('Bilan médicamenteux'!$AG16,'Bilan médicamenteux'!$C$12:$AF$12,0)+2)="","",INDEX('Bilan médicamenteux'!$C16:$AF16,MATCH('Bilan médicamenteux'!$AG16,'Bilan médicamenteux'!$C$12:$AF$12,0)+2)),"") | E16: =IFERROR(IF(INDEX('Bilan médicamenteux'!$C16:$AF16,MATCH('Bilan médicamenteux'!$AG16,'Bilan médicamenteux'!$C$12:$AF$12,0)+3)="","",INDEX('Bilan médicamenteux'!$C16:$AF16,MATCH('Bilan médicamenteux'!$AG16,'Bilan médicamenteux'!$C$12:$AF$12,0)+3)),"") | F16: =IFERROR(IF(INDEX('Bilan médicamenteux'!$C16:$AF16,MATCH('Bilan médicamenteux'!$AG16,'Bilan médicamenteux'!$C$12:$AF$12,0)+4)="","",INDEX('Bilan médicamenteux'!$C16:$AF16,MATCH('Bilan médicamenteux'!$AG16,'Bilan médicamenteux'!$C$12:$AF$12,0)+4)),"")
A17: =IF(OR('Bilan médicamenteux'!$AG17="",'Bilan médicamenteux'!$AG17="Ne pas inclure"),"",IF('Bilan médicamenteux'!$A17="","",'Bilan médicamenteux'!$A17)) | B17: =IFERROR(IF(INDEX('Bilan médicamenteux'!$C17:$AF17,MATCH('Bilan médicamenteux'!$AG17,'Bilan médicamenteux'!$C$12:$AF$12,0))="","",INDEX('Bilan médicamenteux'!$C17:$AF17,MATCH('Bilan médicamenteux'!$AG17,'Bilan médicamenteux'!$C$12:$AF$12,0))),"") | C17: =IFERROR(IF(INDEX('Bilan médicamenteux'!$C17:$AF17,MATCH('Bilan médicamenteux'!$AG17,'Bilan médicamenteux'!$C$12:$AF$12,0)+1)="","",INDEX('Bilan médicamenteux'!$C17:$AF17,MATCH('Bilan médicamenteux'!$AG17,'Bilan médicamenteux'!$C$12:$AF$12,0)+1)),"") | D17: =IFERROR(IF(INDEX('Bilan médicamenteux'!$C17:$AF17,MATCH('Bilan médicamenteux'!$AG17,'Bilan médicamenteux'!$C$12:$AF$12,0)+2)="","",INDEX('Bilan médicamenteux'!$C17:$AF17,MATCH('Bilan médicamenteux'!$AG17,'Bilan médicamenteux'!$C$12:$AF$12,0)+2)),"") | E17: =IFERROR(IF(INDEX('Bilan médicamenteux'!$C17:$AF17,MATCH('Bilan médicamenteux'!$AG17,'Bilan médicamenteux'!$C$12:$AF$12,0)+3)="","",INDEX('Bilan médicamenteux'!$C17:$AF17,MATCH('Bilan médicamenteux'!$AG17,'Bilan médicamenteux'!$C$12:$AF$12,0)+3)),"") | F17: =IFERROR(IF(INDEX('Bilan médicamenteux'!$C17:$AF17,MATCH('Bilan médicamenteux'!$AG17,'Bilan médicamenteux'!$C$12:$AF$12,0)+4)="","",INDEX('Bilan médicamenteux'!$C17:$AF17,MATCH('Bilan médicamenteux'!$AG17,'Bilan médicamenteux'!$C$12:$AF$12,0)+4)),"")
A18: =IF(OR('Bilan médicamenteux'!$AG18="",'Bilan médicamenteux'!$AG18="Ne pas inclure"),"",IF('Bilan médicamenteux'!$A18="","",'Bilan médicamenteux'!$A18)) | B18: =IFERROR(IF(INDEX('Bilan médicamenteux'!$C18:$AF18,MATCH('Bilan médicamenteux'!$AG18,'Bilan médicamenteux'!$C$12:$AF$12,0))="","",INDEX('Bilan médicamenteux'!$C18:$AF18,MATCH('Bilan médicamenteux'!$AG18,'Bilan médicamenteux'!$C$12:$AF$12,0))),"") | C18: =IFERROR(IF(INDEX('Bilan médicamenteux'!$C18:$AF18,MATCH('Bilan médicamenteux'!$AG18,'Bilan médicamenteux'!$C$12:$AF$12,0)+1)="","",INDEX('Bilan médicamenteux'!$C18:$AF18,MATCH('Bilan médicamenteux'!$AG18,'Bilan médicamenteux'!$C$12:$AF$12,0)+1)),"") | D18: =IFERROR(IF(INDEX('Bilan médicamenteux'!$C18:$AF18,MATCH('Bilan médicamenteux'!$AG18,'Bilan médicamenteux'!$C$12:$AF$12,0)+2)="","",INDEX('Bilan médicamenteux'!$C18:$AF18,MATCH('Bilan médicamenteux'!$AG18,'Bilan médicamenteux'!$C$12:$AF$12,0)+2)),"") | E18: =IFERROR(IF(INDEX('Bilan médicamenteux'!$C18:$AF18,MATCH('Bilan médicamenteux'!$AG18,'Bilan médicamenteux'!$C$12:$AF$12,0)+3)="","",INDEX('Bilan médicamenteux'!$C18:$AF18,MATCH('Bilan médicamenteux'!$AG18,'Bilan médicamenteux'!$C$12:$AF$12,0)+3)),"") | F18: =IFERROR(IF(INDEX('Bilan médicamenteux'!$C18:$AF18,MATCH('Bilan médicamenteux'!$AG18,'Bilan médicamenteux'!$C$12:$AF$12,0)+4)="","",INDEX('Bilan médicamenteux'!$C18:$AF18,MATCH('Bilan médicamenteux'!$AG18,'Bilan médicamenteux'!$C$12:$AF$12,0)+4)),"")
A19: =IF(OR('Bilan médicamenteux'!$AG19="",'Bilan médicamenteux'!$AG19="Ne pas inclure"),"",IF('Bilan médicamenteux'!$A19="","",'Bilan médicamenteux'!$A19)) | B19: =IFERROR(IF(INDEX('Bilan médicamenteux'!$C19:$AF19,MATCH('Bilan médicamenteux'!$AG19,'Bilan médicamenteux'!$C$12:$AF$12,0))="","",INDEX('Bilan médicamenteux'!$C19:$AF19,MATCH('Bilan médicamenteux'!$AG19,'Bilan médicamenteux'!$C$12:$AF$12,0))),"") | C19: =IFERROR(IF(INDEX('Bilan médicamenteux'!$C19:$AF19,MATCH('Bilan médicamenteux'!$AG19,'Bilan médicamenteux'!$C$12:$AF$12,0)+1)="","",INDEX('Bilan médicamenteux'!$C19:$AF19,MATCH('Bilan médicamenteux'!$AG19,'Bilan médicamenteux'!$C$12:$AF$12,0)+1)),"") | D19: =IFERROR(IF(INDEX('Bilan médicamenteux'!$C19:$AF19,MATCH('Bilan médicamenteux'!$AG19,'Bilan médicamenteux'!$C$12:$AF$12,0)+2)="","",INDEX('Bilan médicamenteux'!$C19:$AF19,MATCH('Bilan médicamenteux'!$AG19,'Bilan médicamenteux'!$C$12:$AF$12,0)+2)),"") | E19: =IFERROR(IF(INDEX('Bilan médicamenteux'!$C19:$AF19,MATCH('Bilan médicamenteux'!$AG19,'Bilan médicamenteux'!$C$12:$AF$12,0)+3)="","",INDEX('Bilan médicamenteux'!$C19:$AF19,MATCH('Bilan médicamenteux'!$AG19,'Bilan médicamenteux'!$C$12:$AF$12,0)+3)),"") | F19: =IFERROR(IF(INDEX('Bilan médicamenteux'!$C19:$AF19,MATCH('Bilan médicamenteux'!$AG19,'Bilan médicamenteux'!$C$12:$AF$12,0)+4)="","",INDEX('Bilan médicamenteux'!$C19:$AF19,MATCH('Bilan médicamenteux'!$AG19,'Bilan médicamenteux'!$C$12:$AF$12,0)+4)),"")
A20: =IF(OR('Bilan médicamenteux'!$AG20="",'Bilan médicamenteux'!$AG20="Ne pas inclure"),"",IF('Bilan médicamenteux'!$A20="","",'Bilan médicamenteux'!$A20)) | B20: =IFERROR(IF(INDEX('Bilan médicamenteux'!$C20:$AF20,MATCH('Bilan médicamenteux'!$AG20,'Bilan médicamenteux'!$C$12:$AF$12,0))="","",INDEX('Bilan médicamenteux'!$C20:$AF20,MATCH('Bilan médicamenteux'!$AG20,'Bilan médicamenteux'!$C$12:$AF$12,0))),"") | C20: =IFERROR(IF(INDEX('Bilan médicamenteux'!$C20:$AF20,MATCH('Bilan médicamenteux'!$AG20,'Bilan médicamenteux'!$C$12:$AF$12,0)+1)="","",INDEX('Bilan médicamenteux'!$C20:$AF20,MATCH('Bilan médicamenteux'!$AG20,'Bilan médicamenteux'!$C$12:$AF$12,0)+1)),"") | D20: =IFERROR(IF(INDEX('Bilan médicamenteux'!$C20:$AF20,MATCH('Bilan médicamenteux'!$AG20,'Bilan médicamenteux'!$C$12:$AF$12,0)+2)="","",INDEX('Bilan médicamenteux'!$C20:$AF20,MATCH('Bilan médicamenteux'!$AG20,'Bilan médicamenteux'!$C$12:$AF$12,0)+2)),"") | E20: =IFERROR(IF(INDEX('Bilan médicamenteux'!$C20:$AF20,MATCH('Bilan médicamenteux'!$AG20,'Bilan médicamenteux'!$C$12:$AF$12,0)+3)="","",INDEX('Bilan médicamenteux'!$C20:$AF20,MATCH('Bilan médicamenteux'!$AG20,'Bilan médicamenteux'!$C$12:$AF$12,0)+3)),"") | F20: =IFERROR(IF(INDEX('Bilan médicamenteux'!$C20:$AF20,MATCH('Bilan médicamenteux'!$AG20,'Bilan médicamenteux'!$C$12:$AF$12,0)+4)="","",INDEX('Bilan médicamenteux'!$C20:$AF20,MATCH('Bilan médicamenteux'!$AG20,'Bilan médicamenteux'!$C$12:$AF$12,0)+4)),"")
A21: =IF(OR('Bilan médicamenteux'!$AG21="",'Bilan médicamenteux'!$AG21="Ne pas inclure"),"",IF('Bilan médicamenteux'!$A21="","",'Bilan médicamenteux'!$A21)) | B21: =IFERROR(IF(INDEX('Bilan médicamenteux'!$C21:$AF21,MATCH('Bilan médicamenteux'!$AG21,'Bilan médicamenteux'!$C$12:$AF$12,0))="","",INDEX('Bilan médicamenteux'!$C21:$AF21,MATCH('Bilan médicamenteux'!$AG21,'Bilan médicamenteux'!$C$12:$AF$12,0))),"") | C21: =IFERROR(IF(INDEX('Bilan médicamenteux'!$C21:$AF21,MATCH('Bilan médicamenteux'!$AG21,'Bilan médicamenteux'!$C$12:$AF$12,0)+1)="","",INDEX('Bilan médicamenteux'!$C21:$AF21,MATCH('Bilan médicamenteux'!$AG21,'Bilan médicamenteux'!$C$12:$AF$12,0)+1)),"") | D21: =IFERROR(IF(INDEX('Bilan médicamenteux'!$C21:$AF21,MATCH('Bilan médicamenteux'!$AG21,'Bilan médicamenteux'!$C$12:$AF$12,0)+2)="","",INDEX('Bilan médicamenteux'!$C21:$AF21,MATCH('Bilan médicamenteux'!$AG21,'Bilan médicamenteux'!$C$12:$AF$12,0)+2)),"") | E21: =IFERROR(IF(INDEX('Bilan médicamenteux'!$C21:$AF21,MATCH('Bilan médicamenteux'!$AG21,'Bilan médicamenteux'!$C$12:$AF$12,0)+3)="","",INDEX('Bilan médicamenteux'!$C21:$AF21,MATCH('Bilan médicamenteux'!$AG21,'Bilan médicamenteux'!$C$12:$AF$12,0)+3)),"") | F21: =IFERROR(IF(INDEX('Bilan médicamenteux'!$C21:$AF21,MATCH('Bilan médicamenteux'!$AG21,'Bilan médicamenteux'!$C$12:$AF$12,0)+4)="","",INDEX('Bilan médicamenteux'!$C21:$AF21,MATCH('Bilan médicamenteux'!$AG21,'Bilan médicamenteux'!$C$12:$AF$12,0)+4)),"")
A22: =IF(OR('Bilan médicamenteux'!$AG22="",'Bilan médicamenteux'!$AG22="Ne pas inclure"),"",IF('Bilan médicamenteux'!$A22="","",'Bilan médicamenteux'!$A22)) | B22: =IFERROR(IF(INDEX('Bilan médicamenteux'!$C22:$AF22,MATCH('Bilan médicamenteux'!$AG22,'Bilan médicamenteux'!$C$12:$AF$12,0))="","",INDEX('Bilan médicamenteux'!$C22:$AF22,MATCH('Bilan médicamenteux'!$AG22,'Bilan médicamenteux'!$C$12:$AF$12,0))),"") | C22: =IFERROR(IF(INDEX('Bilan médicamenteux'!$C22:$AF22,MATCH('Bilan médicamenteux'!$AG22,'Bilan médicamenteux'!$C$12:$AF$12,0)+1)="","",INDEX('Bilan médicamenteux'!$C22:$AF22,MATCH('Bilan médicamenteux'!$AG22,'Bilan médicamenteux'!$C$12:$AF$12,0)+1)),"") | D22: =IFERROR(IF(INDEX('Bilan médicamenteux'!$C22:$AF22,MATCH('Bilan médicamenteux'!$AG22,'Bilan médicamenteux'!$C$12:$AF$12,0)+2)="","",INDEX('Bilan médicamenteux'!$C22:$AF22,MATCH('Bilan médicamenteux'!$AG22,'Bilan médicamenteux'!$C$12:$AF$12,0)+2)),"") | E22: =IFERROR(IF(INDEX('Bilan médicamenteux'!$C22:$AF22,MATCH('Bilan médicamenteux'!$AG22,'Bilan médicamenteux'!$C$12:$AF$12,0)+3)="","",INDEX('Bilan médicamenteux'!$C22:$AF22,MATCH('Bilan médicamenteux'!$AG22,'Bilan médicamenteux'!$C$12:$AF$12,0)+3)),"") | F22: =IFERROR(IF(INDEX('Bilan médicamenteux'!$C22:$AF22,MATCH('Bilan médicamenteux'!$AG22,'Bilan médicamenteux'!$C$12:$AF$12,0)+4)="","",INDEX('Bilan médicamenteux'!$C22:$AF22,MATCH('Bilan médicamenteux'!$AG22,'Bilan médicamenteux'!$C$12:$AF$12,0)+4)),"")
A23: =IF(OR('Bilan médicamenteux'!$AG23="",'Bilan médicamenteux'!$AG23="Ne pas inclure"),"",IF('Bilan médicamenteux'!$A23="","",'Bilan médicamenteux'!$A23)) | B23: =IFERROR(IF(INDEX('Bilan médicamenteux'!$C23:$AF23,MATCH('Bilan médicamenteux'!$AG23,'Bilan médicamenteux'!$C$12:$AF$12,0))="","",INDEX('Bilan médicamenteux'!$C23:$AF23,MATCH('Bilan médicamenteux'!$AG23,'Bilan médicamenteux'!$C$12:$AF$12,0))),"") | C23: =IFERROR(IF(INDEX('Bilan médicamenteux'!$C23:$AF23,MATCH('Bilan médicamenteux'!$AG23,'Bilan médicamenteux'!$C$12:$AF$12,0)+1)="","",INDEX('Bilan médicamenteux'!$C23:$AF23,MATCH('Bilan médicamenteux'!$AG23,'Bilan médicamenteux'!$C$12:$AF$12,0)+1)),"") | D23: =IFERROR(IF(INDEX('Bilan médicamenteux'!$C23:$AF23,MATCH('Bilan médicamenteux'!$AG23,'Bilan médicamenteux'!$C$12:$AF$12,0)+2)="","",INDEX('Bilan médicamenteux'!$C23:$AF23,MATCH('Bilan médicamenteux'!$AG23,'Bilan médicamenteux'!$C$12:$AF$12,0)+2)),"") | E23: =IFERROR(IF(INDEX('Bilan médicamenteux'!$C23:$AF23,MATCH('Bilan médicamenteux'!$AG23,'Bilan médicamenteux'!$C$12:$AF$12,0)+3)="","",INDEX('Bilan médicamenteux'!$C23:$AF23,MATCH('Bilan médicamenteux'!$AG23,'Bilan médicamenteux'!$C$12:$AF$12,0)+3)),"") | F23: =IFERROR(IF(INDEX('Bilan médicamenteux'!$C23:$AF23,MATCH('Bilan médicamenteux'!$AG23,'Bilan médicamenteux'!$C$12:$AF$12,0)+4)="","",INDEX('Bilan médicamenteux'!$C23:$AF23,MATCH('Bilan médicamenteux'!$AG23,'Bilan médicamenteux'!$C$12:$AF$12,0)+4)),"")
A24: =IF(OR('Bilan médicamenteux'!$AG24="",'Bilan médicamenteux'!$AG24="Ne pas inclure"),"",IF('Bilan médicamenteux'!$A24="","",'Bilan médicamenteux'!$A24)) | B24: =IFERROR(IF(INDEX('Bilan médicamenteux'!$C24:$AF24,MATCH('Bilan médicamenteux'!$AG24,'Bilan médicamenteux'!$C$12:$AF$12,0))="","",INDEX('Bilan médicamenteux'!$C24:$AF24,MATCH('Bilan médicamenteux'!$AG24,'Bilan médicamenteux'!$C$12:$AF$12,0))),"") | C24: =IFERROR(IF(INDEX('Bilan médicamenteux'!$C24:$AF24,MATCH('Bilan médicamenteux'!$AG24,'Bilan médicamenteux'!$C$12:$AF$12,0)+1)="","",INDEX('Bilan médicamenteux'!$C24:$AF24,MATCH('Bilan médicamenteux'!$AG24,'Bilan médicamenteux'!$C$12:$AF$12,0)+1)),"") | D24: =IFERROR(IF(INDEX('Bilan médicamenteux'!$C24:$AF24,MATCH('Bilan médicamenteux'!$AG24,'Bilan médicamenteux'!$C$12:$AF$12,0)+2)="","",INDEX('Bilan médicamenteux'!$C24:$AF24,MATCH('Bilan médicamenteux'!$AG24,'Bilan médicamenteux'!$C$12:$AF$12,0)+2)),"") | E24: =IFERROR(IF(INDEX('Bilan médicamenteux'!$C24:$AF24,MATCH('Bilan médicamenteux'!$AG24,'Bilan médicamenteux'!$C$12:$AF$12,0)+3)="","",INDEX('Bilan médicamenteux'!$C24:$AF24,MATCH('Bilan médicamenteux'!$AG24,'Bilan médicamenteux'!$C$12:$AF$12,0)+3)),"") | F24: =IFERROR(IF(INDEX('Bilan médicamenteux'!$C24:$AF24,MATCH('Bilan médicamenteux'!$AG24,'Bilan médicamenteux'!$C$12:$AF$12,0)+4)="","",INDEX('Bilan médicamenteux'!$C24:$AF24,MATCH('Bilan médicamenteux'!$AG24,'Bilan médicamenteux'!$C$12:$AF$12,0)+4)),"")
A25: =IF(OR('Bilan médicamenteux'!$AG25="",'Bilan médicamenteux'!$AG25="Ne pas inclure"),"",IF('Bilan médicamenteux'!$A25="","",'Bilan médicamenteux'!$A25)) | B25: =IFERROR(IF(INDEX('Bilan médicamenteux'!$C25:$AF25,MATCH('Bilan médicamenteux'!$AG25,'Bilan médicamenteux'!$C$12:$AF$12,0))="","",INDEX('Bilan médicamenteux'!$C25:$AF25,MATCH('Bilan médicamenteux'!$AG25,'Bilan médicamenteux'!$C$12:$AF$12,0))),"") | C25: =IFERROR(IF(INDEX('Bilan médicamenteux'!$C25:$AF25,MATCH('Bilan médicamenteux'!$AG25,'Bilan médicamenteux'!$C$12:$AF$12,0)+1)="","",INDEX('Bilan médicamenteux'!$C25:$AF25,MATCH('Bilan médicamenteux'!$AG25,'Bilan médicamenteux'!$C$12:$AF$12,0)+1)),"") | D25: =IFERROR(IF(INDEX('Bilan médicamenteux'!$C25:$AF25,MATCH('Bilan médicamenteux'!$AG25,'Bilan médicamenteux'!$C$12:$AF$12,0)+2)="","",INDEX('Bilan médicamenteux'!$C25:$AF25,MATCH('Bilan médicamenteux'!$AG25,'Bilan médicamenteux'!$C$12:$AF$12,0)+2)),"") | E25: =IFERROR(IF(INDEX('Bilan médicamenteux'!$C25:$AF25,MATCH('Bilan médicamenteux'!$AG25,'Bilan médicamenteux'!$C$12:$AF$12,0)+3)="","",INDEX('Bilan médicamenteux'!$C25:$AF25,MATCH('Bilan médicamenteux'!$AG25,'Bilan médicamenteux'!$C$12:$AF$12,0)+3)),"") | F25: =IFERROR(IF(INDEX('Bilan médicamenteux'!$C25:$AF25,MATCH('Bilan médicamenteux'!$AG25,'Bilan médicamenteux'!$C$12:$AF$12,0)+4)="","",INDEX('Bilan médicamenteux'!$C25:$AF25,MATCH('Bilan médicamenteux'!$AG25,'Bilan médicamenteux'!$C$12:$AF$12,0)+4)),"")
A26: =IF(OR('Bilan médicamenteux'!$AG26="",'Bilan médicamenteux'!$AG26="Ne pas inclure"),"",IF('Bilan médicamenteux'!$A26="","",'Bilan médicamenteux'!$A26)) | B26: =IFERROR(IF(INDEX('Bilan médicamenteux'!$C26:$AF26,MATCH('Bilan médicamenteux'!$AG26,'Bilan médicamenteux'!$C$12:$AF$12,0))="","",INDEX('Bilan médicamenteux'!$C26:$AF26,MATCH('Bilan médicamenteux'!$AG26,'Bilan médicamenteux'!$C$12:$AF$12,0))),"") | C26: =IFERROR(IF(INDEX('Bilan médicamenteux'!$C26:$AF26,MATCH('Bilan médicamenteux'!$AG26,'Bilan médicamenteux'!$C$12:$AF$12,0)+1)="","",INDEX('Bilan médicamenteux'!$C26:$AF26,MATCH('Bilan médicamenteux'!$AG26,'Bilan médicamenteux'!$C$12:$AF$12,0)+1)),"") | D26: =IFERROR(IF(INDEX('Bilan médicamenteux'!$C26:$AF26,MATCH('Bilan médicamenteux'!$AG26,'Bilan médicamenteux'!$C$12:$AF$12,0)+2)="","",INDEX('Bilan médicamenteux'!$C26:$AF26,MATCH('Bilan médicamenteux'!$AG26,'Bilan médicamenteux'!$C$12:$AF$12,0)+2)),"") | E26: =IFERROR(IF(INDEX('Bilan médicamenteux'!$C26:$AF26,MATCH('Bilan médicamenteux'!$AG26,'Bilan médicamenteux'!$C$12:$AF$12,0)+3)="","",INDEX('Bilan médicamenteux'!$C26:$AF26,MATCH('Bilan médicamenteux'!$AG26,'Bilan médicamenteux'!$C$12:$AF$12,0)+3)),"") | F26: =IFERROR(IF(INDEX('Bilan médicamenteux'!$C26:$AF26,MATCH('Bilan médicamenteux'!$AG26,'Bilan médicamenteux'!$C$12:$AF$12,0)+4)="","",INDEX('Bilan médicamenteux'!$C26:$AF26,MATCH('Bilan médicamenteux'!$AG26,'Bilan médicamenteux'!$C$12:$AF$12,0)+4)),"")
A27: =IF(OR('Bilan médicamenteux'!$AG27="",'Bilan médicamenteux'!$AG27="Ne pas inclure"),"",IF('Bilan médicamenteux'!$A27="","",'Bilan médicamenteux'!$A27)) | B27: =IFERROR(IF(INDEX('Bilan médicamenteux'!$C27:$AF27,MATCH('Bilan médicamenteux'!$AG27,'Bilan médicamenteux'!$C$12:$AF$12,0))="","",INDEX('Bilan médicamenteux'!$C27:$AF27,MATCH('Bilan médicamenteux'!$AG27,'Bilan médicamenteux'!$C$12:$AF$12,0))),"") | C27: =IFERROR(IF(INDEX('Bilan médicamenteux'!$C27:$AF27,MATCH('Bilan médicamenteux'!$AG27,'Bilan médicamenteux'!$C$12:$AF$12,0)+1)="","",INDEX('Bilan médicamenteux'!$C27:$AF27,MATCH('Bilan médicamenteux'!$AG27,'Bilan médicamenteux'!$C$12:$AF$12,0)+1)),"") | D27: =IFERROR(IF(INDEX('Bilan médicamenteux'!$C27:$AF27,MATCH('Bilan médicamenteux'!$AG27,'Bilan médicamenteux'!$C$12:$AF$12,0)+2)="","",INDEX('Bilan médicamenteux'!$C27:$AF27,MATCH('Bilan médicamenteux'!$AG27,'Bilan médicamenteux'!$C$12:$AF$12,0)+2)),"") | E27: =IFERROR(IF(INDEX('Bilan médicamenteux'!$C27:$AF27,MATCH('Bilan médicamenteux'!$AG27,'Bilan médicamenteux'!$C$12:$AF$12,0)+3)="","",INDEX('Bilan médicamenteux'!$C27:$AF27,MATCH('Bilan médicamenteux'!$AG27,'Bilan médicamenteux'!$C$12:$AF$12,0)+3)),"") | F27: =IFERROR(IF(INDEX('Bilan médicamenteux'!$C27:$AF27,MATCH('Bilan médicamenteux'!$AG27,'Bilan médicamenteux'!$C$12:$AF$12,0)+4)="","",INDEX('Bilan médicamenteux'!$C27:$AF27,MATCH('Bilan médicamenteux'!$AG27,'Bilan médicamenteux'!$C$12:$AF$12,0)+4)),"")
A28: =IF(OR('Bilan médicamenteux'!$AG28="",'Bilan médicamenteux'!$AG28="Ne pas inclure"),"",IF('Bilan médicamenteux'!$A28="","",'Bilan médicamenteux'!$A28)) | B28: =IFERROR(IF(INDEX('Bilan médicamenteux'!$C28:$AF28,MATCH('Bilan médicamenteux'!$AG28,'Bilan médicamenteux'!$C$12:$AF$12,0))="","",INDEX('Bilan médicamenteux'!$C28:$AF28,MATCH('Bilan médicamenteux'!$AG28,'Bilan médicamenteux'!$C$12:$AF$12,0))),"") | C28: =IFERROR(IF(INDEX('Bilan médicamenteux'!$C28:$AF28,MATCH('Bilan médicamenteux'!$AG28,'Bilan médicamenteux'!$C$12:$AF$12,0)+1)="","",INDEX('Bilan médicamenteux'!$C28:$AF28,MATCH('Bilan médicamenteux'!$AG28,'Bilan médicamenteux'!$C$12:$AF$12,0)+1)),"") | D28: =IFERROR(IF(INDEX('Bilan médicamenteux'!$C28:$AF28,MATCH('Bilan médicamenteux'!$AG28,'Bilan médicamenteux'!$C$12:$AF$12,0)+2)="","",INDEX('Bilan médicamenteux'!$C28:$AF28,MATCH('Bilan médicamenteux'!$AG28,'Bilan médicamenteux'!$C$12:$AF$12,0)+2)),"") | E28: =IFERROR(IF(INDEX('Bilan médicamenteux'!$C28:$AF28,MATCH('Bilan médicamenteux'!$AG28,'Bilan médicamenteux'!$C$12:$AF$12,0)+3)="","",INDEX('Bilan médicamenteux'!$C28:$AF28,MATCH('Bilan médicamenteux'!$AG28,'Bilan médicamenteux'!$C$12:$AF$12,0)+3)),"") | F28: =IFERROR(IF(INDEX('Bilan médicamenteux'!$C28:$AF28,MATCH('Bilan médicamenteux'!$AG28,'Bilan médicamenteux'!$C$12:$AF$12,0)+4)="","",INDEX('Bilan médicamenteux'!$C28:$AF28,MATCH('Bilan médicamenteux'!$AG28,'Bilan médicamenteux'!$C$12:$AF$12,0)+4)),"")
A29: =IF(OR('Bilan médicamenteux'!$AG35="",'Bilan médicamenteux'!$AG35="Ne pas inclure"),"",IF('Bilan médicamenteux'!$A35="","",'Bilan médicamenteux'!$A35)) | B29: =IFERROR(IF(INDEX('Bilan médicamenteux'!$C35:$AF35,MATCH('Bilan médicamenteux'!$AG35,'Bilan médicamenteux'!$C$12:$AF$12,0))="","",INDEX('Bilan médicamenteux'!$C35:$AF35,MATCH('Bilan médicamenteux'!$AG35,'Bilan médicamenteux'!$C$12:$AF$12,0))),"") | C29: =IFERROR(IF(INDEX('Bilan médicamenteux'!$C35:$AF35,MATCH('Bilan médicamenteux'!$AG35,'Bilan médicamenteux'!$C$12:$AF$12,0)+1)="","",INDEX('Bilan médicamenteux'!$C35:$AF35,MATCH('Bilan médicamenteux'!$AG35,'Bilan médicamenteux'!$C$12:$AF$12,0)+1)),"") | D29: =IFERROR(IF(INDEX('Bilan médicamenteux'!$C35:$AF35,MATCH('Bilan médicamenteux'!$AG35,'Bilan médicamenteux'!$C$12:$AF$12,0)+2)="","",INDEX('Bilan médicamenteux'!$C35:$AF35,MATCH('Bilan médicamenteux'!$AG35,'Bilan médicamenteux'!$C$12:$AF$12,0)+2)),"") | E29: =IFERROR(IF(INDEX('Bilan médicamenteux'!$C35:$AF35,MATCH('Bilan médicamenteux'!$AG35,'Bilan médicamenteux'!$C$12:$AF$12,0)+3)="","",INDEX('Bilan médicamenteux'!$C35:$AF35,MATCH('Bilan médicamenteux'!$AG35,'Bilan médicamenteux'!$C$12:$AF$12,0)+3)),"") | F29: =IFERROR(IF(INDEX('Bilan médicamenteux'!$C35:$AF35,MATCH('Bilan médicamenteux'!$AG35,'Bilan médicamenteux'!$C$12:$AF$12,0)+4)="","",INDEX('Bilan médicamenteux'!$C35:$AF35,MATCH('Bilan médicamenteux'!$AG35,'Bilan médicamenteux'!$C$12:$AF$12,0)+4)),"")
A30: =IF(OR('Bilan médicamenteux'!$AG36="",'Bilan médicamenteux'!$AG36="Ne pas inclure"),"",IF('Bilan médicamenteux'!$A36="","",'Bilan médicamenteux'!$A36)) | B30: =IFERROR(IF(INDEX('Bilan médicamenteux'!$C36:$AF36,MATCH('Bilan médicamenteux'!$AG36,'Bilan médicamenteux'!$C$12:$AF$12,0))="","",INDEX('Bilan médicamenteux'!$C36:$AF36,MATCH('Bilan médicamenteux'!$AG36,'Bilan médicamenteux'!$C$12:$AF$12,0))),"") | C30: =IFERROR(IF(INDEX('Bilan médicamenteux'!$C36:$AF36,MATCH('Bilan médicamenteux'!$AG36,'Bilan médicamenteux'!$C$12:$AF$12,0)+1)="","",INDEX('Bilan médicamenteux'!$C36:$AF36,MATCH('Bilan médicamenteux'!$AG36,'Bilan médicamenteux'!$C$12:$AF$12,0)+1)),"") | D30: =IFERROR(IF(INDEX('Bilan médicamenteux'!$C36:$AF36,MATCH('Bilan médicamenteux'!$AG36,'Bilan médicamenteux'!$C$12:$AF$12,0)+2)="","",INDEX('Bilan médicamenteux'!$C36:$AF36,MATCH('Bilan médicamenteux'!$AG36,'Bilan médicamenteux'!$C$12:$AF$12,0)+2)),"") | E30: =IFERROR(IF(INDEX('Bilan médicamenteux'!$C36:$AF36,MATCH('Bilan médicamenteux'!$AG36,'Bilan médicamenteux'!$C$12:$AF$12,0)+3)="","",INDEX('Bilan médicamenteux'!$C36:$AF36,MATCH('Bilan médicamenteux'!$AG36,'Bilan médicamenteux'!$C$12:$AF$12,0)+3)),"") | F30: =IFERROR(IF(INDEX('Bilan médicamenteux'!$C36:$AF36,MATCH('Bilan médicamenteux'!$AG36,'Bilan médicamenteux'!$C$12:$AF$12,0)+4)="","",INDEX('Bilan médicamenteux'!$C36:$AF36,MATCH('Bilan médicamenteux'!$AG36,'Bilan médicamenteux'!$C$12:$AF$12,0)+4)),"")
A31: =IF(OR('Bilan médicamenteux'!$AG37="",'Bilan médicamenteux'!$AG37="Ne pas inclure"),"",IF('Bilan médicamenteux'!$A37="","",'Bilan médicamenteux'!$A37)) | B31: =IFERROR(IF(INDEX('Bilan médicamenteux'!$C37:$AF37,MATCH('Bilan médicamenteux'!$AG37,'Bilan médicamenteux'!$C$12:$AF$12,0))="","",INDEX('Bilan médicamenteux'!$C37:$AF37,MATCH('Bilan médicamenteux'!$AG37,'Bilan médicamenteux'!$C$12:$AF$12,0))),"") | C31: =IFERROR(IF(INDEX('Bilan médicamenteux'!$C37:$AF37,MATCH('Bilan médicamenteux'!$AG37,'Bilan médicamenteux'!$C$12:$AF$12,0)+1)="","",INDEX('Bilan médicamenteux'!$C37:$AF37,MATCH('Bilan médicamenteux'!$AG37,'Bilan médicamenteux'!$C$12:$AF$12,0)+1)),"") | D31: =IFERROR(IF(INDEX('Bilan médicamenteux'!$C37:$AF37,MATCH('Bilan médicamenteux'!$AG37,'Bilan médicamenteux'!$C$12:$AF$12,0)+2)="","",INDEX('Bilan médicamenteux'!$C37:$AF37,MATCH('Bilan médicamenteux'!$AG37,'Bilan médicamenteux'!$C$12:$AF$12,0)+2)),"") | E31: =IFERROR(IF(INDEX('Bilan médicamenteux'!$C37:$AF37,MATCH('Bilan médicamenteux'!$AG37,'Bilan médicamenteux'!$C$12:$AF$12,0)+3)="","",INDEX('Bilan médicamenteux'!$C37:$AF37,MATCH('Bilan médicamenteux'!$AG37,'Bilan médicamenteux'!$C$12:$AF$12,0)+3)),"") | F31: =IFERROR(IF(INDEX('Bilan médicamenteux'!$C37:$AF37,MATCH('Bilan médicamenteux'!$AG37,'Bilan médicamenteux'!$C$12:$AF$12,0)+4)="","",INDEX('Bilan médicamenteux'!$C37:$AF37,MATCH('Bilan médicamenteux'!$AG37,'Bilan médicamenteux'!$C$12:$AF$12,0)+4)),"")
A32: =IF(OR('Bilan médicamenteux'!$AG38="",'Bilan médicamenteux'!$AG38="Ne pas inclure"),"",IF('Bilan médicamenteux'!$A38="","",'Bilan médicamenteux'!$A38)) | B32: =IFERROR(IF(INDEX('Bilan médicamenteux'!$C38:$AF38,MATCH('Bilan médicamenteux'!$AG38,'Bilan médicamenteux'!$C$12:$AF$12,0))="","",INDEX('Bilan médicamenteux'!$C38:$AF38,MATCH('Bilan médicamenteux'!$AG38,'Bilan médicamenteux'!$C$12:$AF$12,0))),"") | C32: =IFERROR(IF(INDEX('Bilan médicamenteux'!$C38:$AF38,MATCH('Bilan médicamenteux'!$AG38,'Bilan médicamenteux'!$C$12:$AF$12,0)+1)="","",INDEX('Bilan médicamenteux'!$C38:$AF38,MATCH('Bilan médicamenteux'!$AG38,'Bilan médicamenteux'!$C$12:$AF$12,0)+1)),"") | D32: =IFERROR(IF(INDEX('Bilan médicamenteux'!$C38:$AF38,MATCH('Bilan médicamenteux'!$AG38,'Bilan médicamenteux'!$C$12:$AF$12,0)+2)="","",INDEX('Bilan médicamenteux'!$C38:$AF38,MATCH('Bilan médicamenteux'!$AG38,'Bilan médicamenteux'!$C$12:$AF$12,0)+2)),"") | E32: =IFERROR(IF(INDEX('Bilan médicamenteux'!$C38:$AF38,MATCH('Bilan médicamenteux'!$AG38,'Bilan médicamenteux'!$C$12:$AF$12,0)+3)="","",INDEX('Bilan médicamenteux'!$C38:$AF38,MATCH('Bilan médicamenteux'!$AG38,'Bilan médicamenteux'!$C$12:$AF$12,0)+3)),"") | F32: =IFERROR(IF(INDEX('Bilan médicamenteux'!$C38:$AF38,MATCH('Bilan médicamenteux'!$AG38,'Bilan médicamenteux'!$C$12:$AF$12,0)+4)="","",INDEX('Bilan médicamenteux'!$C38:$AF38,MATCH('Bilan médicamenteux'!$AG38,'Bilan médicamenteux'!$C$12:$AF$12,0)+4)),"")
A33: =IF(OR('Bilan médicamenteux'!$AG39="",'Bilan médicamenteux'!$AG39="Ne pas inclure"),"",IF('Bilan médicamenteux'!$A39="","",'Bilan médicamenteux'!$A39)) | B33: =IFERROR(IF(INDEX('Bilan médicamenteux'!$C39:$AF39,MATCH('Bilan médicamenteux'!$AG39,'Bilan médicamenteux'!$C$12:$AF$12,0))="","",INDEX('Bilan médicamenteux'!$C39:$AF39,MATCH('Bilan médicamenteux'!$AG39,'Bilan médicamenteux'!$C$12:$AF$12,0))),"") | C33: =IFERROR(IF(INDEX('Bilan médicamenteux'!$C39:$AF39,MATCH('Bilan médicamenteux'!$AG39,'Bilan médicamenteux'!$C$12:$AF$12,0)+1)="","",INDEX('Bilan médicamenteux'!$C39:$AF39,MATCH('Bilan médicamenteux'!$AG39,'Bilan médicamenteux'!$C$12:$AF$12,0)+1)),"") | D33: =IFERROR(IF(INDEX('Bilan médicamenteux'!$C39:$AF39,MATCH('Bilan médicamenteux'!$AG39,'Bilan médicamenteux'!$C$12:$AF$12,0)+2)="","",INDEX('Bilan médicamenteux'!$C39:$AF39,MATCH('Bilan médicamenteux'!$AG39,'Bilan médicamenteux'!$C$12:$AF$12,0)+2)),"") | E33: =IFERROR(IF(INDEX('Bilan médicamenteux'!$C39:$AF39,MATCH('Bilan médicamenteux'!$AG39,'Bilan médicamenteux'!$C$12:$AF$12,0)+3)="","",INDEX('Bilan médicamenteux'!$C39:$AF39,MATCH('Bilan médicamenteux'!$AG39,'Bilan médicamenteux'!$C$12:$AF$12,0)+3)),"") | F33: =IFERROR(IF(INDEX('Bilan médicamenteux'!$C39:$AF39,MATCH('Bilan médicamenteux'!$AG39,'Bilan médicamenteux'!$C$12:$AF$12,0)+4)="","",INDEX('Bilan médicamenteux'!$C39:$AF39,MATCH('Bilan médicamenteux'!$AG39,'Bilan médicamenteux'!$C$12:$AF$12,0)+4)),"")
A34: =IF(OR('Bilan médicamenteux'!$AG40="",'Bilan médicamenteux'!$AG40="Ne pas inclure"),"",IF('Bilan médicamenteux'!$A40="","",'Bilan médicamenteux'!$A40)) | B34: =IFERROR(IF(INDEX('Bilan médicamenteux'!$C40:$AF40,MATCH('Bilan médicamenteux'!$AG40,'Bilan médicamenteux'!$C$12:$AF$12,0))="","",INDEX('Bilan médicamenteux'!$C40:$AF40,MATCH('Bilan médicamenteux'!$AG40,'Bilan médicamenteux'!$C$12:$AF$12,0))),"") | C34: =IFERROR(IF(INDEX('Bilan médicamenteux'!$C40:$AF40,MATCH('Bilan médicamenteux'!$AG40,'Bilan médicamenteux'!$C$12:$AF$12,0)+1)="","",INDEX('Bilan médicamenteux'!$C40:$AF40,MATCH('Bilan médicamenteux'!$AG40,'Bilan médicamenteux'!$C$12:$AF$12,0)+1)),"") | D34: =IFERROR(IF(INDEX('Bilan médicamenteux'!$C40:$AF40,MATCH('Bilan médicamenteux'!$AG40,'Bilan médicamenteux'!$C$12:$AF$12,0)+2)="","",INDEX('Bilan médicamenteux'!$C40:$AF40,MATCH('Bilan médicamenteux'!$AG40,'Bilan médicamenteux'!$C$12:$AF$12,0)+2)),"") | E34: =IFERROR(IF(INDEX('Bilan médicamenteux'!$C40:$AF40,MATCH('Bilan médicamenteux'!$AG40,'Bilan médicamenteux'!$C$12:$AF$12,0)+3)="","",INDEX('Bilan médicamenteux'!$C40:$AF40,MATCH('Bilan médicamenteux'!$AG40,'Bilan médicamenteux'!$C$12:$AF$12,0)+3)),"") | F34: =IFERROR(IF(INDEX('Bilan médicamenteux'!$C40:$AF40,MATCH('Bilan médicamenteux'!$AG40,'Bilan médicamenteux'!$C$12:$AF$12,0)+4)="","",INDEX('Bilan médicamenteux'!$C40:$AF40,MATCH('Bilan médicamenteux'!$AG40,'Bilan médicamenteux'!$C$12:$AF$12,0)+4)),"")
A35: =IF(OR('Bilan médicamenteux'!$AG41="",'Bilan médicamenteux'!$AG41="Ne pas inclure"),"",IF('Bilan médicamenteux'!$A41="","",'Bilan médicamenteux'!$A41)) | B35: =IFERROR(IF(INDEX('Bilan médicamenteux'!$C41:$AF41,MATCH('Bilan médicamenteux'!$AG41,'Bilan médicamenteux'!$C$12:$AF$12,0))="","",INDEX('Bilan médicamenteux'!$C41:$AF41,MATCH('Bilan médicamenteux'!$AG41,'Bilan médicamenteux'!$C$12:$AF$12,0))),"") | C35: =IFERROR(IF(INDEX('Bilan médicamenteux'!$C41:$AF41,MATCH('Bilan médicamenteux'!$AG41,'Bilan médicamenteux'!$C$12:$AF$12,0)+1)="","",INDEX('Bilan médicamenteux'!$C41:$AF41,MATCH('Bilan médicamenteux'!$AG41,'Bilan médicamenteux'!$C$12:$AF$12,0)+1)),"") | D35: =IFERROR(IF(INDEX('Bilan médicamenteux'!$C41:$AF41,MATCH('Bilan médicamenteux'!$AG41,'Bilan médicamenteux'!$C$12:$AF$12,0)+2)="","",INDEX('Bilan médicamenteux'!$C41:$AF41,MATCH('Bilan médicamenteux'!$AG41,'Bilan médicamenteux'!$C$12:$AF$12,0)+2)),"") | E35: =IFERROR(IF(INDEX('Bilan médicamenteux'!$C41:$AF41,MATCH('Bilan médicamenteux'!$AG41,'Bilan médicamenteux'!$C$12:$AF$12,0)+3)="","",INDEX('Bilan médicamenteux'!$C41:$AF41,MATCH('Bilan médicamenteux'!$AG41,'Bilan médicamenteux'!$C$12:$AF$12,0)+3)),"") | F35: =IFERROR(IF(INDEX('Bilan médicamenteux'!$C41:$AF41,MATCH('Bilan médicamenteux'!$AG41,'Bilan médicamenteux'!$C$12:$AF$12,0)+4)="","",INDEX('Bilan médicamenteux'!$C41:$AF41,MATCH('Bilan médicamenteux'!$AG41,'Bilan médicamenteux'!$C$12:$AF$12,0)+4)),"")
A36: =IF(OR('Bilan médicamenteux'!$AG42="",'Bilan médicamenteux'!$AG42="Ne pas inclure"),"",IF('Bilan médicamenteux'!$A42="","",'Bilan médicamenteux'!$A42)) | B36: =IFERROR(IF(INDEX('Bilan médicamenteux'!$C42:$AF42,MATCH('Bilan médicamenteux'!$AG42,'Bilan médicamenteux'!$C$12:$AF$12,0))="","",INDEX('Bilan médicamenteux'!$C42:$AF42,MATCH('Bilan médicamenteux'!$AG42,'Bilan médicamenteux'!$C$12:$AF$12,0))),"") | C36: =IFERROR(IF(INDEX('Bilan médicamenteux'!$C42:$AF42,MATCH('Bilan médicamenteux'!$AG42,'Bilan médicamenteux'!$C$12:$AF$12,0)+1)="","",INDEX('Bilan médicamenteux'!$C42:$AF42,MATCH('Bilan médicamenteux'!$AG42,'Bilan médicamenteux'!$C$12:$AF$12,0)+1)),"") | D36: =IFERROR(IF(INDEX('Bilan médicamenteux'!$C42:$AF42,MATCH('Bilan médicamenteux'!$AG42,'Bilan médicamenteux'!$C$12:$AF$12,0)+2)="","",INDEX('Bilan médicamenteux'!$C42:$AF42,MATCH('Bilan médicamenteux'!$AG42,'Bilan médicamenteux'!$C$12:$AF$12,0)+2)),"") | E36: =IFERROR(IF(INDEX('Bilan médicamenteux'!$C42:$AF42,MATCH('Bilan médicamenteux'!$AG42,'Bilan médicamenteux'!$C$12:$AF$12,0)+3)="","",INDEX('Bilan médicamenteux'!$C42:$AF42,MATCH('Bilan médicamenteux'!$AG42,'Bilan médicamenteux'!$C$12:$AF$12,0)+3)),"") | F36: =IFERROR(IF(INDEX('Bilan médicamenteux'!$C42:$AF42,MATCH('Bilan médicamenteux'!$AG42,'Bilan médicamenteux'!$C$12:$AF$12,0)+4)="","",INDEX('Bilan médicamenteux'!$C42:$AF42,MATCH('Bilan médicamenteux'!$AG42,'Bilan médicamenteux'!$C$12:$AF$12,0)+4)),"")
A37: =IF(OR('Bilan médicamenteux'!$AG43="",'Bilan médicamenteux'!$AG43="Ne pas inclure"),"",IF('Bilan médicamenteux'!$A43="","",'Bilan médicamenteux'!$A43)) | B37: =IFERROR(IF(INDEX('Bilan médicamenteux'!$C43:$AF43,MATCH('Bilan médicamenteux'!$AG43,'Bilan médicamenteux'!$C$12:$AF$12,0))="","",INDEX('Bilan médicamenteux'!$C43:$AF43,MATCH('Bilan médicamenteux'!$AG43,'Bilan médicamenteux'!$C$12:$AF$12,0))),"") | C37: =IFERROR(IF(INDEX('Bilan médicamenteux'!$C43:$AF43,MATCH('Bilan médicamenteux'!$AG43,'Bilan médicamenteux'!$C$12:$AF$12,0)+1)="","",INDEX('Bilan médicamenteux'!$C43:$AF43,MATCH('Bilan médicamenteux'!$AG43,'Bilan médicamenteux'!$C$12:$AF$12,0)+1)),"") | D37: =IFERROR(IF(INDEX('Bilan médicamenteux'!$C43:$AF43,MATCH('Bilan médicamenteux'!$AG43,'Bilan médicamenteux'!$C$12:$AF$12,0)+2)="","",INDEX('Bilan médicamenteux'!$C43:$AF43,MATCH('Bilan médicamenteux'!$AG43,'Bilan médicamenteux'!$C$12:$AF$12,0)+2)),"") | E37: =IFERROR(IF(INDEX('Bilan médicamenteux'!$C43:$AF43,MATCH('Bilan médicamenteux'!$AG43,'Bilan médicamenteux'!$C$12:$AF$12,0)+3)="","",INDEX('Bilan médicamenteux'!$C43:$AF43,MATCH('Bilan médicamenteux'!$AG43,'Bilan médicamenteux'!$C$12:$AF$12,0)+3)),"") | F37: =IFERROR(IF(INDEX('Bilan médicamenteux'!$C43:$AF43,MATCH('Bilan médicamenteux'!$AG43,'Bilan médicamenteux'!$C$12:$AF$12,0)+4)="","",INDEX('Bilan médicamenteux'!$C43:$AF43,MATCH('Bilan médicamenteux'!$AG43,'Bilan médicamenteux'!$C$12:$AF$12,0)+4)),"")
A38: =IF(OR('Bilan médicamenteux'!$AG44="",'Bilan médicamenteux'!$AG44="Ne pas inclure"),"",IF('Bilan médicamenteux'!$A44="","",'Bilan médicamenteux'!$A44)) | B38: =IFERROR(IF(INDEX('Bilan médicamenteux'!$C44:$AF44,MATCH('Bilan médicamenteux'!$AG44,'Bilan médicamenteux'!$C$12:$AF$12,0))="","",INDEX('Bilan médicamenteux'!$C44:$AF44,MATCH('Bilan médicamenteux'!$AG44,'Bilan médicamenteux'!$C$12:$AF$12,0))),"") | C38: =IFERROR(IF(INDEX('Bilan médicamenteux'!$C44:$AF44,MATCH('Bilan médicamenteux'!$AG44,'Bilan médicamenteux'!$C$12:$AF$12,0)+1)="","",INDEX('Bilan médicamenteux'!$C44:$AF44,MATCH('Bilan médicamenteux'!$AG44,'Bilan médicamenteux'!$C$12:$AF$12,0)+1)),"") | D38: =IFERROR(IF(INDEX('Bilan médicamenteux'!$C44:$AF44,MATCH('Bilan médicamenteux'!$AG44,'Bilan médicamenteux'!$C$12:$AF$12,0)+2)="","",INDEX('Bilan médicamenteux'!$C44:$AF44,MATCH('Bilan médicamenteux'!$AG44,'Bilan médicamenteux'!$C$12:$AF$12,0)+2)),"") | E38: =IFERROR(IF(INDEX('Bilan médicamenteux'!$C44:$AF44,MATCH('Bilan médicamenteux'!$AG44,'Bilan médicamenteux'!$C$12:$AF$12,0)+3)="","",INDEX('Bilan médicamenteux'!$C44:$AF44,MATCH('Bilan médicamenteux'!$AG44,'Bilan médicamenteux'!$C$12:$AF$12,0)+3)),"") | F38: =IFERROR(IF(INDEX('Bilan médicamenteux'!$C44:$AF44,MATCH('Bilan médicamenteux'!$AG44,'Bilan médicamenteux'!$C$12:$AF$12,0)+4)="","",INDEX('Bilan médicamenteux'!$C44:$AF44,MATCH('Bilan médicamenteux'!$AG44,'Bilan médicamenteux'!$C$12:$AF$12,0)+4)),"")
A39: =IF(OR('Bilan médicamenteux'!$AG45="",'Bilan médicamenteux'!$AG45="Ne pas inclure"),"",IF('Bilan médicamenteux'!$A45="","",'Bilan médicamenteux'!$A45)) | B39: =IFERROR(IF(INDEX('Bilan médicamenteux'!$C45:$AF45,MATCH('Bilan médicamenteux'!$AG45,'Bilan médicamenteux'!$C$12:$AF$12,0))="","",INDEX('Bilan médicamenteux'!$C45:$AF45,MATCH('Bilan médicamenteux'!$AG45,'Bilan médicamenteux'!$C$12:$AF$12,0))),"") | C39: =IFERROR(IF(INDEX('Bilan médicamenteux'!$C45:$AF45,MATCH('Bilan médicamenteux'!$AG45,'Bilan médicamenteux'!$C$12:$AF$12,0)+1)="","",INDEX('Bilan médicamenteux'!$C45:$AF45,MATCH('Bilan médicamenteux'!$AG45,'Bilan médicamenteux'!$C$12:$AF$12,0)+1)),"") | D39: =IFERROR(IF(INDEX('Bilan médicamenteux'!$C45:$AF45,MATCH('Bilan médicamenteux'!$AG45,'Bilan médicamenteux'!$C$12:$AF$12,0)+2)="","",INDEX('Bilan médicamenteux'!$C45:$AF45,MATCH('Bilan médicamenteux'!$AG45,'Bilan médicamenteux'!$C$12:$AF$12,0)+2)),"") | E39: =IFERROR(IF(INDEX('Bilan médicamenteux'!$C45:$AF45,MATCH('Bilan médicamenteux'!$AG45,'Bilan médicamenteux'!$C$12:$AF$12,0)+3)="","",INDEX('Bilan médicamenteux'!$C45:$AF45,MATCH('Bilan médicamenteux'!$AG45,'Bilan médicamenteux'!$C$12:$AF$12,0)+3)),"") | F39: =IFERROR(IF(INDEX('Bilan médicamenteux'!$C45:$AF45,MATCH('Bilan médicamenteux'!$AG45,'Bilan médicamenteux'!$C$12:$AF$12,0)+4)="","",INDEX('Bilan médicamenteux'!$C45:$AF45,MATCH('Bilan médicamenteux'!$AG45,'Bilan médicamenteux'!$C$12:$AF$12,0)+4)),"")
A40: =IF(OR('Bilan médicamenteux'!$AG46="",'Bilan médicamenteux'!$AG46="Ne pas inclure"),"",IF('Bilan médicamenteux'!$A46="","",'Bilan médicamenteux'!$A46)) | B40: =IFERROR(IF(INDEX('Bilan médicamenteux'!$C46:$AF46,MATCH('Bilan médicamenteux'!$AG46,'Bilan médicamenteux'!$C$12:$AF$12,0))="","",INDEX('Bilan médicamenteux'!$C46:$AF46,MATCH('Bilan médicamenteux'!$AG46,'Bilan médicamenteux'!$C$12:$AF$12,0))),"") | C40: =IFERROR(IF(INDEX('Bilan médicamenteux'!$C46:$AF46,MATCH('Bilan médicamenteux'!$AG46,'Bilan médicamenteux'!$C$12:$AF$12,0)+1)="","",INDEX('Bilan médicamenteux'!$C46:$AF46,MATCH('Bilan médicamenteux'!$AG46,'Bilan médicamenteux'!$C$12:$AF$12,0)+1)),"") | D40: =IFERROR(IF(INDEX('Bilan médicamenteux'!$C46:$AF46,MATCH('Bilan médicamenteux'!$AG46,'Bilan médicamenteux'!$C$12:$AF$12,0)+2)="","",INDEX('Bilan médicamenteux'!$C46:$AF46,MATCH('Bilan médicamenteux'!$AG46,'Bilan médicamenteux'!$C$12:$AF$12,0)+2)),"") | E40: =IFERROR(IF(INDEX('Bilan médicamenteux'!$C46:$AF46,MATCH('Bilan médicamenteux'!$AG46,'Bilan médicamenteux'!$C$12:$AF$12,0)+3)="","",INDEX('Bilan médicamenteux'!$C46:$AF46,MATCH('Bilan médicamenteux'!$AG46,'Bilan médicamenteux'!$C$12:$AF$12,0)+3)),"") | F40: =IFERROR(IF(INDEX('Bilan médicamenteux'!$C46:$AF46,MATCH('Bilan médicamenteux'!$AG46,'Bilan médicamenteux'!$C$12:$AF$12,0)+4)="","",INDEX('Bilan médicamenteux'!$C46:$AF46,MATCH('Bilan médicamenteux'!$AG46,'Bilan médicamenteux'!$C$12:$AF$12,0)+4)),"")
... A47: =IF(OR('Bilan médicamenteux'!$AG53="",'Bilan médicamenteux'!$AG53="Ne pas inclure"),"",IF('Bilan médicamenteux'!$A53="","",'Bilan médicamenteux'!$A53)) | B47: =IFERROR(IF(INDEX('Bilan médicamenteux'!$C53:$AF53,MATCH('Bilan médicamenteux'!$AG53,'Bilan médicamenteux'!$C$12:$AF$12,0))="","",INDEX('Bilan médicamenteux'!$C53:$AF53,MATCH('Bilan médicamenteux'!$AG53,'Bilan médicamenteux'!$C$12:$AF$12,0))),"") | C47: =IFERROR(IF(INDEX('Bilan médicamenteux'!$C53:$AF53,MATCH('Bilan médicamenteux'!$AG53,'Bilan médicamenteux'!$C$12:$AF$12,0)+1)="","",INDEX('Bilan médicamenteux'!$C53:$AF53,MATCH('Bilan médicamenteux'!$AG53,'Bilan médicamenteux'!$C$12:$AF$12,0)+1)),"") | D47: =IFERROR(IF(INDEX('Bilan médicamenteux'!$C53:$AF53,MATCH('Bilan médicamenteux'!$AG53,'Bilan médicamenteux'!$C$12:$AF$12,0)+2)="","",INDEX('Bilan médicamenteux'!$C53:$AF53,MATCH('Bilan médicamenteux'!$AG53,'Bilan médicamenteux'!$C$12:$AF$12,0)+2)),"") | E47: =IFERROR(IF(INDEX('Bilan médicamenteux'!$C53:$AF53,MATCH('Bilan médicamenteux'!$AG53,'Bilan médicamenteux'!$C$12:$AF$12,0)+3)="","",INDEX('Bilan médicamenteux'!$C53:$AF53,MATCH('Bilan médicamenteux'!$AG53,'Bilan médicamenteux'!$C$12:$AF$12,0)+3)),"") | F47: =IFERROR(IF(INDEX('Bilan médicamenteux'!$C53:$AF53,MATCH('Bilan médicamenteux'!$AG53,'Bilan médicamenteux'!$C$12:$AF$12,0)+4)="","",INDEX('Bilan médicamenteux'!$C53:$AF53,MATCH('Bilan médicamenteux'!$AG53,'Bilan médicamenteux'!$C$12:$AF$12,0)+4)),"")
A48: Sources d'information consultées | K48: Nom & signature pharmacien :
...

Sheet Fiche CM entrée rétroactive
A1: Nom : | B1: {=IF('Bilan médicamenteux'!B1:B1="","",'Bilan médicamenteux'!B1:B1)} | F1: Personne à contacter : | H1: {=IF('Bilan médicamenteux'!N1:N1="","",'Bilan médicamenteux'!N1:N1)} | I1: Tél. | J1: {=IF('Bilan médicamenteux'!T1:T1="","",'Bilan médicamenteux'!T1:T1)} | N1: Patch : | P1: {=IF('Bilan médicamenteux'!AC1:AC1="","",'Bilan médicamenteux'!AC1:AC1)} | Q1: Lesquelles : | R1: =IF('Bilan médicamenteux'!AI1="","",'Bilan médicamenteux'!AI1)
A2: Prénom : | B2: {=IF('Bilan médicamenteux'!B2:B2="","",'Bilan médicamenteux'!B2:B2)} | F2: Médecin traitant : | H2: {=IF('Bilan médicamenteux'!N2:N2="","",'Bilan médicamenteux'!N2:N2)} | I2: Tél. | J2: {=IF('Bilan médicamenteux'!T2:T2="","",'Bilan médicamenteux'!T2:T2)} | N2: Injections : | P2: {=IF('Bilan médicamenteux'!AC2:AC2="","",'Bilan médicamenteux'!AC2:AC2)} | Q2: Lesquelles : | R2: =IF('Bilan médicamenteux'!AI2="","",'Bilan médicamenteux'!AI2)
A3: IPP : | B3: {=IF('Bilan médicamenteux'!B3:B3="","",'Bilan médicamenteux'!B3:B3)} | F3: Pharmacie d'officine : | H3: {=IF('Bilan médicamenteux'!N3:N3="","",'Bilan médicamenteux'!N3:N3)} | I3: Tél. | J3: {=IF('Bilan médicamenteux'!T3:T3="","",'Bilan médicamenteux'!T3:T3)} | N3: Automédication : | P3: {=IF('Bilan médicamenteux'!AC3:AC3="","",'Bilan médicamenteux'!AC3:AC3)} | Q3: Lesquelles : | R3: =IF('Bilan médicamenteux'!AI3="","",'Bilan médicamenteux'!AI3)
A4: Genre : | B4: {=IF('Bilan médicamenteux'!B4:B4="","",'Bilan médicamenteux'!B4:B4)} | F4: Infirmier à domicile : | H4: {=IF('Bilan médicamenteux'!N4:N4="","",'Bilan médicamenteux'!N4:N4)} | I4: Tél. | J4: {=IF('Bilan médicamenteux'!T4:T4="","",'Bilan médicamenteux'!T4:T4)} | N4: Crèmes/pommades : | P4: {=IF('Bilan médicamenteux'!AC4:AC4="","",'Bilan médicamenteux'!AC4:AC4)} | Q4: Lesquelles : | R4: =IF('Bilan médicamenteux'!AI4="","",'Bilan médicamenteux'!AI4)
A5: Date naissance : | B5: {=IF('Bilan médicamenteux'!B5:B5="","",'Bilan médicamenteux'!B5:B5)} | F5: Autre établissement/EHPAD: | H5: {=IF('Bilan médicamenteux'!N5:N5="","",'Bilan médicamenteux'!N5:N5)} | I5: Tél. | J5: {=IF('Bilan médicamenteux'!T5:T5="","",'Bilan médicamenteux'!T5:T5)} | N5: Collyres (œil D/G) : | P5: {=IF('Bilan médicamenteux'!AC5:AC5="","",'Bilan médicamenteux'!AC5:AC5)} | Q5: Lesquelles : | R5: =IF('Bilan médicamenteux'!AI5="","",'Bilan médicamenteux'!AI5)
A6: Service : | B6: {=IF('Bilan médicamenteux'!B6:B6="","",'Bilan médicamenteux'!B6:B6)} | N6: Allergies : | P6: {=IF('Bilan médicamenteux'!AC6:AC6="","",'Bilan médicamenteux'!AC6:AC6)} | Q6: Lesquelles : | R6: =IF('Bilan médicamenteux'!AI6="","",'Bilan médicamenteux'!AI6)
A7: N° chambre : | B7: {=IF('Bilan médicamenteux'!B7:B7="","",'Bilan médicamenteux'!B7:B7)} | N7: Phytothérapies : | P7: {=IF('Bilan médicamenteux'!AC7:AC7="","",'Bilan médicamenteux'!AC7:AC7)} | Q7: Lesquelles : | R7: =IF('Bilan médicamenteux'!AI7="","",'Bilan médicamenteux'!AI7)
A8: Date d'admission : | B8: {=IF('Bilan médicamenteux'!B8:B8="","",'Bilan médicamenteux'!B8:B8)} | F8: Carte Vitale : | H8: {=IF('Bilan médicamenteux'!AC9:AC9="","",'Bilan médicamenteux'!AC9:AC9)} | N8: Jus de pamplemousse : | P8: {=IF('Bilan médicamenteux'!AC8:AC8="","",'Bilan médicamenteux'!AC8:AC8)}
A9: Date de BMO : | B9: {=IF('Bilan médicamenteux'!B9:B9="","",'Bilan médicamenteux'!B9:B9)} | F9: Dossier Pharmaceutique : | H9: {=IF('Bilan médicamenteux'!AL9:AL9="","",'Bilan médicamenteux'!AL9:AL9)}
A11: Conciliation faite le : | B11: [à compléter] | N11: Processus de conciliation : | Q11: Rétroactif
A13: Bilan médicamenteux | G13: Statut AJ : ajout AR: arrêt E : équivalent M: modifié P: poursuivi S: suspendu | H13: Ordonnance du | I13: [à compléter] | N13: Existence d’une divergence (oui/non) | O13: Divergence Intentionnelle (DI) ou Divergence Non Intentionnelle (DNI) | Q13: Décision médicale pour les DNI | R13: Commentaires
A14: Médicament DCI (+/- nom commercial) & Dosage | B14: Forme & Voie | C14: Posologie | H14: Médicament DCI (+/- nom commercial) & Dosage | I14: Forme & Voie | J14: Posologie
C15: M | D15: M | E15: S | F15: N | J15: M | K15: M | L15: S | M15: N
A16: =IF(OR('Bilan médicamenteux'!$AG16="",'Bilan médicamenteux'!$AG16="Ne pas inclure"),"",IF('Bilan médicamenteux'!$A16="","",'Bilan médicamenteux'!$A16)) | B16: =IFERROR(IF(INDEX('Bilan médicamenteux'!$C16:$AF16,MATCH('Bilan médicamenteux'!$AG16,'Bilan médicamenteux'!$C$12:$AF$12,0))="","",INDEX('Bilan médicamenteux'!$C16:$AF16,MATCH('Bilan médicamenteux'!$AG16,'Bilan médicamenteux'!$C$12:$AF$12,0))),"") | C16: =IFERROR(IF(INDEX('Bilan médicamenteux'!$C16:$AF16,MATCH('Bilan médicamenteux'!$AG16,'Bilan médicamenteux'!$C$12:$AF$12,0)+1)="","",INDEX('Bilan médicamenteux'!$C16:$AF16,MATCH('Bilan médicamenteux'!$AG16,'Bilan médicamenteux'!$C$12:$AF$12,0)+1)),"") | D16: =IFERROR(IF(INDEX('Bilan médicamenteux'!$C16:$AF16,MATCH('Bilan médicamenteux'!$AG16,'Bilan médicamenteux'!$C$12:$AF$12,0)+2)="","",INDEX('Bilan médicamenteux'!$C16:$AF16,MATCH('Bilan médicamenteux'!$AG16,'Bilan médicamenteux'!$C$12:$AF$12,0)+2)),"") | E16: =IFERROR(IF(INDEX('Bilan médicamenteux'!$C16:$AF16,MATCH('Bilan médicamenteux'!$AG16,'Bilan médicamenteux'!$C$12:$AF$12,0)+3)="","",INDEX('Bilan médicamenteux'!$C16:$AF16,MATCH('Bilan médicamenteux'!$AG16,'Bilan médicamenteux'!$C$12:$AF$12,0)+3)),"") | F16: =IFERROR(IF(INDEX('Bilan médicamenteux'!$C16:$AF16,MATCH('Bilan médicamenteux'!$AG16,'Bilan médicamenteux'!$C$12:$AF$12,0)+4)="","",INDEX('Bilan médicamenteux'!$C16:$AF16,MATCH('Bilan médicamenteux'!$AG16,'Bilan médicamenteux'!$C$12:$AF$12,0)+4)),"") | N16: =IF(AND(A16="",H16=""),"",IF(AND(A16=H16,B16=I16,C16=J16,D16=K16,E16=L16,F16=M16),"Non","Oui"))
A17: =IF(OR('Bilan médicamenteux'!$AG17="",'Bilan médicamenteux'!$AG17="Ne pas inclure"),"",IF('Bilan médicamenteux'!$A17="","",'Bilan médicamenteux'!$A17)) | B17: =IFERROR(IF(INDEX('Bilan médicamenteux'!$C17:$AF17,MATCH('Bilan médicamenteux'!$AG17,'Bilan médicamenteux'!$C$12:$AF$12,0))="","",INDEX('Bilan médicamenteux'!$C17:$AF17,MATCH('Bilan médicamenteux'!$AG17,'Bilan médicamenteux'!$C$12:$AF$12,0))),"") | C17: =IFERROR(IF(INDEX('Bilan médicamenteux'!$C17:$AF17,MATCH('Bilan médicamenteux'!$AG17,'Bilan médicamenteux'!$C$12:$AF$12,0)+1)="","",INDEX('Bilan médicamenteux'!$C17:$AF17,MATCH('Bilan médicamenteux'!$AG17,'Bilan médicamenteux'!$C$12:$AF$12,0)+1)),"") | D17: =IFERROR(IF(INDEX('Bilan médicamenteux'!$C17:$AF17,MATCH('Bilan médicamenteux'!$AG17,'Bilan médicamenteux'!$C$12:$AF$12,0)+2)="","",INDEX('Bilan médicamenteux'!$C17:$AF17,MATCH('Bilan médicamenteux'!$AG17,'Bilan médicamenteux'!$C$12:$AF$12,0)+2)),"") | E17: =IFERROR(IF(INDEX('Bilan médicamenteux'!$C17:$AF17,MATCH('Bilan médicamenteux'!$AG17,'Bilan médicamenteux'!$C$12:$AF$12,0)+3)="","",INDEX('Bilan médicamenteux'!$C17:$AF17,MATCH('Bilan médicamenteux'!$AG17,'Bilan médicamenteux'!$C$12:$AF$12,0)+3)),"") | F17: =IFERROR(IF(INDEX('Bilan médicamenteux'!$C17:$AF17,MATCH('Bilan médicamenteux'!$AG17,'Bilan médicamenteux'!$C$12:$AF$12,0)+4)="","",INDEX('Bilan médicamenteux'!$C17:$AF17,MATCH('Bilan médicamenteux'!$AG17,'Bilan médicamenteux'!$C$12:$AF$12,0)+4)),"") | N17: =IF(AND(A17="",H17=""),"",IF(AND(A17=H17,B17=I17,C17=J17,D17=K17,E17=L17,F17=M17),"Non","Oui"))
A18: =IF(OR('Bilan médicamenteux'!$AG18="",'Bilan médicamenteux'!$AG18="Ne pas inclure"),"",IF('Bilan médicamenteux'!$A18="","",'Bilan médicamenteux'!$A18)) | B18: =IFERROR(IF(INDEX('Bilan médicamenteux'!$C18:$AF18,MATCH('Bilan médicamenteux'!$AG18,'Bilan médicamenteux'!$C$12:$AF$12,0))="","",INDEX('Bilan médicamenteux'!$C18:$AF18,MATCH('Bilan médicamenteux'!$AG18,'Bilan médicamenteux'!$C$12:$AF$12,0))),"") | C18: =IFERROR(IF(INDEX('Bilan médicamenteux'!$C18:$AF18,MATCH('Bilan médicamenteux'!$AG18,'Bilan médicamenteux'!$C$12:$AF$12,0)+1)="","",INDEX('Bilan médicamenteux'!$C18:$AF18,MATCH('Bilan médicamenteux'!$AG18,'Bilan médicamenteux'!$C$12:$AF$12,0)+1)),"") | D18: =IFERROR(IF(INDEX('Bilan médicamenteux'!$C18:$AF18,MATCH('Bilan médicamenteux'!$AG18,'Bilan médicamenteux'!$C$12:$AF$12,0)+2)="","",INDEX('Bilan médicamenteux'!$C18:$AF18,MATCH('Bilan médicamenteux'!$AG18,'Bilan médicamenteux'!$C$12:$AF$12,0)+2)),"") | E18: =IFERROR(IF(INDEX('Bilan médicamenteux'!$C18:$AF18,MATCH('Bilan médicamenteux'!$AG18,'Bilan médicamenteux'!$C$12:$AF$12,0)+3)="","",INDEX('Bilan médicamenteux'!$C18:$AF18,MATCH('Bilan médicamenteux'!$AG18,'Bilan médicamenteux'!$C$12:$AF$12,0)+3)),"") | F18: =IFERROR(IF(INDEX('Bilan médicamenteux'!$C18:$AF18,MATCH('Bilan médicamenteux'!$AG18,'Bilan médicamenteux'!$C$12:$AF$12,0)+4)="","",INDEX('Bilan médicamenteux'!$C18:$AF18,MATCH('Bilan médicamenteux'!$AG18,'Bilan médicamenteux'!$C$12:$AF$12,0)+4)),"") | N18: =IF(AND(A18="",H18=""),"",IF(AND(A18=H18,B18=I18,C18=J18,D18=K18,E18=L18,F18=M18),"Non","Oui"))
